Workbook
Name Sut: Shafts!$T$24

Sheet Summary
A1: Materials:
A2: Shafts:
A3: Sut | B3: 80 | C3: ksi
A4: Sy | B4: 3 | C4: ksi

Sheet Input-Output
A1: Property | B1: Value | C1: Units | D1: Notes | E1: From | F1: To
A2: Sut | B2: =Shafts!B10 -> 147 | C2: kpsi | D2: shafts property | E2: Shafts | F2: Report Template
A3: Sy | B3: =Shafts!B12 -> 72 | C3: kpsi | D3: shafts property | E3: Shafts | F3: Report Template
A4: Mm | C4: in-lbf | E4: loads | F4: shafts & bearings
A5: Ma | C5: in-lbf | E5: loads | F5: shafts & bearings
A6: Tm | C6: in-lbf | E6: loads | F6: shafts & bearings
A7: Ta | C7: in-lbf | E7: loads | F7: shafts & bearings
A8: d | C8: in | D8: shaft diameter | E8: shafts | F8: bearings
A9: θ | B9: =Gears!U45 -> 42.11948 | C9: degrees | D9: Intermediate shaft angle | E9: gears | F9: loads
A10: Wt12 | B10: =Gears!P5 -> 472.69018 | C10: lbf | D10: Transmittal Load; gear 1 and 2 | E10: gears | F10: loads
A11: Wt34 | B11: =Gears!P7 -> 2058.8283 | C11: lbf | D11: Transmittal Load; gear 3 and 4
A12: Wr12 | B12: =Gears!Q5 -> 172.04516 | C12: lbf | D12: Radial Load; gear 1 and 2
A13: Wr34 | B13: =Gears!Q7 -> 749.35223 | C13: lbf | D13: Radial Load; gear 3 and 4
A14: Widtha | B14: =Bearings!I7 -> 7 | C14: mm | D14: Bearing Width | E14: Bearings | F14: Loads
A15: Widthb | B15: =Bearings!J7 -> 5 | C15: mm | E15: Bearings | F15: Loads
A16: Widthc | B16: =Bearings!K7 -> 13 | C16: mm | E16: Bearings | F16: Loads
A17: Widthd | B17: =Bearings!L7 -> 7 | C17: mm | E17: Bearings | F17: Loads
A18: Widthe | B18: =Bearings!M7 -> 10 | C18: mm | E18: Bearings | F18: Loads
A19: Widthf | B19: =Bearings!N7 -> 10 | C19: mm | E19: Bearings | F19: Loads
A20: IDa | B20: =Bearings!I5 -> 20 | D20: Bearing Inner Diameter | E20: Bearings | F20: Shafts
A21: IDb | B21: =Bearings!J5 -> 15 | E21: Bearings | F21: Shafts
A22: IDc | B22: =Bearings!K5 -> 70 | E22: Bearings | F22: Shafts
A23: IDd | B23: =Bearings!L5 -> 45 | E23: Bearings | F23: Shafts
A24: IDe | B24: =Bearings!M5 -> 35 | E24: Bearings | F24: Shafts
A25: IDf | B25: =Bearings!N5 -> 35 | E25: Bearings | F25: Shafts
A26: Width 1 | B26: =Gears!R50 -> 0.75 | C26: in | D26: Gear width
A27: Width 2 | B27: =Gears!S50 -> 0.75 | C27: in
A28: Width 3 | B28: =Gears!T50 -> 1.75 | C28: in
A29: Width 4 | B29: =Gears!U50 -> 1.75 | C29: in
A30: F input Bearing 1 | B30: =Loads!B22 -> -251.51319 | C30: lbf | D30: Radial Force on input shaft bearings | E30: loads | F30: bearings
A31: F output bearing 1 | B31: =Loads!B43 -> -2207.1374 | C31: lbf | D31: Radial Force on output shaft bearings | E31: loads | F31: bearings
A32: F intermediate bearing 1 | B32: =Loads!B31 -> 5524.8746 | C32: lbf | D32: Radial Force on first bearing | E32: loads | F32: bearings
A33: F intermediate bearing 2 | B33: =Loads!G31 -> 1126.4527 | C33: lbf | D33: Radial Force on second bearing | E33: loads | F33: bearings
A34: RPM Shaft 1 | B34: =Gears!P22 -> 10
A35: RPM Shaft 2 | B35: =Gears!P23 -> 3.2653061
A36: RPM Shaft 3 | B36: =Gears!P24 -> 2.1768707
A37: Ma,input,A | B37: =Loads!C23 -> -49.548099 | C37: in-lbf | D37: Moment at Shoulder A | E37: Loads | F37: Shafts
A38: Ma,input,B | B38: =Loads!D23 -> -175.30469 | C38: in-lbf | D38: Moment at Gear 1 | E38: Loads | F38: Shafts
A39: Ma,input,C | B39: =Loads!E23 -> -49.548099 | C39: in-lbf | D39: Moment at Shoulder C | E39: Loads | F39: Shafts
A40: Ma,int,A | B40: =Loads!C36 -> 5221.0065 | C40: in-lbf | D40: Moment at Shoulder A | E40: Loads | F40: Shafts
A41: Ma,int,B | B41: =Loads!D36 -> 7983.4439 | C41: in-lbf | D41: Moment at Gear 2 | E41: Loads | F41: Shafts
A42: Ma,int,C | B42: =Loads!E36 -> 16063.572 | C42: in-lbf | D42: Moment at Gear 3 | E42: Loads | F42: Shafts
A43: Ma,int,D | B43: =Loads!F36 -> 4204.1611 | C43: in-lbf | D43: Moment at Shoulder D | E43: Loads | F43: Shafts
A44: Ma,output,A | B44: =Loads!C44 -> -999.83326 | C44: in-lbf | D44: Moment at Shoulder A | E44: Loads | F44: Shafts
A45: Ma,output,B | B45: =Loads!D44 -> -3206.9707 | C45: in-lbf | D45: Moment at Gear 4 | E45: Loads | F45: Shafts
A46: Ma,output,C | B46: =Loads!E44 -> -999.83326 | C46: in-lbf | D46: Moment at Shoulder C | E46: Loads | F46: Shafts
A47: Diameter 1 | B47: =Gears!U40 -> 5.3333333 | C47: in | D47: Gear Diameter
A48: Diameter 2 | B48: =Gears!U41 -> 16.333333 | C48: in
A49: Diameter 3 | B49: =Gears!U42 -> 3.75 | C49: in
A50: Diameter 4 | B50: =Gears!U43 -> 5.625 | C50: in
A51: Tm,input | B51: =Loads!D24 -> 1260.5071 | C51: in-lbf | D51: Mean torque Input shaft
A52: Tm,int | B52: =Loads!D37 -> 3860.3031 | C52: in-lbf | D52: Mean torque Int shaft
A53: Tm,output | B53: =Loads!D45 -> -3334.641 | C53: in-lbf | D53: Mean torque Output shaft
A54: dmin,A | B54: =Shafts!B46 -> 0.7 | C54: in | E54: Shafts | F54: Bearings
A55: dmin,B | B55: =Shafts!D46 -> 0.29400409 | C55: in | E55: Shafts | F55: Bearings
A56: dmin,C | B56: =Shafts!E46 -> 1.3886596 | C56: in | E56: Shafts | F56: Bearings
A57: dmin,D | B57: =Shafts!H46 -> 1.2919256 | C57: in | E57: Shafts | F57: Bearings
A58: dmin,E | B58: =Shafts!I46 -> 0.97873163 | C58: in | E58: Shafts | F58: Bearings
A59: dmin,F | B59: =Shafts!K46 -> 0.97873163 | C59: in | E59: Shafts | F59: Bearings
A60: Se | B60: =Shafts!B25 -> 46.471088 | C60: kpsi | D60: Endurance Strength | E60: Shafts | F60: Report Template
A61: F input bearing 2 | B61: =Loads!F22 -> -251.51319 | C61: lbf
A62: F output bearing 2 | B62: =Loads!F43 -> -2207.1374 | C62: lbf

Sheet Shafts
A1: Location | B1: Input: a | C1: Input: b | D1: Input: c | E1: Intermed: a | F1: Intermed: b | G1: Intermed:c | H1: Intermed: d | I1: Output: a | J1: Output: b | K1: Ouput: c
A2: Loads | AE2: Dropdown Boxes | AF2: Lookup Value | AH2: AISI Lookup Reference
A3: Ma | B3: ='Input-Output'!$B37 -> -49.548099 | C3: ='Input-Output'!$B38 -> -175.30469 | D3: ='Input-Output'!$B39 -> -49.548099 | E3: ='Input-Output'!$B40 -> 5221.0065 | F3: ='Input-Output'!$B41 -> 7983.4439 | G3: ='Input-Output'!$B42 -> 16063.572 | H3: ='Input-Output'!$B43 -> 4204.1611 | I3: ='Input-Output'!$B44 -> -999.83326 | J3: ='Input-Output'!$B45 -> -3206.9707 | K3: ='Input-Output'!$B46 -> -999.83326 | L3: in-lbf | AE3: Ka | AF3: 2 | AH3: 1006 HR | AI3: 1006HR,Su=43,Sy=24,σ,f=n/a
A4: Mm | B4: 0 | C4: 0 | D4: 0 | E4: 0 | F4: 0 | G4: 0 | H4: 0 | I4: 0 | J4: 0 | K4: 0 | L4: in-lbf | AE4: Ke | AF4: 1 | AH4: 1006 CD | AI4: 1006CD,Su=48,Sy=41,σ,f=n/a
A5: Ta | B5: 0 | C5: 0 | D5: 0 | E5: 0 | F5: 0 | G5: 0 | H5: 0 | I5: 0 | J5: 0 | K5: 0 | L5: in-lbf | AE5: Kc | AF5: 1 | AH5: 1010 HR | AI5: 1010HR,Su=47,Sy=26,σ,f=n/a
A6: Tm | B6: ='Input-Output'!B51 -> 1260.5071 | C6: ='Input-Output'!B51 -> 1260.5071 | D6: 0 | E6: 0 | F6: ='Input-Output'!B52 -> 3860.3031 | G6: ='Input-Output'!B52 -> 3860.3031 | H6: 0 | I6: =K6 -> -3334.641 | J6: ='Input-Output'!B53 -> -3334.641 | K6: ='Input-Output'!B53 -> -3334.641 | L6: in-lbf | AE6: Material Pick | AF6: 38 | AH6: 1010 CD | AI6: 1010CD,Su=53,Sy=44,σ,f=n/a
U7: given during quiz | AH7: 1015 HR | AI7: 1015HR,Su=50,Sy=27.5,σ,f=n/a
A8: Material Properties | U8: given during quiz | AH8: 1015 CD | AI8: 1015CD,Su=56,Sy=47,σ,f=n/a
A9: Material Selection | AH9: 1018 HR | AI9: 1018HR,Su=58,Sy=32,σ,f=n/a
A10: Sut | B10: =VLOOKUP($AF$6,MIsc_Tables!Y5:AD47,4) -> 147 | C10: =B10 -> 147 | D10: =C10 -> 147 | E10: =D10 -> 147 | F10: =E10 -> 147 | G10: =F10 -> 147 | H10: =G10 -> 147 | I10: =H10 -> 147 | J10: =I10 -> 147 | K10: =J10 -> 147 | L10: ksi | AH10: 1018 CD | AI10: 1018CD,Su=64,Sy=54,σ,f=n/a
B11: =B10*1000 -> 147000 | C11: =B11 -> 147000 | D11: =C11 -> 147000 | E11: =D11 -> 147000 | F11: =E11 -> 147000 | G11: =F11 -> 147000 | H11: =G11 -> 147000 | I11: =H11 -> 147000 | J11: =I11 -> 147000 | K11: =J11 -> 147000 | L11: psi | V11: Legend | AH11: 1018 Annealed | AI11: 1018Annealed,Su=49.5,Sy=32,σ,f=91.1
A12: Sy | B12: =IF(ISBLANK(M12),VLOOKUP($AF$6,MIsc_Tables!Y5:AD47,5),M12) -> 72 | C12: =B12 -> 72 | D12: =C12 -> 72 | E12: =D12 -> 72 | F12: =E12 -> 72 | G12: =F12 -> 72 | H12: =G12 -> 72 | I12: =H12 -> 72 | J12: =I12 -> 72 | K12: =J12 -> 72 | L12: ksi | V12: Inputs | W12: Inputs from Input-Output | AH12: 1020 HR | AI12: 1020HR,Su=55,Sy=30,σ,f=112
B13: =B12*1000 -> 72000 | C13: =B13 -> 72000 | D13: =C13 -> 72000 | E13: =D13 -> 72000 | F13: =E13 -> 72000 | G13: =F13 -> 72000 | H13: =G13 -> 72000 | I13: =H13 -> 72000 | J13: =I13 -> 72000 | K13: =J13 -> 72000 | L13: psi | V13: Calculated | AH13: 1020 CD | AI13: 1020CD,Su=68,Sy=57,σ,f=n/a
V14: Conversions | AH14: 1030 HR | AI14: 1030HR,Su=68,Sy=37.5,σ,f=n/a
A15: Fatigue | V15: Fix | AH15: 1030 CD | AI15: 1030CD,Su=76,Sy=64,σ,f=n/a
V16: Automated | AH16: 1030 Q&T 650 | AI16: 1030Q&T 650,Su=85,Sy=64,σ,f=n/a
A17: dguess | B17: 0.57 | C17: 0.74 | D17: 0.29 | E17: 1.46 | F17: 1.9 | G17: 2.23 | H17: 1.29 | I17: 0.98 | J17: 1.41 | K17: 0.98 | L17: in | M17: Range of .3 to 2 inches | AH17: 1030 Normalized | AI17: 1030Normalized,Su=75,Sy=50,σ,f=n/a
A18: Se' | B18: =IF($B$10<=200, 0.5*$B$10,100) -> 73.5 | C18: =$B$18 -> 73.5 | D18: =$B$18 -> 73.5 | E18: =$B$18 -> 73.5 | F18: =$B$18 -> 73.5 | G18: =$B$18 -> 73.5 | H18: =$B$18 -> 73.5 | I18: =$B$18 -> 73.5 | J18: =$B$18 -> 73.5 | K18: =$B$18 -> 73.5 | L18: ksi | AH18: 1030 Annealed | AI18: 1030Annealed,Su=62,Sy=46,σ,f=n/a
B19: =B18*1000 -> 73500 | C19: =C18*1000 -> 73500 | D19: =D18*1000 -> 73500 | E19: =E18*1000 -> 73500 | F19: =F18*1000 -> 73500 | G19: =G18*1000 -> 73500 | H19: =H18*1000 -> 73500 | I19: =I18*1000 -> 73500 | ... K19: =K18*1000 -> 73500 | L19: psi | AH19: 1035 HR | AI19: 1035HR,Su=72,Sy=39.5,σ,f=n/a
A20: ka (Surface Finish) | B20: =VLOOKUP($AF$3,MIsc_Tables!U4:X7,3)*Shafts!B10^(VLOOKUP(Shafts!$AF$3,MIsc_Tables!U4:X7,4)) -> 0.67720808 | C20: =$B$20 -> 0.67720808 | D20: =$B$20 -> 0.67720808 | E20: =$B$20 -> 0.67720808 | F20: =$B$20 -> 0.67720808 | G20: =$B$20 -> 0.67720808 | H20: =$B$20 -> 0.67720808 | I20: =$B$20 -> 0.67720808 | J20: =$B$20 -> 0.67720808 | K20: =$B$20 -> 0.67720808 | L20: NA | AH20: 1035 CD | AI20: 1035CD,Su=80,Sy=67,σ,f=n/a
A21: kb (Size Factor) | B21: =IF(B17>2, 0.91*B17^(-0.157), (B17/0.3)^(-0.107)) -> 0.93362692 | C21: =IF(C17>2, 0.91*C17^(-0.157), (C17/0.3)^(-0.107)) -> 0.90791289 | D21: =IF(D17>2, 0.91*D17^(-0.157), (D17/0.3)^(-0.107)) -> 1.0036341 | E21: =IF(E17>2, 0.91*E17^(-0.157), (E17/0.3)^(-0.107)) -> 0.84424057 | F21: =IF(F17>2, 0.91*F17^(-0.157), (F17/0.3)^(-0.107)) -> 0.8207773 | G21: =IF(G17>2, 0.91*G17^(-0.157), (G17/0.3)^(-0.107)) -> 0.80233831 | H21: =IF(H17>2, 0.91*H17^(-0.157), (H17/0.3)^(-0.107)) -> 0.85549776 | I21: =IF(I17>2, 0.91*I17^(-0.157), (I17/0.3)^(-0.107)) -> 0.88103018 | ... K21: =IF(K17>2, 0.91*K17^(-0.157), (K17/0.3)^(-0.107)) -> 0.88103018 | L21: NA | AH21: 1040 HR | AI21: 1040HR,Su=76,Sy=42,σ,f=n/a
A22: kc (Load Factor) | B22: =VLOOKUP($AF$5,MIsc_Tables!$U$19:$W$22,3) -> 1 | C22: =VLOOKUP($AF$5,MIsc_Tables!$U$19:$W$22,3) -> 1 | D22: =VLOOKUP($AF$5,MIsc_Tables!$U$19:$W$22,3) -> 1 | E22: =VLOOKUP($AF$5,MIsc_Tables!$U$19:$W$22,3) -> 1 | F22: =VLOOKUP($AF$5,MIsc_Tables!$U$19:$W$22,3) -> 1 | G22: =VLOOKUP($AF$5,MIsc_Tables!$U$19:$W$22,3) -> 1 | H22: =VLOOKUP($AF$5,MIsc_Tables!$U$19:$W$22,3) -> 1 | I22: =VLOOKUP($AF$5,MIsc_Tables!$U$19:$W$22,3) -> 1 | ... K22: =VLOOKUP($AF$5,MIsc_Tables!$U$19:$W$22,3) -> 1 | L22: NA | AH22: 1040 CD | AI22: 1040CD,Su=85,Sy=71,σ,f=n/a
A23: kd (Temp. Factor) | B23: 1 | C23: 1 | D23: 1 | E23: 1 | F23: 1 | G23: 1 | H23: 1 | I23: 1 | J23: 1 | K23: 1 | L23: NA | AH23: 1040 Q&T 650 | AI23: 1040Q&T 650,Su=92,Sy=63,σ,f=n/a
A24: ke (Reliability %) | B24: =VLOOKUP($AF$4,MIsc_Tables!$U$11:$W$16,3) -> 1 | C24: =VLOOKUP($AF$4,MIsc_Tables!$U$11:$W$16,3) -> 1 | D24: =VLOOKUP($AF$4,MIsc_Tables!$U$11:$W$16,3) -> 1 | E24: =VLOOKUP($AF$4,MIsc_Tables!$U$11:$W$16,3) -> 1 | F24: =VLOOKUP($AF$4,MIsc_Tables!$U$11:$W$16,3) -> 1 | G24: =VLOOKUP($AF$4,MIsc_Tables!$U$11:$W$16,3) -> 1 | H24: =VLOOKUP($AF$4,MIsc_Tables!$U$11:$W$16,3) -> 1 | I24: =VLOOKUP($AF$4,MIsc_Tables!$U$11:$W$16,3) -> 1 | ... K24: =VLOOKUP($AF$4,MIsc_Tables!$U$11:$W$16,3) -> 1 | L24: NA | AH24: 1040 Normalized | AI24: 1040Normalized,Su=86,Sy=54,σ,f=n/a
A25: Se | B25: =B18*B20*B21*B22*B23*B24 -> 46.471088 | C25: =$B$25 -> 46.471088 | D25: =$B$25 -> 46.471088 | E25: =$B$25 -> 46.471088 | F25: =$B$25 -> 46.471088 | G25: =$B$25 -> 46.471088 | H25: =$B$25 -> 46.471088 | I25: =$B$25 -> 46.471088 | J25: =$B$25 -> 46.471088 | K25: =$B$25 -> 46.471088 | L25: ksi | AH25: 1040 Annealed | AI25: 1040Annealed,Su=75,Sy=51,σ,f=n/a
B26: =IF(ISBLANK(M26),B25*1000,M26) -> 46471.088 | C26: =$B$26 -> 46471.088 | D26: =$B$26 -> 46471.088 | E26: =$B$26 -> 46471.088 | F26: =$B$26 -> 46471.088 | G26: =$B$26 -> 46471.088 | H26: =$B$26 -> 46471.088 | I26: =$B$26 -> 46471.088 | J26: =$B$26 -> 46471.088 | K26: =$B$26 -> 46471.088 | L26: psi | AH26: 1045 HR | AI26: 1045HR,Su=82,Sy=45,σ,f=140
AH27: 1045 CD | AI27: 1045CD,Su=91,Sy=77,σ,f=n/a
A28: A and B | AH28: 1050 HR | AI28: 1050HR,Su=90,Sy=49.5,σ,f=n/a
A29: A | B29: =SQRT(4*(B41*B3)^2+3*(B42*B5)^2) -> 154.59007 | C29: =SQRT(4*(C41*C3)^2+3*(C42*C5)^2) -> 670.36515 | D29: =SQRT(4*(D41*D3)^2+3*(D42*D5)^2) -> 154.59007 | E29: =SQRT(4*(E41*E3)^2+3*(E42*E5)^2) -> 16289.54 | F29: =SQRT(4*(F41*F3)^2+3*(F42*F5)^2) -> 30528.689 | G29: =SQRT(4*(G41*G3)^2+3*(G42*G5)^2) -> 61427.098 | H29: =SQRT(4*(H41*H3)^2+3*(H42*H5)^2) -> 13116.983 | I29: =SQRT(4*(I41*I3)^2+3*(I42*I5)^2) -> 3119.4798 | ... K29: =SQRT(4*(K41*K3)^2+3*(K42*K5)^2) -> 3119.4798 | AH29: 1050 CD | AI29: 1050CD,Su=100,Sy=84,σ,f=n/a
A30: B | B30: =SQRT(4*(B41*B4)^2+3*(B42*B6)^2) -> 3089.3163 | C30: =SQRT(4*(C41*C4)^2+3*(C42*C6)^2) -> 5807.4781 | D30: =SQRT(4*(D41*D4)^2+3*(D42*D6)^2) -> 0 | E30: =SQRT(4*(E41*E4)^2+3*(E42*E6)^2) -> 0 | F30: =SQRT(4*(F41*F4)^2+3*(F42*F6)^2) -> 17785.402 | G30: =SQRT(4*(G41*G4)^2+3*(G42*G6)^2) -> 17785.402 | H30: =SQRT(4*(H41*H4)^2+3*(H42*H6)^2) -> 0 | I30: =SQRT(4*(I41*I4)^2+3*(I42*I6)^2) -> 8172.7113 | ... K30: =SQRT(4*(K41*K4)^2+3*(K42*K6)^2) -> 8172.7113 | AH30: 1050 Q&T 650 | AI30: 1050Q&T 650,Su=104,Sy=78,σ,f=n/a
AH31: 1050 Normalized | AI31: 1050Normalized,Su=108,Sy=62,σ,f=n/a
A32: Condition Given | AH32: 1050 Annealed | AI32: 1050Annealed,Su=92,Sy=53,σ,f=n/a
A33: n | B33: 1.5 | C33: 1.5 | D33: 1.5 | E33: 1.5 | F33: 1.5 | G33: 1.5 | H33: 1.5 | I33: 1.5 | J33: 1.5 | K33: 1.5 | AH33: 1060 HR | AI33: 1060HR,Su=98,Sy=54,σ,f=n/a
A34: d | B34: =IF(ISBLANK(B42),((16*B21/PI())*(B17/B14+B18/#REF!))^(1/3),B42) -> 1.415 | C34: =IF(ISBLANK(C42),((16*C21/PI())*(C17/C14+C18/#REF!))^(1/3),C42) -> 2.66 | D34: =IF(ISBLANK(D42),((16*D21/PI())*(D17/D14+D18/#REF!))^(1/3),D42) -> 1.415 | E34: =IF(ISBLANK(E42),((16*E21/PI())*(E17/E14+E18/#REF!))^(1/3),E42) -> 1.415 | F34: =IF(ISBLANK(F42),((16*F21/PI())*(F17/F14+F18/#REF!))^(1/3),F42) -> 2.66 | G34: =IF(ISBLANK(G42),((16*G21/PI())*(G17/G14+G18/#REF!))^(1/3),G42) -> 2.66 | H34: =IF(ISBLANK(H42),((16*H21/PI())*(H17/H14+H18/#REF!))^(1/3),H42) -> 1.415 | I34: =IF(ISBLANK(I42),((16*I21/PI())*(I17/I14+I18/#REF!))^(1/3),I42) -> 1.415 | ... K34: =IF(ISBLANK(K42),((16*K21/PI())*(K17/K14+K18/#REF!))^(1/3),K42) -> 1.415 | L34: in | AH34: 1060 Q&T 650 | AI34: 1060Q&T 650,Su=116,Sy=76,σ,f=n/a
AH35: 1060 Normalized | AI35: 1060Normalized,Su=112,Sy=61,σ,f=n/a
A36: Stress Consentrations | AH36: 1060 Annealed | AI36: 1060Annealed,Su=91,Sy=54,σ,f=n/a
A37: kt | B37: 1.7 | C37: 2.14 | D37: 1.7 | E37: 1.7 | F37: 2.14 | G37: 2.14 | H37: 1.7 | I37: 1.7 | J37: 2.14 | K37: 1.7 | L37: NA | AH37: 1080 HR | AI37: 1080HR,Su=112,Sy=61.5,σ,f=n/a
A38: kts | B38: 1.5 | C38: 3 | D38: 1.5 | E38: 1.5 | F38: 3 | G38: 3 | H38: 1.5 | I38: 1.5 | J38: 3 | K38: 1.5 | L38: NA | AH38: 1095 HR | AI38: 1095HR,Su=120,Sy=66,σ,f=n/a
A39: q | B39: 0.8 | C39: =$B$39 -> 0.8 | D39: =$B$39 -> 0.8 | E39: =$B$39 -> 0.8 | F39: =$B$39 -> 0.8 | G39: =$B$39 -> 0.8 | H39: =$B$39 -> 0.8 | I39: =$B$39 -> 0.8 | J39: =$B$39 -> 0.8 | K39: =$B$39 -> 0.8 | L39: NA | M39: Use Figure 6-26 | AH39: 1095 Q&T 650 | AI39: 1095Q&T 650,Su=130,Sy=80,σ,f=n/a
A40: qs | B40: 0.83 | C40: =$B$40 -> 0.83 | D40: =$B$40 -> 0.83 | E40: =$B$40 -> 0.83 | F40: =$B$40 -> 0.83 | G40: =$B$40 -> 0.83 | H40: =$B$40 -> 0.83 | I40: =$B$40 -> 0.83 | J40: =$B$40 -> 0.83 | K40: =$B$40 -> 0.83 | L40: NA | M40: Use Figure 6-27 | AH40: 1095 Normalized | AI40: 1095Normalized,Su=147,Sy=72,σ,f=n/a
A41: Kf | B41: =1+B39*(B37-1) -> 1.56 | C41: =1+C39*(C37-1) -> 1.912 | D41: =1+D39*(D37-1) -> 1.56 | E41: =1+E39*(E37-1) -> 1.56 | F41: =1+F39*(F37-1) -> 1.912 | G41: =1+G39*(G37-1) -> 1.912 | H41: =1+H39*(H37-1) -> 1.56 | I41: =1+I39*(I37-1) -> 1.56 | ... K41: =1+K39*(K37-1) -> 1.56 | L41: NA | AH41: 1095 Annealed | AI41: 1095Annealed,Su=95,Sy=55,σ,f=n/a
A42: Kfs | B42: =1+B40*(B38-1) -> 1.415 | C42: =1+C40*(C38-1) -> 2.66 | D42: =1+D40*(D38-1) -> 1.415 | E42: =1+E40*(E38-1) -> 1.415 | F42: =1+F40*(F38-1) -> 2.66 | G42: =1+G40*(G38-1) -> 2.66 | H42: =1+H40*(H38-1) -> 1.415 | I42: =1+I40*(I38-1) -> 1.415 | ... K42: =1+K40*(K38-1) -> 1.415 | L42: NA | AH42: 4130 Q&T 650 | AI42: 4130Q&T 650,Su=118,Sy=102,σ,f=n/a
AH43: 4130 Normalized | AI43: 4130Normalized,Su=97,Sy=63,σ,f=n/a
A44: DE Goodman | AH44: 4130 Annealed | AI44: 4130Annealed,Su=81,Sy=52,σ,f=n/a
A45: n | B45: =((3.1415*B34^3)/16)*(B29/B25+B30/B11)^-1 -> 0.16617 | C45: =((3.1415*C34^3)/16)*(C29/C25+C30/C11)^-1 -> 0.25547337 | D45: =((3.1415*D34^3)/16)*(D29/D25+D30/D11)^-1 -> 0.16721978 | E45: =((3.1415*E34^3)/16)*(E29/E25+E30/E11)^-1 -> 0.0015869396 | F45: =((3.1415*F34^3)/16)*(F29/F25+F30/F11)^-1 -> 0.0056241474 | G45: =((3.1415*G34^3)/16)*(G29/G25+G30/G11)^-1 -> 0.0027954072 | H45: =((3.1415*H34^3)/16)*(H29/H25+H30/H11)^-1 -> 0.0019707671 | I45: =((3.1415*I34^3)/16)*(I29/I25+I30/I11)^-1 -> 0.0082799463 | ... K45: =((3.1415*K34^3)/16)*(K29/K25+K30/K11)^-1 -> 0.0082799463 | L45: NA | AH45: 4340 Q&T 650 | AI45: 4340Q&T 650,Su=140,Sy=124,σ,f=n/a
A46: d | B46: =IF(ISBLANK(B54),((16*B33/PI())*(B29/B26+B30/B11))^(1/3),B54) -> 0.7 | C46: =IF(ISBLANK(C54),((16*C33/PI())*(C29/C26+C30/C11))^(1/3),C54) -> 0.86 | D46: =IF(ISBLANK(D54),((16*D33/PI())*(D29/D26+D30/D11))^(1/3),D54) -> 0.29400409 | E46: =IF(ISBLANK(E54),((16*E33/PI())*(E29/E26+E30/E11))^(1/3),E54) -> 1.3886596 | F46: =IF(ISBLANK(F54),((16*F33/PI())*(F29/F26+F30/F11))^(1/3),F54) -> 1.8113416 | G46: =IF(ISBLANK(G54),((16*G33/PI())*(G29/G26+G30/G11))^(1/3),G54) -> 2.2254861 | H46: =IF(ISBLANK(H54),((16*H33/PI())*(H29/H26+H30/H11))^(1/3),H54) -> 1.2919256 | I46: =IF(ISBLANK(I54),((16*I33/PI())*(I29/I26+I30/I11))^(1/3),I54) -> 0.97873163 | ... K46: =IF(ISBLANK(K54),((16*K33/PI())*(K29/K26+K30/K11))^(1/3),K54) -> 0.97873163 | L46: in
A47: % error d | B47: =B46/B17 -> 1.2280702 | C47: =C46/C17 -> 1.1621622 | D47: =D46/D17 -> 1.0138072 | E47: =E46/E17 -> 0.95113668 | F47: =F46/F17 -> 0.95333768 | G47: =G46/G17 -> 0.99797585 | H47: =H46/H17 -> 1.0014927 | I47: =I46/I17 -> 0.99870574 | ... K47: =K46/K17 -> 0.99870574
A48: d corrected | B48: =ROUNDUP(B46,1) -> 0.7 | C48: =ROUNDUP(C46,1) -> 0.9 | D48: =ROUNDUP(D46,1) -> 0.3 | E48: =ROUNDUP(E46,1) -> 1.4 | F48: =ROUNDUP(F46,1) -> 1.9 | G48: =ROUNDUP(G46,1) -> 2.3 | H48: =ROUNDUP(H46,1) -> 1.3 | I48: =ROUNDUP(I46,1) -> 1 | ... K48: =ROUNDUP(K46,1) -> 1
A49: Yield
A51: σmax | B51: =SQRT((32*B41*(B3+B4)/(3.1415*B46^3))^2+3*(16*B42*(B5+B6)/(3.1415*B46^3))^2) -> 45929.767 | C51: =SQRT((32*C41*(C3+C4)/(3.1415*C46^3))^2+3*(16*C42*(C5+C6)/(3.1415*C46^3))^2) -> 46811.159 | D51: =SQRT((32*D41*(D3+D4)/(3.1415*D46^3))^2+3*(16*D42*(D5+D6)/(3.1415*D46^3))^2) -> 30981.639 | E51: =SQRT((32*E41*(E3+E4)/(3.1415*E46^3))^2+3*(16*E42*(E5+E6)/(3.1415*E46^3))^2) -> 30981.639 | F51: =SQRT((32*F41*(F3+F4)/(3.1415*F46^3))^2+3*(16*F42*(F5+F6)/(3.1415*F46^3))^2) -> 30279.245 | G51: =SQRT((32*G41*(G3+G4)/(3.1415*G46^3))^2+3*(16*G42*(G5+G6)/(3.1415*G46^3))^2) -> 29549.431 | H51: =SQRT((32*H41*(H3+H4)/(3.1415*H46^3))^2+3*(16*H42*(H5+H6)/(3.1415*H46^3))^2) -> 30981.639 | I51: =SQRT((32*I41*(I3+I4)/(3.1415*I46^3))^2+3*(16*I42*(I5+I6)/(3.1415*I46^3))^2) -> 47521.694 | ... K51: =SQRT((32*K41*(K3+K4)/(3.1415*K46^3))^2+3*(16*K42*(K5+K6)/(3.1415*K46^3))^2) -> 47521.694 | L51: psi
B52: =B51/1000 -> 45.929767 | C52: =C51/1000 -> 46.811159 | D52: =D51/1000 -> 30.981639 | E52: =E51/1000 -> 30.981639 | F52: =F51/1000 -> 30.279245 | G52: =G51/1000 -> 29.549431 | H52: =H51/1000 -> 30.981639 | I52: =I51/1000 -> 47.521694 | ... K52: =K51/1000 -> 47.521694 | L52: ksi
A53: ny | B53: =B13/B51 -> 1.5676108 | C53: =C13/C51 -> 1.5380948 | D53: =D13/D51 -> 2.3239571 | E53: =E13/E51 -> 2.3239571 | F53: =F13/F51 -> 2.3778664 | G53: =G13/G51 -> 2.4365952 | H53: =H13/H51 -> 2.3239571 | I53: =I13/I51 -> 1.5150975 | ... K53: =K13/K51 -> 1.5150975 | L53: NA
A54: d correcting for static yield | B54: 0.7 | C54: 0.86 | L54: in

Sheet Loads
A1: Inputs: | E1: Outputs:
A2: Input bearing width A | B2: 0.394 | C2: in | E2: Mm | F2: 1 | H2: <- Test Values | J2: Actual Bearing Widths [in]
A3: Input bearing width C | B3: 0.394 | C3: in | E3: Ma | F3: 2 | H3: <- Test Values | J3: input A | K3: input C | L3: Intermediate A | M3: Intermediate D | N3: Output A | O3: Output C
A4: Intermediate bearing width A | B4: 1.89 | C4: in | E4: Tm | F4: 3 | H4: <- Test Values | J4: ='Input-Output'!B14/25.4 -> 0.27559055 | K4: ='Input-Output'!B15/25.4 -> 0.19685039 | L4: ='Input-Output'!B16/25.4 -> 0.51181102 | M4: ='Input-Output'!B17/25.4 -> 0.27559055 | N4: ='Input-Output'!B18/25.4 -> 0.39370079 | O4: ='Input-Output'!B19/25.4 -> 0.39370079
A5: Intermediate bearing width D | B5: 0.709 | C5: in | E5: Ta | F5: 4 | H5: <- Test Values
A6: Output bearing width A | B6: 0.906 | C6: in
A7: Output bearing width C | B7: 0.906 | C7: in | F7: Inputs
A8: Gear 1 & 2 width | B8: ='Input-Output'!B26 -> 0.75 | C8: in | F8: Calculated
A9: Gear 3 & 4 width | B9: ='Input-Output'!B29 -> 1.75 | C9: in | F9: From IO sheet
A10: Spacing | B10: 0.125 | C10: in | F10: Hard Coded
A11: Theta | B11: ='Input-Output'!B9 -> 42.11948 | C11: degrees | F11: Outputs to IO sheet for shafts
A12: Gear Diameter 1 | B12: ='Input-Output'!B47 -> 5.3333333 | C12: in | F12: Ouputs to IO sheet for bearings
A13: Gear Diameter 2 | B13: ='Input-Output'!B48 -> 16.333333 | C13: in
A14: Gear Diameter 3 | B14: ='Input-Output'!B49 -> 3.75 | C14: in
A15: Gear Diameter 4 | B15: ='Input-Output'!B50 -> 5.625 | C15: in
A17: Input Shaft
A18: Location | B18: A (Bearing) | C18: Shoulder A | D18: B (Pinion Gear) | E18: Shoulder C | F18: C (Bearing)
A19: Distance from A | B19: 0 | C19: =B2/2 -> 0.197 | D19: =B2/2+B10+B8/2 -> 0.697 | E19: =D19+B8/2+B10 -> 1.197 | F19: =E19+(B3/2) -> 1.394
A20: Ft (lbf) | B20: =-D20-F20 -> -236.34509 | C20: 0 | D20: ='Input-Output'!B10 -> 472.69018 | E20: 0 | F20: =-($D$19*D20)/F19 -> -236.34509
A21: Fr (lbf) | B21: =-D21-F21 -> -86.022578 | C21: 0 | D21: ='Input-Output'!B12 -> 172.04516 | E21: 0 | F21: =-($D$19*D21)/F19 -> -86.022578
A22: V (shear) (lbf) | B22: =-SQRT(B20^2+B21^2) -> -251.51319 | C22: =SQRT(C20^2+C21^2) -> 0 | D22: =SQRT(D20^2+D21^2)+B22 -> 251.51319 | E22: =SQRT(E20^2+E21^2) -> 0 | F22: =-SQRT(F20^2+F21^2) -> -251.51319
A23: Ma (in-lbf) | B23: 0 | C23: =B22*C19 -> -49.548099 | D23: =D19*B22 -> -175.30469 | E23: =D23+(D23/(D19-F19))*(E19-D19) -> -49.548099 | F23: 0
A24: Tm (in-lbf) | D24: =B12/2*D20 -> 1260.5071
A26: Intermediate Shaft
A27: Location | B27: A (Bearing) | C27: Shoulder A | D27: B (Gear 2) | E27: C (Gear 3) | F27: Shoulder D | G27: D (Bearing)
A28: Distance from A | B28: 0 | C28: =B4/2 -> 0.945 | D28: =C28+B8/2+B10 -> 1.445 | E28: =D28+B8/2+B10+B9/2 -> 2.82 | F28: =E28+B9/2+B10 -> 3.82 | G28: =F28+B5/2 -> 4.1745
A29: Ft (lbf) | B29: =ABS(D29-E29-G29) -> 2197.6291 | C29: 0 | D29: =D20 -> 472.69018 | E29: =IF(B11<90,'Input-Output'!B10-'Input-Output'!B11/COS(RADIANS(B11))+'Input-Output'!B13/SIN(RADIANS(B11)),'Input-Output'!B10+'Input-Output'!B11/COS(RADIANS(B11))+'Input-Output'!B13/SIN(RADIANS(B11))) -> -1185.6502 | F29: 0 | G29: =(($D$28*E29)-($D$28+$D$28)*D29)/($D$28+$D$28+$E$28) -> -539.28881
A30: Fr (lbf) | B30: =ABS(D30-E30-G30) -> 5068.9906 | C30: 0 | D30: =D21 -> 172.04516 | E30: =IF(B11<90, 'Input-Output'!B12+'Input-Output'!B13/COS(RADIANS(B11))+'Input-Output'!B11/SIN(RADIANS(B11)), 'Input-Output'!B12+'Input-Output'!B13/COS(RADIANS(180-B11))+'Input-Output'!B11/SIN(RADIANS(180-B11))) -> 4252.065 | F30: 0 | G30: =(($D$28*E30)-($D$28+$D$28)*D30)/($D$28+$D$28+$E$28) -> 988.97082
A31: Feq (lbf) | B31: =SQRT(B29^2+B30^2) -> 5524.8746 | C31: =SQRT(C29^2+C30^2) -> 0 | D31: =SQRT(D29^2+D30^2) -> 503.02638 | E31: =SQRT(E29^2+E30^2) -> 4414.2749 | F31: =SQRT(F29^2+F30^2) -> 0 | G31: =SQRT(G29^2+G30^2) -> 1126.4527
A32: Vt (shear) (lbf) | B32: =D32+E32-G32 -> -4314.9496 | C32: =-B29 -> -2197.6291 | D32: =C32+C29 -> -2197.6291 | E32: =D32-D29 -> -2670.3193 | F32: =E32+E29 -> -3855.9695 | G32: =(1-$D$28)*D32+(1-$E$28)*E32/(1-$G$28) -> -552.99885
A33: Vr (shear) (lbf) | B33: =D33+E33-G33 -> -12671.254 | C33: =-B30 -> -5068.9906 | D33: =C33+C30 -> -5068.9906 | E33: =D33-D30 -> -5241.0358 | F33: =E33+E30 -> -988.97082 | G33: =(1-$D$28)*D30+(1-$E$28)*E30/(1-$G$28) -> 2361.228
A34: Mt (in-lbf) | B34: 0 | C34: NA | D34: =D32*D28 -> -3175.5741 | E34: =D34+E32*(E28-D28) -> -6847.2632 | F34: NA | G34: 0
A35: Mr (in-lbf) | B35: 0 | C35: NA | D35: =D33*D28 -> -7324.6915 | E35: =D35+E33*(E28-D28) -> -14531.116 | F35: NA | G35: 0
A36: Ma (in-lbf) | B36: 0 | C36: =(B4/2)/(B4/2+B10+B8/2)*D36 -> 5221.0065 | D36: =SQRT(D34^2+D35^2) -> 7983.4439 | E36: =SQRT(E34^2+E35^2) -> 16063.572 | F36: =(B5/2)/(B5/2+B10+B9/2)*E36 -> 4204.1611 | G36: 0
A37: Tm (in-lbf) | B37: 0 | C37: 0 | D37: ='Input-Output'!B10*B13/2 -> 3860.3031 | E37: ='Input-Output'!B11*B14/2 -> 3860.3031 | F37: 0 | G37: 0
A38: Output Shaft
A39: Location | B39: A (Bearing) | C39: Shoulder A | D39: B (Gear 4) | E39: Shoulder C | F39: C (Bearing)
A40: Distance from A | B40: 0 | C40: =B6/2 -> 0.453 | D40: =C40+B9/2+B10 -> 1.453 | E40: =D40+B9/2+B10 -> 2.453 | F40: =E40+(B7/2) -> 2.906
A41: Ft (lbf) | B41: =-D41-F41 -> 592.82508 | C41: NA | D41: =E29 -> -1185.6502 | E41: NA | F41: =-(D40*D41)/F40 -> 592.82508
A42: Fr (lbf) | B42: =-D42-F42 -> -2126.0325 | C42: NA | D42: =E30 -> 4252.065 | E42: NA | F42: =-(D40*D42)/F40 -> -2126.0325
A43: Shear | B43: =-SQRT(B41^2+B42^2) -> -2207.1374 | C43: NA | D43: =SQRT(D41^2+D42^2)+B43 -> 2207.1374 | E43: NA | F43: =-SQRT(F41^2+F42^2) -> -2207.1374
A44: Ma (in-lbf) | B44: 0 | C44: =C40*B43 -> -999.83326 | D44: =B43*D40 -> -3206.9707 | E44: =D44+((D44/(D40-F40))*(E40-D40)) -> -999.83326 | F44: 0
A45: Tm (in-lbf) | D45: =B15/2*D41 -> -3334.641

Sheet Gears
B2: Final Output | N2: Outputs | T2: Inputs | X2: Gear Kinetics
B3: Gear Material, Bending and Contact Stress | U3: Min | V3: Max
B4: Wt | C4: lbf | D4: =P5 -> 472.69018 | E4: =P6 -> 472.69018 | F4: =P7 -> 2058.8283 | G4: =P8 -> 2058.8283 | I4: Gear 2,3 Material | N4: Loading | O4: W | P4: Wt | Q4: Wr | T4: Input H (hp) | U4: 0.2 | X4: Pitch Line V (ft/min)
B5: σb | C5: psi | D5: =Y49 -> 9927.8833 | E5: =Z49 -> 29163.157 | F5: =AA49 -> 13704.302 | G5: =AB49 -> 20119.081 | I5: Name: | J5: 9 | N5: Gear 1 | O5: =SQRT(P5^2+Q5^2) -> 503.02638 | P5: =Y9 -> 472.69018 | Q5: =P5*TAN(RADIANS($U$15)) -> 172.04516 | T5: Input Speed (rpm) | U5: 10 | X5: 1 + 2 | Y5: =PI()*U40*U5/12 -> 13.962634
A6: 14-41 | B6: SF | C6: psi | D6: =Y64 -> 7.254008 | E6: =Z64 -> 2.7059052 | F6: =AA64 -> 5.7582458 | G6: =AB64 -> 4.0543909 | I6: St: | J6: =P14 -> 60840 | K6: psi | N6: Gear 2 | O6: =SQRT(P6^2+Q6^2) -> 503.02638 | P6: =Y9 -> 472.69018 | Q6: =P6*TAN(RADIANS($U$15)) -> 172.04516 | T6: Output speed (rpm) | U6: 2.15 | V6: 2.22 | X6: 3 + 4 | Y6: =PI()*U42*U5/12/U21 -> 3.2057068
B7: σc | C7: psi | D7: =Y50 -> 84637.193 | E7: =Z50 -> 84637.193 | F7: =AA50 -> 156828.35 | G7: =AB50 -> 156828.35 | I7: Sc: | J7: =P15 -> 189000 | K7: psi | N7: Gear 3 | O7: =SQRT(P7^2+Q7^2) -> 2190.9594 | P7: =Y10 -> 2058.8283 | Q7: =P7*TAN(RADIANS($U$15)) -> 749.35223 | T7: Cio (in) | U7: 8 | X7: Vmax | Y7: =(Y19+(P13-3))^2 -> 4769.8018
A8: 14-42 | B8: SH | C8: psi | D8: =Y65 -> 2.3167148 | E8: =Z65 -> 2.3527752 | F8: =AA65 -> 1.2697468 | G8: =AB65 -> 1.2768715 | I8: Gear 4,5 Material | N8: Gear 4 | O8: =SQRT(P8^2+Q8^2) -> 2190.9594 | P8: =Y10 -> 2058.8283 | Q8: =P8*TAN(RADIANS($U$15)) -> 749.35223 | T8: Life (khours) | U8: 1 | X8: Wt
B9: J | C9: - | D9: =Y40 -> 0.47 | E9: =Z40 -> 0.49 | F9: =AA40 -> 0.46 | G9: =AB40 -> 0.47 | I9: Name: | J9: 9 | T9: Reliability (%) | U9: 99 | X9: 1 + 2 | Y9: =33000*U4/Y5 -> 472.69018
B10: I | C10: - | D10: =Y47 -> 0.12114074 | E10: =Z47 -> 0.12114074 | F10: =AA47 -> 0.096418141 | G10: =AB47 -> 0.096418141 | I10: St: | J10: =Q14 -> 60840 | K10: psi | T10: Sf, min | U10: 1.5 | X10: 3 + 4 | Y10: =33000*U4/Y6 -> 2058.8283
B11: Cp | C11: - | D11: =Y43 -> 2300 | I11: Sc: | J11: =Q15 -> 189000 | K11: psi | M11: Available Pitches | O11: Material Properties | R11: Availably Qualities | T11: Sc, min | U11: 1.1
B12: Vline | C12: fpm | D12: =Y5 -> 13.962634 | F12: =Y6 -> 3.2057068 | M12: 4 | P12: 1&2 | Q12: 3&4 | R12: 5 | T12: Source condition | U12: Uniform | X12: Gear Fatigue
B13: Kv | C13: - | D13: =Y18 -> 1.0416655 | E13: =Z18 -> 1.0416655 | F13: =AA18 -> 1.0200425 | G13: =AB18 -> 1.0200425 | M13: 5 | O13: Quality: | P13: 7 | Q13: 7 | R13: 6 | T13: Output condition | U13: Light Shock
B14: Ko | C14: - | D14: =Y15 -> 1.25 | M14: 6 | O14: St: | P14: 60840 | Q14: 60840 | R14: 7 | T14: Temperature (F) | U14: 250 | X14: Gear No. | Y14: 1 | Z14: 2 | AA14: 3 | AB14: 4
B15: Ks | C15: - | D15: =Y22 -> 1 | E15: =Z22 -> 1 | F15: =AA22 -> 1 | G15: =AB22 -> 1 | M15: 8 | O15: Sc: | P15: 189000 | Q15: 189000 | R15: 8 | T15: Pitch Angle (degrees) | U15: 20 | X15: Ko | Y15: 1.25 | Z15: 1.25 | AA15: 1.25 | AB15: 1.25
B16: Km | C16: - | D16: =Y25 -> 1.0661104 | E16: =Z25 -> 1.0661104 | F16: =AA25 -> 1.1206581 | G16: =AB25 -> 1.1206581 | M16: 10 | O16: Material | P16: Steel G2 | R16: 9 | T16: Gear Geometry | X16: Select from table:
B17: YN | C17: - | D17: =Y54 -> 1.1860347 | E17: =Z54 -> 1.2996004 | F17: =AA54 -> 1.2996004 | G17: =AB54 -> 1.3433726 | M17: 12 | O17: Hardness | P17: 300 | Q17: 300 | R17: 10
B18: ZN | C18: - | D18: =Y55 -> 1.0394987 | E18: =Z55 -> 1.0556788 | F18: =AA55 -> 1.0556788 | G18: =AB55 -> 1.0616023 | M18: 16 | R18: 11 | T18: Total Speed Ratio Max | U18: =U5/U6 -> 4.6511628 | X18: Kv | Y18: =((Y19+SQRT($Y$5))/Y19)^Y20 -> 1.0416655 | Z18: =((Z19+SQRT($Y$5))/Z19)^Z20 -> 1.0416655 | AA18: =((AA19+SQRT($Y$6))/AA19)^AA20 -> 1.0200425 | AB18: =((AB19+SQRT($Y$6))/AB19)^AB20 -> 1.0200425
B19: KR | C19: - | D19: =Y53 -> 1.0019636 | M19: 20 | T19: Total Speed Ratio Min | U19: =U5/V6 -> 4.5045045 | X19: A | Y19: =50+56*(1-Y20) -> 65.063752 | Z19: =50+56*(1-Z20) -> 65.063752 | AA19: =50+56*(1-AA20) -> 65.063752 | AB19: =50+56*(1-AB20) -> 65.063752
B20: KT | C20: - | D20: =Y51 -> 1 | M20: 24 | T20: 4.578 | U20: 1 | X20: B | Y20: =0.25*((12-$P$13)^(2/3)) -> 0.73100443 | Z20: =0.25*((12-$P$13)^(2/3)) -> 0.73100443 | AA20: =0.25*((12-$P$13)^(2/3)) -> 0.73100443 | AB20: =0.25*((12-$P$13)^(2/3)) -> 0.73100443
B21: KB | C21: - | D21: =Y38 -> 1 | M21: 32 | O21: Speeds RPM | T21: Speed Ratio 1-2 | U21: 3.0625
B22: CH | C22: - | D22: =Y61 -> 1 | E22: =Z61 -> 1 | F22: =AA61 -> 1 | G22: =AB61 -> 1 | M22: 48 | O22: Shaft 1 | P22: =U5 -> 10 | T22: Speed Ratio 3-4 Max | U22: =U18/U21 -> 1.518747 | X22: Ks | Y22: 1 | Z22: 1 | AA22: 1 | AB22: 1
M23: 64 | O23: Shaft 2 | P23: =U5/U21 -> 3.2653061 | T23: Speed Ratio 3-4 Min | U23: =U19/U21 -> 1.4708586 | X23: 1 for normal gears
O24: Shaft 3 | P24: =P23/U25 -> 2.1768707
C25: Legend | T25: Speed Ratio 3-4 | U25: 1.5 | X25: Km | Y25: =1+Y26*(Y29*Y30+Y32*Y36) -> 1.0661104 | Z25: =1+Z26*(Z29*Z30+Z32*Z36) -> 1.0661104 | AA25: =1+AA26*(AA29*AA30+AA32*AA36) -> 1.1206581 | AB25: =1+AB26*(AB29*AB30+AB32*AB36) -> 1.1206581
C26: I/O Data | X26: Cmc | Y26: 1 | Z26: 1 | AA26: 1 | AB26: 1
C27: Report Data | T27: Pitch 1-2 | U27: 12 | X27: (1 uncrowned)
C28: User Input Data | T28: Pitch 3-4 | U28: 16 | X28: (0.8 crowned)
C29: Selection Choices | X29: Cpf | Y29: {=_xlfn.IFS(R50<=1,R50/10/U40-0.025,AND(R50>1,R50<=17),R50/10/U40-0.0375+0.0125*R50,AND(R50>17,R50<=40),R50/10/U40-0.1109+0.0207*R50-0.000228*R50^2)} -> -0.0109375 | Z29: {=_xlfn.IFS(S50<=1,S50/10/U40-0.025,AND(S50>1,S50<=17),S50/10/U40-0.0375+0.0125*S50,AND(S50>17,S50<=40),S50/10/U40-0.1109+0.0207*S50-0.000228*S50^2)} -> -0.0109375 | AA29: {=_xlfn.IFS(T50<=1,T50/10/U42-0.025,AND(T50>1,T50<=17),T50/10/U42-0.0375+0.0125*T50,AND(T50>17,T50<=40),T50/10/U42-0.1109+0.0207*T50-0.000228*T50^2)} -> 0.031041667 | AB29: {=_xlfn.IFS(U50<=1,U50/10/U42-0.025,AND(U50>1,U50<=17),U50/10/U42-0.0375+0.0125*U50,AND(U50>17,U50<=40),U50/10/U42-0.1109+0.0207*U50-0.000228*U50^2)} -> 0.031041667
T30: Number of Teeth 1 | U30: 64 | X30: Cpm | Y30: 1 | Z30: 1 | AA30: 1 | AB30: 1
T31: Number of Teeth 2 | U31: =U30*U21 -> 196 | X31: (1 for us)
T32: Minimum Teeth 1 | U32: =2/(1+2*U21)/(SIN(RADIANS($U$15))^2)*(U21+SQRT(U21^2+(1+2*U21)*(SIN(RADIANS($U$15))^2))) -> 15.01723 | X32: Cma | Y32: =Y33+Y34*R50+Y35*R50^2 -> 0.077047912 | Z32: =Z33+Z34*S50+Z35*S50^2 -> 0.077047912 | AA32: =AA33+AA34*T50+AA35*T50^2 -> 0.089616413 | AB32: =AB33+AB34*U50+AB35*U50^2 -> 0.089616413
R33: Negative is fine | T33: Maximum Teeth 2 | U33: =(U30^2*(SIN(RADIANS($U$15))^2)-4)/(4-2*U30*(SIN(RADIANS($U$15))^2)) -> -43.300304 | X33: A (table 14-9) | Y33: 0.0675 | Z33: 0.0675 | AA33: 0.0675 | AB33: 0.0675
X34: B (table 14-9) | Y34: 0.0128 | Z34: 0.0128 | AA34: 0.0128 | AB34: 0.0128
C35: Gear Bending Strength, St(psi) and Contact Strength,Sc(psi) | T35: Number of Teeth 3 | U35: 60 | X35: C (table 14-9) | Y35: -9.26e-05 | Z35: -9.26e-05 | AA35: -9.26e-05 | AB35: -9.26e-05
D36: Material | E36: m | F36: b | G36: St, min | H36: m | I36: b | J36: Sc,min | K36: HB,min | T36: Number of Teeth 4 | U36: =U35*U25 -> 90 | X36: Ce | Y36: 1 | Z36: 1 | AA36: 1 | AB36: 1
C37: 1 | D37: Steel, Through-Hardened, G1 | E37: 77.3 | F37: 12800 | G37: =E37*K37+F37 -> 35990 | H37: 322 | I37: 29100 | J37: =H37*K37+I37 -> 125700 | K37: 300 | T37: Minimum Teeth 3 | U37: =2/(1+2*U25)/(SIN(RADIANS($U$15))^2)*(U25+SQRT(U25^2+(1+2*U25)*(SIN(RADIANS($U$15))^2))) -> 13.458149 | X37: (1 for us)
C38: 2 | D38: Steel, Through-Hardened, G2 | E38: 102 | F38: 16400 | G38: =E38*K38+F38 -> 47000 | H38: 349 | I38: 34300 | J38: =H38*K38+I38 -> 139000 | K38: 300 | R38: Negative is fine | T38: Maximum Teeth 4 | U38: =(U35^2*(SIN(RADIANS($U$15))^2)-4)/(4-2*U35*(SIN(RADIANS($U$15))^2)) -> -41.556854 | X38: Kb | Y38: 1 | Z38: 1 | AA38: 1 | AB38: 1
C39: 3 | D39: Steel, Nitrided, Through-Hardened, G1 | E39: 82.3 | F39: 12150 | G39: =E39*K39+F39 -> 36840 | J39: 150000 | K39: 300 | X39: (1 for us rim)
C40: 4 | D40: Steel, Nitrided, Through-Hardened, G2 | E40: 108.6 | F40: 15890 | G40: =E40*K40+F40 -> 48470 | J40: 163000 | K40: 300 | T40: Pitch Diameter 1 (in) | U40: =U30/U27 -> 5.3333333 | W40: *** | X40: J | Y40: 0.47 | Z40: 0.49 | AA40: 0.46 | AB40: 0.47
C41: 5 | D41: Steel, Nitrided, Nitralloy, G1 | E41: 86.2 | F41: 12730 | G41: =E41*K41+F41 -> 38590 | J41: 170000 | K41: 300 | T41: Pitch Diameter 2 (in) | U41: =U31/U27 -> 16.333333 | X41: Teeth | Y41: =U30 -> 64 | Z41: =U31 -> 196 | AA41: =U35 -> 60 | AB41: =U36 -> 90
C42: 6 | D42: Steel, Nitrided, Nitralloy, G2 | E42: 113.8 | F42: 16650 | G42: =E42*K42+F42 -> 50790 | J42: 183000 | K42: 300 | T42: Pitch Diameter 3 (in) | U42: =U35/U28 -> 3.75 | X42: Mated Teeth | Y42: =U31 -> 196 | Z42: =U30 -> 64 | AA42: =U36 -> 90 | AB42: =U35 -> 60
C43: 7 | D43: Steel, Nitrided, 2.5% Chrome, G1 | E43: 105.2 | F43: 9280 | G43: =E43*K43+F43 -> 40840 | J43: 155000 | K43: 300 | T43: Pitch Diameter 4 (in) | U43: =U36/U28 -> 5.625 | X43: Cp | Y43: 2300 | Z43: 2300 | AA43: 2300 | AB43: 2300
C44: 8 | D44: Steel, Nitrided, 2.5% Chrome, G2 | E44: 105.2 | F44: 22280 | G44: =E44*K44+F44 -> 53840 | J44: 172000 | K44: 300 | X44: Table 14-8
C45: 9 | D45: Steel, Nitrided, 2.5% Chrome, G3 | E45: 105.2 | F45: 29280 | G45: =E45*K45+F45 -> 60840 | J45: 189000 | K45: 300 | T45: Theta (degrees) | U45: =DEGREES(ACOS((U46^2+U47^2-U7^2)/(2*U46*U47))) -> 42.11948 | X45: Cf | Y45: 1 | Z45: 1 | AA45: 1 | AB45: 1
C46: 10 | D46: Steel,Carburized-Hardened | G46: 65000 | J46: 225000 | K46: 300 | T46: a (in) | U46: =(U40/2+U41/2) -> 10.833333 | X46: (1 for us)
C47: 11 | D47: ASTM A48 Gray Cast Iron, Class 20 | G47: 5000 | J47: 50000 | K47: 170 | T47: b (in) | U47: =(U42/2+U43/2) -> 4.6875 | X47: I | Y47: =COS(RADIANS($U$15))*SIN(RADIANS($U$15))*$U$21/(2*($U$21+1)) -> 0.12114074 | Z47: =COS(RADIANS($U$15))*SIN(RADIANS($U$15))*$U$21/(2*($U$21+1)) -> 0.12114074 | AA47: =COS(RADIANS($U$15))*SIN(RADIANS($U$15))*$U$25/(2*($U$25+1)) -> 0.096418141 | AB47: =COS(RADIANS($U$15))*SIN(RADIANS($U$15))*$U$25/(2*($U$25+1)) -> 0.096418141
C48: 12 | D48: ASTM A48 Gray Cast Iron, Class 30 | G48: 8500 | J48: 65000 | K48: 174 | X48: (external spur gears)
C49: 13 | D49: ASTM A48 Gray Cast Iron, Class 40 | G49: 13000 | J49: 75000 | K49: 200 | R49: 1 | S49: 2 | T49: 3 | U49: 4 | X49: Sigma b | Y49: =$Y$9*Y15*Y18*Y22*$U$40*Y25*Y38/R50/Y40 -> 9927.8833 | Z49: =$Y$9*Z15*Z18*Z22*$U$41*Z25*Z38/S50/Z40 -> 29163.157 | AA49: =$Y$10*AA15*AA18*AA22*$U$42*AA25*AA38/T50/AA40 -> 13704.302 | AB49: =$Y$10*AB15*AB18*AB22*$U$43*AB25*AB38/U50/AB40 -> 20119.081
C50: 14 | D50: ASTM A536, Ductile Iron, Grade 60-40-18 | G50: 22000 | J50: 77000 | K50: 140 | Q50: Width (in) | R50: 0.75 | S50: 0.75 | T50: 1.75 | U50: 1.75 | X50: Sigma c | Y50: =Y43*SQRT($Y$9*Y15*Y18*Y22*Y25*Y45/($U$40*R50*Y47)) -> 84637.193 | Z50: =Z43*SQRT($Y$9*Z15*Z18*Z22*Z25*Z45/($U$40*S50*Z47)) -> 84637.193 | AA50: =AA43*SQRT($Y$10*AA15*AA18*AA22*AA25*AA45/($U$42*T50*AA47)) -> 156828.35 | AB50: =AB43*SQRT($Y$10*AB15*AB18*AB22*AB25*AB45/($U$42*U50*AB47)) -> 156828.35
C51: 15 | D51: ASTM A536, Ductile Iron, Grade 100-70-03 | G51: 27000 | J51: 92000 | K51: 229 | X51: Kt | Y51: 1 | Z51: 1 | AA51: 1 | AB51: 1
C52: 16 | D52: ASTM A536, Ductile Iron, Grade 120-90-02 | G52: 31000 | J52: 103000 | K52: 269 | X52: (1 under 250F)
C53: 17 | D53: ASTM B-148 Bronze, Sand Cast | G53: 5700 | J53: 30000 | X53: Kr | Y53: {=_xlfn.IFS((U9/100)<0.99,0.658-0.0759*LN(1-U9/100),(U9/100)>=0.99,0.5-0.109*LN(1-(U9/100)))} -> 1.0019636 | Z53: =Y53 -> 1.0019636 | AA53: =Z53 -> 1.0019636 | AB53: =Y53 -> 1.0019636
C54: 18 | D54: ASTM B-148 Bronze, Heat Treated | G54: 23600 | J54: 65000 | X54: Yn | Y54: =Y57*(Y56^Y58) -> 1.1860347 | Z54: =Z57*(Z56^Z58) -> 1.2996004 | AA54: =AA57*(AA56^AA58) -> 1.2996004 | AB54: =AB57*(AB56^AB58) -> 1.3433726
X55: Zn | Y55: =Y59*(Y56^Y60) -> 1.0394987 | Z55: =Z59*(Z56^Z60) -> 1.0556788 | AA55: =AA59*(AA56^AA60) -> 1.0556788 | AB55: =AB59*(AB56^AB60) -> 1.0616023
X56: Load Cycles | Y56: =U5*60*1000*U8 -> 600000 | Z56: =$U$5/$U$21*60*1000*$U$8 -> 195918.37 | AA56: =$U$5/$U$21*60*1000*$U$8 -> 195918.37 | AB56: =U5/U21/U25*60*1000*U8 -> 130612.24
W57: *** | X57: Coeff Yn | Y57: 3.517 | Z57: 3.517 | AA57: 3.517 | AB57: 3.517
V58: Check | W58: *** | X58: Exponent Yn | Y58: -0.0817 | Z58: -0.0817 | AA58: -0.0817 | AB58: -0.0817
V59: Load | W59: *** | X59: Coeff Zn | Y59: 1.249 | Z59: 1.249 | AA59: 1.249 | AB59: 1.249
V60: Cycles | W60: *** | X60: Exponent Zn | Y60: -0.0138 | Z60: -0.0138 | AA60: -0.0138 | AB60: -0.0138
X61: Ch | Y61: 1 | Z61: 1 | AA61: 1 | AB61: 1
X62: (pinions are 1)
X63: (For same pinion/gear material)
X64: Sf | Y64: =$P$14*Y54/(Y49*Y51*Y53) -> 7.254008 | Z64: =$P$14*Z54/(Z49*Z51*Z53) -> 2.7059052 | AA64: =$Q$14*AA54/(AA49*AA51*AA53) -> 5.7582458 | AB64: =$Q$14*AB54/(AB49*AB51*AB53) -> 4.0543909
X65: Sh | Y65: =$P$15*Y55*Y61/(Y50*Y51*Y53) -> 2.3167148 | Z65: =$P$15*Z55*Z61/(Z50*Z51*Z53) -> 2.3527752 | AA65: =$Q$15*AA55*AA61/(AA50*AA51*AA53) -> 1.2697468 | AB65: =$Q$15*AB55*AB61/(AB50*AB51*AB53) -> 1.2768715
AE66: Elastic Coefficient Cp, sqrt(psi)
AG67: Steel | AH67: Malleable Iron | AI67: Nodular Iron | AJ67: Cast Iron | AK67: Al Bronze | AL67: Tin Bronze
AE68: 1 | AF68: Steel | AG68: 2300 | AH68: 2180 | AI68: 2160 | AJ68: 2100 | AK68: 1950 | AL68: 1900
AE69: 2 | AF69: Malleable Iron | AG69: 2180 | AH69: 2090 | AI69: 2070 | AJ69: 2020 | AK69: 1900 | AL69: 1850
AE70: 3 | AF70: Nodular Iron | AG70: 2160 | AH70: 2070 | AI70: 2050 | AJ70: 2000 | AK70: 1880 | AL70: 1830
AE71: 4 | AF71: Cast Iron | AG71: 2100 | AH71: 2020 | AI71: 2000 | AJ71: 1960 | AK71: 1850 | AL71: 1800
AE72: 5 | AF72: Al Bronze | AG72: 1950 | AH72: 1900 | AI72: 1880 | AJ72: 1850 | AK72: 1750 | AL72: 1700
AE73: 6 | AF73: Tin Bronze | AG73: 1900 | AH73: 1850 | AI73: 1830 | AJ73: 1800 | AK73: 1700 | AL73: 1650
Z78: Stress Cycle Factor YN
AA79: Cond/Cycle | AB79: 1000 | AD79: 1200000 | AG79: Below Min
AB80: a | AC80: b | AD80: a | AE80: b
Z81: 1 | AA81: 400HB | AB81: 9.4518 | AC81: -0.148 | AD81: 1.3558 | AE81: -0.0178 | AG81: =AB81*$H$25^AC81 -> #DIV/0!
Z82: 2 | AA82: Case Carb | AB82: 6.1514 | AC82: -0.1192 | AD82: 1.3558 | AE82: -0.0178 | AG82: =AB82*$H$25^AC82 -> #DIV/0!
Z83: 3 | AA83: 250HB | AB83: 4.904 | AC83: -0.1045 | AD83: 1.3558 | AE83: -0.0178 | AG83: =AB83*$H$25^AC83 -> #DIV/0!
Z84: 4 | AA84: Nitrided | AB84: 3.517 | AC84: -0.0817 | AD84: 1.3558 | AE84: -0.0178 | AG84: =AB84*$H$25^AC84 -> #DIV/0!
Z85: 5 | AA85: 160HB | AB85: 2.3194 | AC85: -0.0538 | AD85: 1.3558 | AE85: -0.0178 | AG85: =AB85*$H$25^AC85 -> #DIV/0!
AC86: opt. | AD86: 1.6831 | AE86: -0.0323
Z87: Stress Cycle Factor ZN
AA88: Cond/Cycle | AB88: 10000 | AD88: 10000000
AB89: a | AC89: b | AD89: a | AE89: b
Z90: 1 | AA90: Hardened | AB90: 2.466 | AC90: -0.056 | AD90: 1.4488 | AE90: -0.023 | AG90: =AB90*$H$34^AC90 -> #DIV/0!
Z91: 2 | AA91: Nitrided | AB91: 1.249 | AC91: -0.0138 | AD91: 1.4488 | AE91: -0.023 | AG91: =AB91*$H$34^AC91 -> #DIV/0!

Sheet Bearings
B2: Inputs | E2: Revolutions | I2: A | J2: B | K2: C | L2: D | M2: E | N2: F
A3: Loads | B3: F_aA [lbf] | C3: 0 | E3: Shaft_1 | F3: =C25*(C15*60*1000) -> 600000 | H3: Wr [kN] | I3: =C9*0.004448 -> 1.1187307 | J3: =C10*0.004448 -> 1.1187307 | K3: =C11*0.004448 -> 24.574642 | L3: =C12*0.004448 -> 5.0104616 | M3: =C13*0.004448 -> 9.8173474 | N3: =C14*0.004448 -> 9.8173474 | AG3: TRUE
B4: F_aB [lbf] | C4: 0 | E4: Shaft_2 | F4: =C25*(C16*60*1000) -> 195918.37 | H4: Wa [kN] | I4: =C3*0.004448 -> 0 | J4: =C4*0.004448 -> 0 | K4: =C5*0.004448 -> 0 | L4: =C6*0.004448 -> 0 | M4: =C7*0.004448 -> 0 | N4: =C8*0.004448 -> 0 | AG4: FALSE
B5: F_aC [lbf] | C5: 0 | E5: Shaft_3 | F5: =C25*(C17*60*1000) -> 130612.24 | H5: i.d. [mm] | I5: =IF(I$22="Ball",_xlfn.XLOOKUP(I8,Table2[[ ]],Table2[d '[mm']]), _xlfn.XLOOKUP(I8,Table3[Column4],Table3[d])) -> 20 | J5: =IF(J$22="Ball",_xlfn.XLOOKUP(J8,Table2[[ ]],Table2[d '[mm']]), _xlfn.XLOOKUP(J8,Table3[Column4],Table3[d])) -> 15 | K5: =IF(K$22="Ball",_xlfn.XLOOKUP(K8,Table2[[ ]],Table2[d '[mm']]), _xlfn.XLOOKUP(K8,Table3[Column4],Table3[d])) -> 70 | L5: =IF(L$22="Ball",_xlfn.XLOOKUP(L8,Table2[[ ]],Table2[d '[mm']]), _xlfn.XLOOKUP(L8,Table3[Column4],Table3[d])) -> 45 | M5: =IF(M$22="Ball",_xlfn.XLOOKUP(M8,Table2[[ ]],Table2[d '[mm']]), _xlfn.XLOOKUP(M8,Table3[Column4],Table3[d])) -> 35 | N5: =IF(N$22="Ball",_xlfn.XLOOKUP(N8,Table2[[ ]],Table2[d '[mm']]), _xlfn.XLOOKUP(N8,Table3[Column4],Table3[d])) -> 35
B6: F_aD [lbf] | C6: 0 | H6: o.d [mm] | I6: =IF(I$22="Ball",_xlfn.XLOOKUP(I8,Table2[[ ]],Table2[D '[mm']2]), _xlfn.XLOOKUP(I8,Table3[Column4],Table3[D2])) -> 32 | J6: =IF(J$22="Ball",_xlfn.XLOOKUP(J8,Table2[[ ]],Table2[D '[mm']2]), _xlfn.XLOOKUP(J8,Table3[Column4],Table3[D2])) -> 24 | K6: =IF(K$22="Ball",_xlfn.XLOOKUP(K8,Table2[[ ]],Table2[D '[mm']2]), _xlfn.XLOOKUP(K8,Table3[Column4],Table3[D2])) -> 110 | L6: =IF(L$22="Ball",_xlfn.XLOOKUP(L8,Table2[[ ]],Table2[D '[mm']2]), _xlfn.XLOOKUP(L8,Table3[Column4],Table3[D2])) -> 58 | M6: =IF(M$22="Ball",_xlfn.XLOOKUP(M8,Table2[[ ]],Table2[D '[mm']2]), _xlfn.XLOOKUP(M8,Table3[Column4],Table3[D2])) -> 55 | N6: =IF(N$22="Ball",_xlfn.XLOOKUP(N8,Table2[[ ]],Table2[D '[mm']2]), _xlfn.XLOOKUP(N8,Table3[Column4],Table3[D2])) -> 55
B7: F_aE [lbf] | C7: 0 | E7: Reliability Per Bearing | F7: =IF(C27=FALSE,(C24/100)^(1/6),C24/100) -> 0.99 | H7: width [mm] | I7: =IF(I$22="Ball",_xlfn.XLOOKUP(I8,Table2[[ ]],Table2[B '[mm']]), _xlfn.XLOOKUP(I8,Table3[Column4],Table3[B])) -> 7 | J7: =IF(J$22="Ball",_xlfn.XLOOKUP(J8,Table2[[ ]],Table2[B '[mm']]), _xlfn.XLOOKUP(J8,Table3[Column4],Table3[B])) -> 5 | K7: =IF(K$22="Ball",_xlfn.XLOOKUP(K8,Table2[[ ]],Table2[B '[mm']]), _xlfn.XLOOKUP(K8,Table3[Column4],Table3[B])) -> 13 | L7: =IF(L$22="Ball",_xlfn.XLOOKUP(L8,Table2[[ ]],Table2[B '[mm']]), _xlfn.XLOOKUP(L8,Table3[Column4],Table3[B])) -> 7 | M7: =IF(M$22="Ball",_xlfn.XLOOKUP(M8,Table2[[ ]],Table2[B '[mm']]), _xlfn.XLOOKUP(M8,Table3[Column4],Table3[B])) -> 10 | N7: =IF(N$22="Ball",_xlfn.XLOOKUP(N8,Table2[[ ]],Table2[B '[mm']]), _xlfn.XLOOKUP(N8,Table3[Column4],Table3[B])) -> 10
B8: F_aF [lbf] | C8: 0 | H8: bearing | I8: =I72 -> 61804 | J8: =J72 -> 61802 | K8: =K72 -> * 16014 | L8: =L72 -> 61809 | M8: =M72 -> 61907 | N8: =N72 -> 61907
B9: F_rA [lbf] | C9: =ABS('Input-Output'!B30) -> 251.51319 | E9: a
B10: F_rB [lbf] | C10: =ABS('Input-Output'!B61) -> 251.51319 | E10: Roller | F10: 3.3333333
B11: F_rC [lbf] | C11: =ABS('Input-Output'!B32) -> 5524.8746 | E11: Ball | F11: 3
B12: F_rD [lbf] | C12: =ABS('Input-Output'!B33) -> 1126.4527
B13: F_rE [lbf] | C13: =ABS('Input-Output'!B31) -> 2207.1374 | E13: V
B14: F_rF [lbf] | C14: =ABS('Input-Output'!B62) -> 2207.1374 | E14: Inner | F14: 1
A15: Speed | B15: ω1 [rpm] | C15: ='Input-Output'!B34 -> 10 | E15: Outer | F15: 1.2
B16: ω2 [rpm] | C16: ='Input-Output'!B35 -> 3.2653061
B17: ω3 [rpm] | C17: ='Input-Output'!B36 -> 2.1768707 | E17: Legend
A18: Inner diameters | B18: d_A [mm] | C18: =('Input-Output'!B54)*25.4 -> 17.78 | E18: Input
B19: d_B [mm] | C19: =('Input-Output'!B55)*25.4 -> 7.4677039 | E19: Calculation
B20: d_C [mm] | C20: =('Input-Output'!B56)*25.4 -> 35.271953 | E20: From IO | I20: Iterative Calculations
B21: d_D [mm] | C21: =('Input-Output'!B57)*25.4 -> 32.814909 | E21: Output | I21: A | J21: B | K21: C | L21: D | M21: E | N21: F
B22: d_E [mm] | C22: =('Input-Output'!B58)*25.4 -> 24.859783 | H22: Roller/Ball | I22: Ball | J22: Ball | K22: Ball | L22: Ball | M22: Ball | N22: Ball
B23: d_F [mm] | C23: =('Input-Output'!B59)*25.4 -> 24.859783 | H23: a [Factor for bearing type] | I23: =VLOOKUP(I22,$E$10:$F$11,2,FALSE) -> 3 | J23: =VLOOKUP(J22,$E$10:$F$11,2,FALSE) -> 3 | K23: =VLOOKUP(K22,$E$10:$F$11,2,FALSE) -> 3 | L23: =VLOOKUP(L22,$E$10:$F$11,2,FALSE) -> 3 | M23: =VLOOKUP(M22,$E$10:$F$11,2,FALSE) -> 3 | N23: =VLOOKUP(N22,$E$10:$F$11,2,FALSE) -> 3 | O23: Starting Bearing
A24: Input | B24: Reliability [%] | C24: 99 | H24: x_D (Design life/Rated life) | I24: =F3/(10^6) -> 0.6 | J24: =F3/(10^6) -> 0.6 | K24: =F4/(10^6) -> 0.19591837 | L24: =F4/(10^6) -> 0.19591837 | M24: =F5/(10^6) -> 0.13061224 | N24: =F5/(10^6) -> 0.13061224
B25: Life [khours] | C25: 1 | H25: Minimum C10 [kN] (radial only) | I25: =(0.004448*$C$26*C9*((I24/(0.02+(4.439*(LN(1/$F$7)^(1/1.483)))))^(1/I23))) -> 1.8768085 | J25: =C26*C10*((J24/(0.02+(4.439*(LN(1/F7)^(1/1.483)))))^(1/J23))*4.448/1000 -> 1.8768085 | K25: =C26*C11*((K24/(0.02+(4.439*(LN(1/F7)^(1/1.483)))))^(1/K23))*4.448/1000 -> 28.389403 | L25: =C26*C12*((L24/(0.02+(4.439*(LN(1/F7)^(1/1.483)))))^(1/L23))*4.448/1000 -> 5.7882436 | M25: =C26*C13*((M24/(0.02+(4.439*(LN(1/F7)^(1/1.483)))))^(1/M23))*4.448/1000 -> 9.9075467 | N25: =C26*C14*((N24/(0.02+(4.439*(LN(1/F7)^(1/1.483)))))^(1/N23))*4.448/1000 -> 9.9075467
B26: a_f (Application Factor) | C26: 1.2 | H26: Initial Bearing | I26: {=IF(I22="Ball",INDEX(Table2[[ ]],_xlfn.XMATCH(I25,(Table2[C '[kN']])*(Table2[d '[mm']]>Bearings!C18),1)),INDEX(Table3[Column4],_xlfn.XMATCH(I25,(Table3[C])*(Table3[d]>Bearings!C18),1)))} -> 61804 | J26: {=IF(J22="Ball",INDEX(Table2[[ ]],_xlfn.XMATCH(J25,(Table2[C '[kN']])*(Table2[d '[mm']]>Bearings!C19),1)),INDEX(Table3[Column4],_xlfn.XMATCH(J25,(Table3[C])*(Table3[d]>Bearings!C19),1)))} -> 61802 | K26: {=IF(K22="Ball",INDEX(Table2[[ ]],_xlfn.XMATCH(K25,(Table2[C '[kN']])*(Table2[d '[mm']]>Bearings!C20),1)),INDEX(Table3[Column4],_xlfn.XMATCH(K25,(Table3[C])*(Table3[d]>Bearings!C20),1)))} -> * 16014 | L26: {=IF(L22="Ball",INDEX(Table2[[ ]],_xlfn.XMATCH(L25,(Table2[C '[kN']])*(Table2[d '[mm']]>Bearings!C21),1)),INDEX(Table3[Column4],_xlfn.XMATCH(L25,(Table3[C])*(Table3[d]>Bearings!C21),1)))} -> 61809 | M26: {=IF(M22="Ball",INDEX(Table2[[ ]],_xlfn.XMATCH(M25,(Table2[C '[kN']])*(Table2[d '[mm']]>Bearings!C22),1)),INDEX(Table3[Column4],_xlfn.XMATCH(M25,(Table3[C])*(Table3[d]>Bearings!C22),1)))} -> 61907 | N26: {=IF(N22="Ball",INDEX(Table2[[ ]],_xlfn.XMATCH(N25,(Table2[C '[kN']])*(Table2[d '[mm']]>Bearings!C23),1)),INDEX(Table3[Column4],_xlfn.XMATCH(N25,(Table3[C])*(Table3[d]>Bearings!C23),1)))} -> 61907
B27: Per bearing Reliability | C27: TRUE | H27: Outer/Inner Race Rotation | I27: Inner | J27: Inner | K27: Inner | L27: Inner | M27: Inner | N27: Inner
B28: Identical pairs per shaft (If same type) | C28: FALSE | H28: V [Factor for inner/outer rotation] | I28: =VLOOKUP($I$27,$E$14:$F$15,2,FALSE) -> 1 | J28: =VLOOKUP($J$27,$E$14:$F$15,2,FALSE) -> 1 | K28: =VLOOKUP($K$27,$E$14:$F$15,2,FALSE) -> 1 | L28: =VLOOKUP($L$27,$E$14:$F$15,2,FALSE) -> 1 | M28: =VLOOKUP($M$27,$E$14:$F$15,2,FALSE) -> 1 | N28: =VLOOKUP($N$27,$E$14:$F$15,2,FALSE) -> 1
H29: C0 [kN] | I29: {=IF($I$22="Ball",_xlfn.XLOOKUP(I26,Table2[[ ]],Table2[C0 '[kN']]), _xlfn.XLOOKUP(I26,Table3[Column4],Table3[C0]))} -> 2.32 | J29: {=IF($J$22="Ball",_xlfn.XLOOKUP(J26,Table2[[ ]],Table2[C0 '[kN']]), _xlfn.XLOOKUP(J26,Table3[Column4],Table3[C0]))} -> 1.1 | K29: {=IF($K$22="Ball",_xlfn.XLOOKUP(K26,Table2[[ ]],Table2[C0 '[kN']]), _xlfn.XLOOKUP(K26,Table3[Column4],Table3[C0]))} -> 25 | L29: {=IF($L$22="Ball",_xlfn.XLOOKUP(L26,Table2[[ ]],Table2[C0 '[kN']]), _xlfn.XLOOKUP(L26,Table3[Column4],Table3[C0]))} -> 6.1 | M29: {=IF($M$22="Ball",_xlfn.XLOOKUP(M26,Table2[[ ]],Table2[C0 '[kN']]), _xlfn.XLOOKUP(M26,Table3[Column4],Table3[C0]))} -> 7.8 | N29: {=IF($N$22="Ball",_xlfn.XLOOKUP(N26,Table2[[ ]],Table2[C0 '[kN']]), _xlfn.XLOOKUP(N26,Table3[Column4],Table3[C0]))} -> 7.8 | O29: Iteration 1
H30: Fa/C0 | I30: =($C$3*0.004448)/I29 -> 0 | J30: =($C$4*0.004448)/J29 -> 0 | K30: =($C$5*0.004448)/K29 -> 0 | L30: =($C$6*0.004448)/L29 -> 0 | M30: =($C$7*0.004448)/M29 -> 0 | N30: =($C$8*0.004448)/N29 -> 0
H31: e [abscissa] | I31: =IF(I30<0.014, 0.19, (0.5065*I30^0.232)) -> 0.19 | J31: =IF(J30<0.014, 0.19, (0.5065*J30^0.232)) -> 0.19 | K31: =IF(K30<0.014, 0.19, (0.5065*K30^0.232)) -> 0.19 | L31: =IF(L30<0.014, 0.19, (0.5065*L30^0.232)) -> 0.19 | M31: =IF(M30<0.014, 0.19, (0.5065*M30^0.232)) -> 0.19 | N31: =IF(N30<0.014, 0.19, (0.5065*N30^0.232)) -> 0.19
H32: Fa/(VFr) | I32: =$C$3/($I$28*$C$9) -> 0 | J32: =$C$4/($J$28*$C$10) -> 0 | K32: =$C$5/($K$28*$C$11) -> 0 | L32: =$C$6/($L$28*$C$12) -> 0 | M32: =$C$7/($M$28*$C$13) -> 0 | N32: =$C$8/($N$28*$C$14) -> 0
H33: X | I33: =IF(I32>I31, 0.56, 1) -> 1 | J33: =IF(J32>J31, 0.56, 1) -> 1 | K33: =IF(K32>K31, 0.56, 1) -> 1 | L33: =IF(L32>L31, 0.56, 1) -> 1 | M33: =IF(M32>M31, 0.56, 1) -> 1 | N33: =IF(N32>N31, 0.56, 1) -> 1
H34: Y | I34: =IF(I32>I31,IF(I30>0.014,(0.8632*I30^-0.235),2.3), 0) -> 0 | J34: =IF(J32>J31,IF(J30>0.014,(0.8632*J30^-0.235),2.3), 0) -> 0 | K34: =IF(K32>K31,IF(K30>0.014,(0.8632*K30^-0.235),2.3), 0) -> 0 | L34: =IF(L32>L31,IF(L30>0.014,(0.8632*L30^-0.235),2.3), 0) -> 0 | M34: =IF(M32>M31,IF(M30>0.014,(0.8632*M30^-0.235),2.3), 0) -> 0 | N34: =IF(N32>N31,IF(N30>0.014,(0.8632*N30^-0.235),2.3), 0) -> 0
H35: Fe [kN] | I35: =(I33*$I$28*$C$9)+(I34*$C$3) -> 251.51319 | J35: =(J33*$J$28*$C$10)+(J34*$C$4) -> 251.51319 | K35: =(K33*$K$28*$C$11)+(K34*$C$5) -> 5524.8746 | L35: =(L33*$L$28*$C$12)+(L34*$C$6) -> 1126.4527 | M35: =(M33*$M$28*$C$13)+(M34*$C$7) -> 2207.1374 | N35: =(N33*$N$28*$C$14)+(N34*$C$8) -> 2207.1374
H36: Minimum C10 [kN] | I36: =($C$26*I35*(($I$24/(0.02+(4.439*(LN(1/$F$7)^(1/1.483)))))^(1/$I$23)))*4.448/1000 -> 1.8768085 | J36: =($C$26*J35*(($J$24/(0.02+(4.439*(LN(1/$F$7)^(1/1.483)))))^(1/$J$23)))*4.448/1000 -> 1.8768085 | K36: =($C$26*K35*(($K$24/(0.02+(4.439*(LN(1/$F$7)^(1/1.483)))))^(1/$K$23)))*4.448/1000 -> 28.389403 | L36: =($C$26*L35*(($L$24/(0.02+(4.439*(LN(1/$F$7)^(1/1.483)))))^(1/$L$23)))*4.448/1000 -> 5.7882436 | M36: =($C$26*M35*(($M$24/(0.02+(4.439*(LN(1/$F$7)^(1/1.483)))))^(1/$M$23)))*4.448/1000 -> 9.9075467 | N36: =($C$26*N35*(($N$24/(0.02+(4.439*(LN(1/$F$7)^(1/1.483)))))^(1/$N$23)))*4.448/1000 -> 9.9075467
H37: 1st Iteration Bearing | I37: {=IF($I$22="Ball",INDEX(Table2[[ ]],_xlfn.XMATCH(I36,(Table2[C '[kN']])*(Table2[d '[mm']]>$C$18),1)),INDEX(Table3[Column4],_xlfn.XMATCH(I36,(Table3[C])*(Table3[d]>$C$18),1)))} -> 61804 | J37: {=IF($J$22="Ball",INDEX(Table2[[ ]],_xlfn.XMATCH(J36,(Table2[C '[kN']])*(Table2[d '[mm']]>$C$19),1)),INDEX(Table3[Column4],_xlfn.XMATCH(J36,(Table3[C])*(Table3[d]>$C$19),1)))} -> 61802 | K37: {=IF($K$22="Ball",INDEX(Table2[[ ]],_xlfn.XMATCH(K36,(Table2[C '[kN']])*(Table2[d '[mm']]>$C$20),1)),INDEX(Table3[Column4],_xlfn.XMATCH(K36,(Table3[C])*(Table3[d]>$C$20),1)))} -> * 16014 | L37: {=IF($L$22="Ball",INDEX(Table2[[ ]],_xlfn.XMATCH(L36,(Table2[C '[kN']])*(Table2[d '[mm']]>$C$21),1)),INDEX(Table3[Column4],_xlfn.XMATCH(L36,(Table3[C])*(Table3[d]>$C$21),1)))} -> 61809 | M37: {=IF($M$22="Ball",INDEX(Table2[[ ]],_xlfn.XMATCH(M36,(Table2[C '[kN']])*(Table2[d '[mm']]>$C$22),1)),INDEX(Table3[Column4],_xlfn.XMATCH(M36,(Table3[C])*(Table3[d]>$C$22),1)))} -> 61907 | N37: {=IF($N$22="Ball",INDEX(Table2[[ ]],_xlfn.XMATCH(N36,(Table2[C '[kN']])*(Table2[d '[mm']]>$C$23),1)),INDEX(Table3[Column4],_xlfn.XMATCH(N36,(Table3[C])*(Table3[d]>$C$23),1)))} -> 61907
H38: C0 [kN] | I38: {=IF(I$22="Ball",_xlfn.XLOOKUP(I37,Table2[[ ]],Table2[C0 '[kN']]), _xlfn.XLOOKUP(I37,Table3[Column4],Table3[C0]))} -> 2.32 | J38: {=IF(J$22="Ball",_xlfn.XLOOKUP(J37,Table2[[ ]],Table2[C0 '[kN']]), _xlfn.XLOOKUP(J37,Table3[Column4],Table3[C0]))} -> 1.1 | K38: {=IF(K$22="Ball",_xlfn.XLOOKUP(K37,Table2[[ ]],Table2[C0 '[kN']]), _xlfn.XLOOKUP(K37,Table3[Column4],Table3[C0]))} -> 25 | L38: {=IF(L$22="Ball",_xlfn.XLOOKUP(L37,Table2[[ ]],Table2[C0 '[kN']]), _xlfn.XLOOKUP(L37,Table3[Column4],Table3[C0]))} -> 6.1 | M38: {=IF(M$22="Ball",_xlfn.XLOOKUP(M37,Table2[[ ]],Table2[C0 '[kN']]), _xlfn.XLOOKUP(M37,Table3[Column4],Table3[C0]))} -> 7.8 | N38: =IF(N$22="Ball",_xlfn.XLOOKUP(N37,Table2[[ ]],Table2[C0 '[kN']]), _xlfn.XLOOKUP(N37,Table3[Column4],Table3[C0])) -> 7.8 | O38: Iteration 2
H39: Fa/C0 | I39: =($C$3*0.004448)/I38 -> 0 | J39: =($C$4*0.004448)/J38 -> 0 | K39: =($C$5*0.004448)/K38 -> 0 | L39: =($C$6*0.004448)/L38 -> 0 | M39: =($C$7*0.004448)/M38 -> 0 | N39: =($C$8*0.004448)/N38 -> 0
H40: e [abscissa] | I40: =IF(I39<0.014, 0.19, (0.5065*I39^0.232)) -> 0.19 | J40: =IF(J39<0.014, 0.19, (0.5065*J39^0.232)) -> 0.19 | K40: =IF(K39<0.014, 0.19, (0.5065*K39^0.232)) -> 0.19 | L40: =IF(L39<0.014, 0.19, (0.5065*L39^0.232)) -> 0.19 | M40: =IF(M39<0.014, 0.19, (0.5065*M39^0.232)) -> 0.19 | N40: =IF(N39<0.014, 0.19, (0.5065*N39^0.232)) -> 0.19
H41: X | I41: =IF(I$32>I40, 0.56, 1) -> 1 | J41: =IF(J$32>J40, 0.56, 1) -> 1 | K41: =IF(K$32>K40, 0.56, 1) -> 1 | L41: =IF(L$32>L40, 0.56, 1) -> 1 | M41: =IF(M$32>M40, 0.56, 1) -> 1 | N41: =IF(N$32>N40, 0.56, 1) -> 1
H42: Y | I42: =IF(I$32>I40,IF(I39>0.014,(0.8632*I39^-0.235),2.3), 0) -> 0 | J42: =IF(J$32>J40,IF(J39>0.014,(0.8632*J39^-0.235),2.3), 0) -> 0 | K42: =IF(K$32>K40,IF(K39>0.014,(0.8632*K39^-0.235),2.3), 0) -> 0 | L42: =IF(L$32>L40,IF(L39>0.014,(0.8632*L39^-0.235),2.3), 0) -> 0 | M42: =IF(M$32>M40,IF(M39>0.014,(0.8632*M39^-0.235),2.3), 0) -> 0 | N42: =IF(N$32>N40,IF(N39>0.014,(0.8632*N39^-0.235),2.3), 0) -> 0
H43: Fe [kN] | I43: =(I41*$I$28*$C$9)+(I42*$C$3) -> 251.51319 | J43: =(J41*$J$28*$C$10)+(J42*$C$4) -> 251.51319 | K43: =(K41*$K$28*$C$11)+(K42*$C$5) -> 5524.8746 | L43: =(L41*$L$28*$C$12)+(L42*$C$6) -> 1126.4527 | M43: =(M41*$M$28*$C$13)+(M42*$C$7) -> 2207.1374 | N43: =(N41*$N$28*$C$14)+(N42*$C$8) -> 2207.1374
H44: Minimum C10 [kN] | I44: =($C$26*I43*(($I$24/(0.02+(4.439*(LN(1/$F$7)^(1/1.483)))))^(1/$I$23)))*4.448/1000 -> 1.8768085 | J44: =($C$26*J43*(($J$24/(0.02+(4.439*(LN(1/$F$7)^(1/1.483)))))^(1/$J$23)))*4.448/1000 -> 1.8768085 | K44: =($C$26*K43*(($K$24/(0.02+(4.439*(LN(1/$F$7)^(1/1.483)))))^(1/$K$23)))*4.448/1000 -> 28.389403 | L44: =($C$26*L43*(($L$24/(0.02+(4.439*(LN(1/$F$7)^(1/1.483)))))^(1/$L$23)))*4.448/1000 -> 5.7882436 | M44: =($C$26*M43*(($M$24/(0.02+(4.439*(LN(1/$F$7)^(1/1.483)))))^(1/$M$23)))*4.448/1000 -> 9.9075467 | N44: =($C$26*N43*(($N$24/(0.02+(4.439*(LN(1/$F$7)^(1/1.483)))))^(1/$N$23)))*4.448/1000 -> 9.9075467
H45: 2nd Iteration Bearing | I45: {=IF($I$22="Ball",INDEX(Table2[[ ]],_xlfn.XMATCH(I44,(Table2[[C '[kN']]:[C '[kN']]])*(Table2[[d '[mm']]:[d '[mm']]]>$C$18),1)),INDEX(Table3[[Column4]:[Column4]],_xlfn.XMATCH(I44,(Table3[[C]:[C]])*(Table3[[d]:[d]]>$C$18),1)))} -> 61804 | J45: {=IF($J$22="Ball",INDEX(Table2[[ ]],_xlfn.XMATCH(J44,(Table2[C '[kN']])*(Table2[d '[mm']]>$C$19),1)),INDEX(Table3[Column4],_xlfn.XMATCH(J44,(Table3[C])*(Table3[d]>$C$19),1)))} -> 61802 | K45: {=IF($K$22="Ball",INDEX(Table2[[ ]],_xlfn.XMATCH(K44,(Table2[[C '[kN']]:[C '[kN']]])*(Table2[[d '[mm']]:[d '[mm']]]>$C$20),1)),INDEX(Table3[[Column4]:[Column4]],_xlfn.XMATCH(K44,(Table3[[C]:[C]])*(Table3[[d]:[d]]>$C$20),1)))} -> * 16014 | L45: {=IF($L$22="Ball",INDEX(Table2[[ ]],_xlfn.XMATCH(L44,(Table2[[C '[kN']]:[C '[kN']]])*(Table2[[d '[mm']]:[d '[mm']]]>$C$21),1)),INDEX(Table3[[Column4]:[Column4]],_xlfn.XMATCH(L44,(Table3[[C]:[C]])*(Table3[[d]:[d]]>$C$21),1)))} -> 61809 | M45: {=IF($M$22="Ball",INDEX(Table2[[ ]],_xlfn.XMATCH(M44,(Table2[[C '[kN']]:[C '[kN']]])*(Table2[[d '[mm']]:[d '[mm']]]>$C$22),1)),INDEX(Table3[[Column4]:[Column4]],_xlfn.XMATCH(M44,(Table3[[C]:[C]])*(Table3[[d]:[d]]>$C$22),1)))} -> 61907 | N45: {=IF($N$22="Ball",INDEX(Table2[[ ]],_xlfn.XMATCH(N44,(Table2[C '[kN']])*(Table2[d '[mm']]>$C$23),1)),INDEX(Table3[Column4],_xlfn.XMATCH(N44,(Table3[C])*(Table3[d]>$C$23),1)))} -> 61907
H46: C0 [kN] | I46: {=IF(I$22="Ball",_xlfn.XLOOKUP(I45,Table2[[ ]],Table2[C0 '[kN']]), _xlfn.XLOOKUP(I45,Table3[Column4],Table3[C0]))} -> 2.32 | J46: {=IF(J$22="Ball",_xlfn.XLOOKUP(J45,Table2[[ ]],Table2[C0 '[kN']]), _xlfn.XLOOKUP(J45,Table3[Column4],Table3[C0]))} -> 1.1 | K46: {=IF(K$22="Ball",_xlfn.XLOOKUP(K45,Table2[[ ]],Table2[C0 '[kN']]), _xlfn.XLOOKUP(K45,Table3[Column4],Table3[C0]))} -> 25 | L46: {=IF(L$22="Ball",_xlfn.XLOOKUP(L45,Table2[[ ]],Table2[C0 '[kN']]), _xlfn.XLOOKUP(L45,Table3[Column4],Table3[C0]))} -> 6.1 | M46: {=IF(M$22="Ball",_xlfn.XLOOKUP(M45,Table2[[ ]],Table2[C0 '[kN']]), _xlfn.XLOOKUP(M45,Table3[Column4],Table3[C0]))} -> 7.8 | N46: {=IF(N$22="Ball",_xlfn.XLOOKUP(N45,Table2[[ ]],Table2[C0 '[kN']]), _xlfn.XLOOKUP(N45,Table3[Column4],Table3[C0]))} -> 7.8 | O46: Iteration 3
H47: Fa/C0 | I47: =($C$3*0.004448)/I46 -> 0 | J47: =($C$4*0.004448)/J46 -> 0 | K47: =($C$5*0.004448)/K46 -> 0 | L47: =($C$6*0.004448)/L46 -> 0 | M47: =($C$7*0.004448)/M46 -> 0 | N47: =($C$8*0.004448)/N46 -> 0
H48: e [abscissa] | I48: =IF(I47<0.014, 0.19, (0.5065*I47^0.232)) -> 0.19 | J48: =IF(J47<0.014, 0.19, (0.5065*J47^0.232)) -> 0.19 | K48: =IF(K47<0.014, 0.19, (0.5065*K47^0.232)) -> 0.19 | L48: =IF(L47<0.014, 0.19, (0.5065*L47^0.232)) -> 0.19 | M48: =IF(M47<0.014, 0.19, (0.5065*M47^0.232)) -> 0.19 | N48: =IF(N47<0.014, 0.19, (0.5065*N47^0.232)) -> 0.19
H49: X | I49: =IF(I$32>I48, 0.56, 1) -> 1 | J49: =IF(J$32>J48, 0.56, 1) -> 1 | K49: =IF(K$32>K48, 0.56, 1) -> 1 | L49: =IF(L$32>L48, 0.56, 1) -> 1 | M49: =IF(M$32>M48, 0.56, 1) -> 1 | N49: =IF(N$32>N48, 0.56, 1) -> 1
H50: Y | I50: =IF(I$32>I48,IF(I47>0.014,(0.8632*I47^-0.235),2.3), 0) -> 0 | J50: =IF(J$32>J48,IF(J47>0.014,(0.8632*J47^-0.235),2.3), 0) -> 0 | K50: =IF(K$32>K48,IF(K47>0.014,(0.8632*K47^-0.235),2.3), 0) -> 0 | L50: =IF(L$32>L48,IF(L47>0.014,(0.8632*L47^-0.235),2.3), 0) -> 0 | M50: =IF(M$32>M48,IF(M47>0.014,(0.8632*M47^-0.235),2.3), 0) -> 0 | N50: =IF(N$32>N48,IF(N47>0.014,(0.8632*N47^-0.235),2.3), 0) -> 0
H51: Fe [kN] | I51: =(I49*$I$28*$C$9)+(I50*$C$3) -> 251.51319 | J51: =(J49*$J$28*$C$10)+(J50*$C$4) -> 251.51319 | K51: =(K49*$K$28*$C$11)+(K50*$C$5) -> 5524.8746 | L51: =(L49*$L$28*$C$12)+(L50*$C$6) -> 1126.4527 | M51: =(M49*$M$28*$C$13)+(M50*$C$7) -> 2207.1374 | N51: =(N49*$N$28*$C$14)+(N50*$C$8) -> 2207.1374
H52: Minimum C10 [kN] | I52: =($C$26*I51*(($I$24/(0.02+(4.439*(LN(1/$F$7)^(1/1.483)))))^(1/$I$23)))*4.448/1000 -> 1.8768085 | J52: =($C$26*J51*(($J$24/(0.02+(4.439*(LN(1/$F$7)^(1/1.483)))))^(1/$J$23)))*4.448/1000 -> 1.8768085 | K52: =($C$26*K51*(($K$24/(0.02+(4.439*(LN(1/$F$7)^(1/1.483)))))^(1/$K$23)))*4.448/1000 -> 28.389403 | L52: =($C$26*L51*(($L$24/(0.02+(4.439*(LN(1/$F$7)^(1/1.483)))))^(1/$L$23)))*4.448/1000 -> 5.7882436 | M52: =($C$26*M51*(($M$24/(0.02+(4.439*(LN(1/$F$7)^(1/1.483)))))^(1/$M$23)))*4.448/1000 -> 9.9075467 | N52: =($C$26*N51*(($N$24/(0.02+(4.439*(LN(1/$F$7)^(1/1.483)))))^(1/$N$23)))*4.448/1000 -> 9.9075467
H53: 3rd Iteration Bearing | I53: {=IF($I$22="Ball",INDEX(Table2[[ ]],_xlfn.XMATCH(I52,(Table2[[C '[kN']]:[C '[kN']]])*(Table2[[d '[mm']]:[d '[mm']]]>$C$18),1)),INDEX(Table3[[Column4]:[Column4]],_xlfn.XMATCH(I52,(Table3[[C]:[C]])*(Table3[[d]:[d]]>$C$18),1)))} -> 61804 | J53: {=IF($J$22="Ball",INDEX(Table2[[ ]],_xlfn.XMATCH(J52,(Table2[[C '[kN']]:[C '[kN']]])*(Table2[[d '[mm']]:[d '[mm']]]>$C$19),1)),INDEX(Table3[[Column4]:[Column4]],_xlfn.XMATCH(J52,(Table3[[C]:[C]])*(Table3[[d]:[d]]>$C$19),1)))} -> 61802 | K53: {=IF($K$22="Ball",INDEX(Table2[[ ]],_xlfn.XMATCH(K52,(Table2[[C '[kN']]:[C '[kN']]])*(Table2[[d '[mm']]:[d '[mm']]]>$C$20),1)),INDEX(Table3[[Column4]:[Column4]],_xlfn.XMATCH(K52,(Table3[[C]:[C]])*(Table3[[d]:[d]]>$C$20),1)))} -> * 16014 | L53: {=IF($L$22="Ball",INDEX(Table2[[ ]],_xlfn.XMATCH(L52,(Table2[[C '[kN']]:[C '[kN']]])*(Table2[[d '[mm']]:[d '[mm']]]>$C$21),1)),INDEX(Table3[[Column4]:[Column4]],_xlfn.XMATCH(L52,(Table3[[C]:[C]])*(Table3[[d]:[d]]>$C$21),1)))} -> 61809 | M53: {=IF($M$22="Ball",INDEX(Table2[[ ]],_xlfn.XMATCH(M52,(Table2[[C '[kN']]:[C '[kN']]])*(Table2[[d '[mm']]:[d '[mm']]]>$C$22),1)),INDEX(Table3[[Column4]:[Column4]],_xlfn.XMATCH(M52,(Table3[[C]:[C]])*(Table3[[d]:[d]]>$C$22),1)))} -> 61907 | N53: {=IF($N$22="Ball",INDEX(Table2[[ ]],_xlfn.XMATCH(N52,(Table2[[C '[kN']]:[C '[kN']]])*(Table2[[d '[mm']]:[d '[mm']]]>$C$23),1)),INDEX(Table3[[Column4]:[Column4]],_xlfn.XMATCH(N52,(Table3[[C]:[C]])*(Table3[[d]:[d]]>$C$23),1)))} -> 61907
H54: C0 [kN] | I54: {=IF(I$22="Ball",_xlfn.XLOOKUP(I53,Table2[[ ]],Table2[C0 '[kN']]), _xlfn.XLOOKUP(I53,Table3[Column4],Table3[C0]))} -> 2.32 | J54: {=IF(J$22="Ball",_xlfn.XLOOKUP(J53,Table2[[ ]],Table2[C0 '[kN']]), _xlfn.XLOOKUP(J53,Table3[Column4],Table3[C0]))} -> 1.1 | K54: {=IF(K$22="Ball",_xlfn.XLOOKUP(K53,Table2[[ ]],Table2[C0 '[kN']]), _xlfn.XLOOKUP(K53,Table3[Column4],Table3[C0]))} -> 25 | L54: {=IF(L$22="Ball",_xlfn.XLOOKUP(L53,Table2[[ ]],Table2[C0 '[kN']]), _xlfn.XLOOKUP(L53,Table3[Column4],Table3[C0]))} -> 6.1 | M54: {=IF(M$22="Ball",_xlfn.XLOOKUP(M53,Table2[[ ]],Table2[C0 '[kN']]), _xlfn.XLOOKUP(M53,Table3[Column4],Table3[C0]))} -> 7.8 | N54: {=IF(N$22="Ball",_xlfn.XLOOKUP(N53,Table2[[ ]],Table2[C0 '[kN']]), _xlfn.XLOOKUP(N53,Table3[Column4],Table3[C0]))} -> 7.8 | O54: Iteration 4
H55: Fa/C0 | I55: =($C$3*0.004448)/I54 -> 0 | J55: =($C$4*0.004448)/J54 -> 0 | K55: =($C$5*0.004448)/K54 -> 0 | L55: =($C$6*0.004448)/L54 -> 0 | M55: =($C$7*0.004448)/M54 -> 0 | N55: =($C$8*0.004448)/N54 -> 0
H56: e [abscissa] | I56: =IF(I55<0.014, 0.19, (0.5065*I55^0.232)) -> 0.19 | J56: =IF(J55<0.014, 0.19, (0.5065*J55^0.232)) -> 0.19 | K56: =IF(K55<0.014, 0.19, (0.5065*K55^0.232)) -> 0.19 | L56: =IF(L55<0.014, 0.19, (0.5065*L55^0.232)) -> 0.19 | M56: =IF(M55<0.014, 0.19, (0.5065*M55^0.232)) -> 0.19 | N56: =IF(N55<0.014, 0.19, (0.5065*N55^0.232)) -> 0.19
H57: X | I57: =IF(I$32>I56, 0.56, 1) -> 1 | J57: =IF(J$32>J56, 0.56, 1) -> 1 | K57: =IF(K$32>K56, 0.56, 1) -> 1 | L57: =IF(L$32>L56, 0.56, 1) -> 1 | M57: =IF(M$32>M56, 0.56, 1) -> 1 | N57: =IF(N$32>N56, 0.56, 1) -> 1
H58: Y | I58: =IF(I$32>I56,IF(I55>0.014,(0.8632*I55^-0.235),2.3), 0) -> 0 | J58: =IF(J$32>J56,IF(J55>0.014,(0.8632*J55^-0.235),2.3), 0) -> 0 | K58: =IF(K$32>K56,IF(K55>0.014,(0.8632*K55^-0.235),2.3), 0) -> 0 | L58: =IF(L$32>L56,IF(L55>0.014,(0.8632*L55^-0.235),2.3), 0) -> 0 | M58: =IF(M$32>M56,IF(M55>0.014,(0.8632*M55^-0.235),2.3), 0) -> 0 | N58: =IF(N$32>N56,IF(N55>0.014,(0.8632*N55^-0.235),2.3), 0) -> 0
H59: Fe [kN] | I59: =(I57*$I$28*$C$9)+(I58*$C$3) -> 251.51319 | J59: =(J57*$J$28*$C$10)+(J58*$C$4) -> 251.51319 | K59: =(K57*$K$28*$C$11)+(K58*$C$5) -> 5524.8746 | L59: =(L57*$L$28*$C$12)+(L58*$C$6) -> 1126.4527 | M59: =(M57*$M$28*$C$13)+(M58*$C$7) -> 2207.1374 | N59: =(N57*$N$28*$C$14)+(N58*$C$8) -> 2207.1374
H60: Minimum C10 [kN] | I60: =($C$26*I59*(($I$24/(0.02+(4.439*(LN(1/$F$7)^(1/1.483)))))^(1/$I$23)))*4.448/1000 -> 1.8768085 | J60: =($C$26*J59*(($J$24/(0.02+(4.439*(LN(1/$F$7)^(1/1.483)))))^(1/$J$23)))*4.448/1000 -> 1.8768085 | K60: =($C$26*K59*(($K$24/(0.02+(4.439*(LN(1/$F$7)^(1/1.483)))))^(1/$K$23)))*4.448/1000 -> 28.389403 | L60: =($C$26*L59*(($L$24/(0.02+(4.439*(LN(1/$F$7)^(1/1.483)))))^(1/$L$23)))*4.448/1000 -> 5.7882436 | M60: =($C$26*M59*(($M$24/(0.02+(4.439*(LN(1/$F$7)^(1/1.483)))))^(1/$M$23)))*4.448/1000 -> 9.9075467 | N60: =($C$26*N59*(($N$24/(0.02+(4.439*(LN(1/$F$7)^(1/1.483)))))^(1/$N$23)))*4.448/1000 -> 9.9075467
H61: 4th Iteration Bearing | I61: {=IF($I$22="Ball",INDEX(Table2[[ ]],_xlfn.XMATCH(I60,(Table2[[C '[kN']]:[C '[kN']]])*(Table2[[d '[mm']]:[d '[mm']]]>$C$18),1)),INDEX(Table3[[Column4]:[Column4]],_xlfn.XMATCH(I60,(Table3[[C]:[C]])*(Table3[[d]:[d]]>$C$18),1)))} -> 61804 | J61: {=IF($J$22="Ball",INDEX(Table2[[ ]],_xlfn.XMATCH(J60,(Table2[[C '[kN']]:[C '[kN']]])*(Table2[[d '[mm']]:[d '[mm']]]>$C$19),1)),INDEX(Table3[[Column4]:[Column4]],_xlfn.XMATCH(J60,(Table3[[C]:[C]])*(Table3[[d]:[d]]>$C$19),1)))} -> 61802 | K61: {=IF($K$22="Ball",INDEX(Table2[[ ]],_xlfn.XMATCH(K60,(Table2[[C '[kN']]:[C '[kN']]])*(Table2[[d '[mm']]:[d '[mm']]]>$C$20),1)),INDEX(Table3[[Column4]:[Column4]],_xlfn.XMATCH(K60,(Table3[[C]:[C]])*(Table3[[d]:[d]]>$C$20),1)))} -> * 16014 | L61: {=IF($L$22="Ball",INDEX(Table2[[ ]],_xlfn.XMATCH(L60,(Table2[[C '[kN']]:[C '[kN']]])*(Table2[[d '[mm']]:[d '[mm']]]>$C$21),1)),INDEX(Table3[[Column4]:[Column4]],_xlfn.XMATCH(L60,(Table3[[C]:[C]])*(Table3[[d]:[d]]>$C$21),1)))} -> 61809 | M61: {=IF($M$22="Ball",INDEX(Table2[[ ]],_xlfn.XMATCH(M60,(Table2[[C '[kN']]:[C '[kN']]])*(Table2[[d '[mm']]:[d '[mm']]]>$C$22),1)),INDEX(Table3[[Column4]:[Column4]],_xlfn.XMATCH(M60,(Table3[[C]:[C]])*(Table3[[d]:[d]]>$C$22),1)))} -> 61907 | N61: {=IF($N$22="Ball",INDEX(Table2[[ ]],_xlfn.XMATCH(N60,(Table2[[C '[kN']]:[C '[kN']]])*(Table2[[d '[mm']]:[d '[mm']]]>$C$23),1)),INDEX(Table3[[Column4]:[Column4]],_xlfn.XMATCH(N60,(Table3[[C]:[C]])*(Table3[[d]:[d]]>$C$23),1)))} -> 61907
H62: C0 [kN] | I62: {=IF(I$22="Ball",_xlfn.XLOOKUP(I61,Table2[[ ]],Table2[C0 '[kN']]), _xlfn.XLOOKUP(I61,Table3[Column4],Table3[C0]))} -> 2.32 | J62: {=IF(J$22="Ball",_xlfn.XLOOKUP(J61,Table2[[ ]],Table2[C0 '[kN']]), _xlfn.XLOOKUP(J61,Table3[Column4],Table3[C0]))} -> 1.1 | K62: {=IF(K$22="Ball",_xlfn.XLOOKUP(K61,Table2[[ ]],Table2[C0 '[kN']]), _xlfn.XLOOKUP(K61,Table3[Column4],Table3[C0]))} -> 25 | L62: {=IF(L$22="Ball",_xlfn.XLOOKUP(L61,Table2[[ ]],Table2[C0 '[kN']]), _xlfn.XLOOKUP(L61,Table3[Column4],Table3[C0]))} -> 6.1 | M62: {=IF(M$22="Ball",_xlfn.XLOOKUP(M61,Table2[[ ]],Table2[C0 '[kN']]), _xlfn.XLOOKUP(M61,Table3[Column4],Table3[C0]))} -> 7.8 | N62: {=IF(N$22="Ball",_xlfn.XLOOKUP(N61,Table2[[ ]],Table2[C0 '[kN']]), _xlfn.XLOOKUP(N61,Table3[Column4],Table3[C0]))} -> 7.8 | O62: Iteration 5
H63: Fa/C0 | I63: =($C$3*0.004448)/I62 -> 0 | J63: =($C$4*0.004448)/J62 -> 0 | K63: =($C$5*0.004448)/K62 -> 0 | L63: =($C$6*0.004448)/L62 -> 0 | M63: =($C$7*0.004448)/M62 -> 0 | N63: =($C$8*0.004448)/N62 -> 0
H64: e [abscissa] | I64: =IF(I63<0.014, 0.19, (0.5065*I63^0.232)) -> 0.19 | J64: =IF(J63<0.014, 0.19, (0.5065*J63^0.232)) -> 0.19 | K64: =IF(K63<0.014, 0.19, (0.5065*K63^0.232)) -> 0.19 | L64: =IF(L63<0.014, 0.19, (0.5065*L63^0.232)) -> 0.19 | M64: =IF(M63<0.014, 0.19, (0.5065*M63^0.232)) -> 0.19 | N64: =IF(N63<0.014, 0.19, (0.5065*N63^0.232)) -> 0.19
H65: X | I65: =IF(I$32>I64, 0.56, 1) -> 1 | J65: =IF(J$32>J64, 0.56, 1) -> 1 | K65: =IF(K$32>K64, 0.56, 1) -> 1 | L65: =IF(L$32>L64, 0.56, 1) -> 1 | M65: =IF(M$32>M64, 0.56, 1) -> 1 | N65: =IF(N$32>N64, 0.56, 1) -> 1
H66: Y | I66: =IF(I$32>I64,IF(I63>0.014,(0.8632*I63^-0.235),2.3), 0) -> 0 | J66: =IF(J$32>J64,IF(J63>0.014,(0.8632*J63^-0.235),2.3), 0) -> 0 | K66: =IF(K$32>K64,IF(K63>0.014,(0.8632*K63^-0.235),2.3), 0) -> 0 | L66: =IF(L$32>L64,IF(L63>0.014,(0.8632*L63^-0.235),2.3), 0) -> 0 | M66: =IF(M$32>M64,IF(M63>0.014,(0.8632*M63^-0.235),2.3), 0) -> 0 | N66: =IF(N$32>N64,IF(N63>0.014,(0.8632*N63^-0.235),2.3), 0) -> 0
H67: Fe [kN] | I67: =(I65*$I$28*$C$9)+(I66*$C$3) -> 251.51319 | J67: =(J65*$J$28*$C$10)+(J66*$C$4) -> 251.51319 | K67: =(K65*$K$28*$C$11)+(K66*$C$5) -> 5524.8746 | L67: =(L65*$L$28*$C$12)+(L66*$C$6) -> 1126.4527 | M67: =(M65*$M$28*$C$13)+(M66*$C$7) -> 2207.1374 | N67: =(N65*$N$28*$C$14)+(N66*$C$8) -> 2207.1374
H68: Minimum C10 [kN] | I68: =($C$26*I67*(($I$24/(0.02+(4.439*(LN(1/$F$7)^(1/1.483)))))^(1/$I$23)))*4.448/1000 -> 1.8768085 | J68: =($C$26*J67*(($J$24/(0.02+(4.439*(LN(1/$F$7)^(1/1.483)))))^(1/$J$23)))*4.448/1000 -> 1.8768085 | K68: =($C$26*K67*(($K$24/(0.02+(4.439*(LN(1/$F$7)^(1/1.483)))))^(1/$K$23)))*4.448/1000 -> 28.389403 | L68: =($C$26*L67*(($L$24/(0.02+(4.439*(LN(1/$F$7)^(1/1.483)))))^(1/$L$23)))*4.448/1000 -> 5.7882436 | M68: =($C$26*M67*(($M$24/(0.02+(4.439*(LN(1/$F$7)^(1/1.483)))))^(1/$M$23)))*4.448/1000 -> 9.9075467 | N68: =($C$26*N67*(($N$24/(0.02+(4.439*(LN(1/$F$7)^(1/1.483)))))^(1/$N$23)))*4.448/1000 -> 9.9075467
H69: 5th Iteration Bearing | I69: {=IF($I$22="Ball",INDEX(Table2[[ ]],_xlfn.XMATCH(I68,(Table2[[C '[kN']]:[C '[kN']]])*(Table2[[d '[mm']]:[d '[mm']]]>$C$18),1)),INDEX(Table3[[Column4]:[Column4]],_xlfn.XMATCH(I68,(Table3[[C]:[C]])*(Table3[[d]:[d]]>$C$18),1)))} -> 61804 | J69: {=IF($J$22="Ball",INDEX(Table2[[ ]],_xlfn.XMATCH(J68,(Table2[[C '[kN']]:[C '[kN']]])*(Table2[[d '[mm']]:[d '[mm']]]>$C$19),1)),INDEX(Table3[[Column4]:[Column4]],_xlfn.XMATCH(J68,(Table3[[C]:[C]])*(Table3[[d]:[d]]>$C$19),1)))} -> 61802 | K69: {=IF($K$22="Ball",INDEX(Table2[[ ]],_xlfn.XMATCH(K68,(Table2[[C '[kN']]:[C '[kN']]])*(Table2[[d '[mm']]:[d '[mm']]]>$C$20),1)),INDEX(Table3[[Column4]:[Column4]],_xlfn.XMATCH(K68,(Table3[[C]:[C]])*(Table3[[d]:[d]]>$C$20),1)))} -> * 16014 | L69: {=IF($L$22="Ball",INDEX(Table2[[ ]],_xlfn.XMATCH(L68,(Table2[[C '[kN']]:[C '[kN']]])*(Table2[[d '[mm']]:[d '[mm']]]>$C$21),1)),INDEX(Table3[[Column4]:[Column4]],_xlfn.XMATCH(L68,(Table3[[C]:[C]])*(Table3[[d]:[d]]>$C$21),1)))} -> 61809 | M69: {=IF($M$22="Ball",INDEX(Table2[[ ]],_xlfn.XMATCH(M68,(Table2[[C '[kN']]:[C '[kN']]])*(Table2[[d '[mm']]:[d '[mm']]]>$C$22),1)),INDEX(Table3[[Column4]:[Column4]],_xlfn.XMATCH(M68,(Table3[[C]:[C]])*(Table3[[d]:[d]]>$C$22),1)))} -> 61907 | N69: {=IF($N$22="Ball",INDEX(Table2[[ ]],_xlfn.XMATCH(N68,(Table2[[C '[kN']]:[C '[kN']]])*(Table2[[d '[mm']]:[d '[mm']]]>$C$23),1)),INDEX(Table3[[Column4]:[Column4]],_xlfn.XMATCH(N68,(Table3[[C]:[C]])*(Table3[[d]:[d]]>$C$23),1)))} -> 61907
H70: Expand rows to view iterations
H71: Axial Load On Roller Bearing Check | I71: =IF(I22="Roller", IF(C3>0,"Warning","Pass"),"Pass") -> Pass | J71: =IF(J22="Roller", IF(C4>0,"Warning","Pass"),"Pass") -> Pass | K71: =IF(K22="Roller", IF(C5>0,"Warning","Pass"),"Pass") -> Pass | L71: =IF(L22="Roller", IF(C6>0,"Warning","Pass"),"Pass") -> Pass | M71: =IF(M22="Roller", IF(C7>0,"Warning","Pass"),"Pass") -> Pass | N71: =IF(N22="Roller", IF(C8>0,"Warning","Pass"),"Pass") -> Pass
H72: Chosen Bearing | I72: =IF(I22=J22,IF($C$28=FALSE,I69,IF(IF(I$22="Ball",_xlfn.XLOOKUP(I69,Table2[[ ]],Table2[C '[kN']]), _xlfn.XLOOKUP(I69,Table3[Column4],Table3[C]))>J68,I69,J69)),I69) -> 61804 | J72: =IF(I22=J22,IF($C$28=FALSE,J69,IF(IF(I$22="Ball",_xlfn.XLOOKUP(I69,Table2[[ ]],Table2[C '[kN']]), _xlfn.XLOOKUP(I69,Table3[Column4],Table3[C]))>J68,I69,J69)),J69) -> 61802 | K72: =IF(K22=L22,IF($C$28=FALSE,K69,IF(IF(K$22="Ball",_xlfn.XLOOKUP(K69,Table2[[ ]],Table2[C '[kN']]), _xlfn.XLOOKUP(K69,Table3[Column4],Table3[C]))>L68,K69,L69)),K69) -> * 16014 | L72: =IF(K22=L22,IF($C$28=FALSE,L69,IF(IF(K$22="Ball",_xlfn.XLOOKUP(K69,Table2[[ ]],Table2[C '[kN']]), _xlfn.XLOOKUP(K69,Table3[Column4],Table3[C]))>L68,K69,L69)),L69) -> 61809 | M72: =IF(M22=N22,IF($C$28=FALSE,M69,IF(IF(M$22="Ball",_xlfn.XLOOKUP(M69,Table2[[ ]],Table2[C '[kN']]), _xlfn.XLOOKUP(M69,Table3[Column4],Table3[C]))>N68,M69,N69)),M69) -> 61907 | N72: =IF(M22=N22,IF($C$28=FALSE,N69,IF(IF(M$22="Ball",_xlfn.XLOOKUP(M69,Table2[[ ]],Table2[C '[kN']]), _xlfn.XLOOKUP(M69,Table3[Column4],Table3[C]))>N68,M69,N69)),N69) -> 61907

Sheet Report_Template
G2: Design Summary Report | P2: Reported Fields
T4: units | U4: Gear 2 | V4: Gear 3 | W4: Gear 4 | X4: Gear 5
S5: Gear Definition | Z5: e2,3 | AA5: e3,4 | AB5: eoverall
S6: N | T6: - | U6: =Gears!U30 -> 64 | V6: =Gears!U31 -> 196 | W6: =Gears!U35 -> 60 | X6: =Gears!U36 -> 90 | Z6: =U6/V6 -> 0.32653061 | AA6: =W6/X6 -> 0.66666667 | AB6: =Z6*AA6 -> 0.21768707
S7: P | T7: 1/in | U7: =Gears!U27 -> 12 | W7: =Gears!U28 -> 16 | Z7: * e=Ninput/Noutput=ωoutput/ωinput
S8: d | T8: in | U8: =Gears!U40 -> 5.3333333 | V8: =Gears!U41 -> 16.333333 | W8: =Gears!U42 -> 3.75 | X8: =Gears!U43 -> 5.625
S9: F | T9: in | U9: =Gears!R50 -> 0.75 | W9: =Gears!T50 -> 1.75
S10: Qv | T10: - | U10: =Gears!P13 -> 7 | W10: =Gears!Q13 -> 7
S11: Gear Material, Bending and Contact Stress
S12: Wt | T12: lbf | U12: =Gears!D4 -> 472.69018 | V12: =Gears!E4 -> 472.69018 | W12: =Gears!F4 -> 2058.8283 | X12: =Gears!G4 -> 2058.8283 | Z12: Gear 2,3 Material
S13: σb | T13: psi | U13: =Gears!D5 -> 9927.8833 | V13: =Gears!E5 -> 29163.157 | W13: =Gears!F5 -> 13704.302 | X13: =Gears!G5 -> 20119.081 | Z13: Name: | AA13: Steel, Nitrided, 2.5% Chrome, G3
S14: SF | T14: psi | U14: =Gears!D6 -> 7.254008 | V14: =Gears!E6 -> 2.7059052 | W14: =Gears!F6 -> 5.7582458 | X14: =Gears!G6 -> 4.0543909 | Z14: St: | AA14: =Gears!J6 -> 60840 | AB14: psi
S15: σc | T15: psi | U15: =Gears!D7 -> 84637.193 | V15: =Gears!E7 -> 84637.193 | W15: =Gears!F7 -> 156828.35 | X15: =Gears!G7 -> 156828.35 | Z15: Sc: | AA15: =Gears!J7 -> 189000 | AB15: psi
S16: SH | T16: psi | U16: =Gears!D8 -> 2.3167148 | V16: =Gears!E8 -> 2.3527752 | W16: =Gears!F8 -> 1.2697468 | X16: =Gears!G8 -> 1.2768715 | Z16: Gear 4,5 Material
S17: J | T17: - | U17: =Gears!D9 -> 0.47 | V17: =Gears!E9 -> 0.49 | W17: =Gears!F9 -> 0.46 | X17: =Gears!G9 -> 0.47 | Z17: Name: | AA17: Steel, Nitrided, 2.5% Chrome, G3
S18: I | T18: - | U18: =Gears!D10 -> 0.12114074 | V18: =Gears!E10 -> 0.12114074 | W18: =Gears!F10 -> 0.096418141 | X18: =Gears!G10 -> 0.096418141 | Z18: St: | AA18: =Gears!J10 -> 60840 | AB18: psi
S19: Cp | T19: - | U19: =Gears!D11 -> 2300 | Z19: Sc: | AA19: =Gears!J11 -> 189000 | AB19: psi
G20: Shaft Defininition | L20: Shaft Orientation(s) | S20: Vline | T20: fpm | U20: =Gears!D12 -> 13.962634 | W20: =Gears!F12 -> 3.2057068
G21: Material | H21: {=INDEX(Shafts!AH3:AH45,Shafts!AF6)} -> 1095 Normalized | I21: =$H$21 -> 1095 Normalized | J21: =$H$21 -> 1095 Normalized | K21: =$H$21 -> 1095 Normalized | L21: Cin,layshaft | M21: =Gears!U46 -> 10.833333 | N21: in | S21: Kv | T21: - | U21: =Gears!D13 -> 1.0416655 | V21: =Gears!E13 -> 1.0416655 | W21: =Gears!F13 -> 1.0200425 | X21: =Gears!G13 -> 1.0200425
G22: Su | H22: =Shafts!B10 -> 147 | I22: kpsi | L22: Clayshaft,out | M22: =Gears!U47 -> 4.6875 | N22: in | S22: Ko | T22: - | U22: =Gears!D14 -> 1.25
G23: Sy | H23: =Shafts!B12 -> 72 | I23: kpsi | L23: Cin,out | M23: =Gears!U7 -> 8 | N23: in | S23: Ks | T23: - | U23: =Gears!D15 -> 1 | V23: =Gears!E15 -> 1 | W23: =Gears!F15 -> 1 | X23: =Gears!G15 -> 1
G24: Se | H24: =Shafts!B25 -> 46.471088 | I24: kpsi | L24: θin,out | M24: =Gears!U45 -> 42.11948 | N24: deg | S24: Km | T24: - | U24: =Gears!D16 -> 1.0661104 | V24: =Gears!E16 -> 1.0661104 | W24: =Gears!F16 -> 1.1206581 | X24: =Gears!G16 -> 1.1206581
G25: Gear Torque Transmission (K - endmill keyseat, S - spline, O - other, indicate in notes) | S25: YN | T25: - | U25: =Gears!D17 -> 1.1860347 | V25: =Gears!E17 -> 1.2996004 | W25: =Gears!F17 -> 1.2996004 | X25: =Gears!G17 -> 1.3433726
H26: Gear 2 | I26: Gear 3 | J26: Gear 4 | K26: Gear 5 | S26: ZN | T26: - | U26: =Gears!D18 -> 1.0394987 | V26: =Gears!E18 -> 1.0556788 | W26: =Gears!F18 -> 1.0556788 | X26: =Gears!G18 -> 1.0616023
G27: K,S,O | H27: K | I27: K | J27: K | K27: K | S27: KR | T27: - | U27: =Gears!D19 -> 1.0019636
G28: note: | S28: KT | T28: - | U28: =Gears!D20 -> 1
G29: Output Shaft | S29: KB | T29: - | U29: =Gears!D21 -> 1
H30: units | I30: L1 | J30: L2 | K30: L3 | L30: L4 | S30: CH | T30: - | U30: =Gears!D22 -> 1 | V30: =Gears!E22 -> 1 | W30: =Gears!F22 -> 1 | X30: =Gears!G22 -> 1
G31: Length | H31: in | I31: =Loads!C40 -> 0.453 | J31: 1 | K31: 1 | L31: 0.453 | S31: Bearings
G32: d | H32: in | I32: =Shafts!I46 -> 0.97873163 | J32: =Shafts!J46 -> 1.4118771 | K32: =Shafts!J46 -> 1.4118771 | L32: =Shafts!K46 -> 0.97873163 | U32: A | V32: B | W32: C | X32: D | Y32: E | Z32: F
S33: Wr | T33: kN | U33: =Bearings!I3 -> 1.1187307 | V33: =Bearings!J3 -> 1.1187307 | W33: =Bearings!K3 -> 24.574642 | X33: =Bearings!L3 -> 5.0104616 | Y33: =Bearings!M3 -> 9.8173474 | Z33: =Bearings!N3 -> 9.8173474
S34: Wa | T34: kN | U34: =Bearings!I4 -> 0 | V34: =Bearings!J4 -> 0 | W34: =Bearings!K4 -> 0 | X34: =Bearings!L4 -> 0 | Y34: =Bearings!M4 -> 0 | Z34: =Bearings!N4 -> 0
S35: i.d. | T35: mm | U35: =Bearings!I5 -> 20 | V35: =Bearings!J5 -> 15 | W35: =Bearings!K5 -> 70 | X35: =Bearings!L5 -> 45 | Y35: =Bearings!M5 -> 35 | Z35: =Bearings!N5 -> 35
S36: o.d. | T36: mm | U36: =Bearings!I6 -> 32 | V36: =Bearings!J6 -> 24 | W36: =Bearings!K6 -> 110 | X36: =Bearings!L6 -> 58 | Y36: =Bearings!M6 -> 55 | Z36: =Bearings!N6 -> 55
G37: n.d.min | H37: 1.5 | S37: width | T37: mm | U37: =Bearings!I7 -> 7 | V37: =Bearings!J7 -> 5 | W37: =Bearings!K7 -> 13 | X37: =Bearings!L7 -> 7 | Y37: =Bearings!M7 -> 10 | Z37: =Bearings!N7 -> 10
G38: Location | H38: At both bearing E and F and at the gear | S38: bearing | T38: e.g. 62003 | U38: =Bearings!I8 -> 61804 | V38: =Bearings!J8 -> 61802 | W38: =Bearings!K8 -> * 16014 | X38: =Bearings!L8 -> 61809 | Y38: =Bearings!M8 -> 61907 | Z38: =Bearings!N8 -> 61907
G39: Criteria | H39: Goodman
G40: note: | H40: Spacers are used in between bearing and gears
G41: Layshaft
H42: units | I42: L1 | J42: L2 | K42: L3 | L42: L4 | M42: L5
G43: Length | H43: in | I43: =Loads!C28 -> 0.945 | J43: 0.5 | K43: 1.375 | L43: 1 | M43: 0.355
G44: d | H44: in | I44: =Shafts!E46 -> 1.3886596 | J44: =Shafts!F46 -> 1.8113416 | K44: =Shafts!F46 -> 1.8113416 | L44: =Shafts!G46 -> 2.2254861 | M44: =Shafts!H46 -> 1.2919256
G49: n.d.min | H49: 1.5
G50: Location | H50: At both bearings
G51: Criteria | H51: Goodman
G52: note: | H52: Spacers used between bearings and gears
G53: Input Shaft
H54: units | I54: L1 | J54: L2 | K54: L3 | L54: L4
G55: Length | H55: in | I55: =Loads!C19 -> 0.197 | J55: 0.5 | K55: 0.5 | L55: 0.197
G56: d | H56: in | I56: =Shafts!B46 -> 0.7 | J56: =Shafts!C46 -> 0.86 | K56: =Shafts!C46 -> 0.86 | L56: =Shafts!D46 -> 0.29400409
G61: n.d.min | H61: =MIN(Shafts!B53:D53) -> 1.5380948
G62: Location | H62: At gear 2
G63: Criteria | H63: 1st-cycle yield
G64: note: | H64: Spacers used between bearings and gears

Sheet Shafts-SC-Tables

Sheet Shafts-Fatigue Tables

Sheet Ball_Roller_Brgs
A1: Ma | AT1: d
B2: Single row deep groove ball bearings | Y2: Single row cylindrical roller bearings
B3: (adapted from SKF-rolling-bearings-catalogue.pdf) | Y3: (adapted from SKF-rolling-bearings-catalogue.pdf)
B5: Sample Data Range Lookup | Y5: Sample Data Range Lookup
B6: Combo Box/Vlookup | C6: ID | D6: OD | E6: C | F6: C0 | G6: Designation | Y6: Combo Box/Vlookup | Z6: ID | AA6: OD | AB6: C | AC6: C0 | AD6: Designation
A7: 0 | C7: =VLOOKUP(A7,$A$15:$V$261,3) -> #N/A | D7: =VLOOKUP(A7,$A$15:$V$261,4) -> #N/A | E7: =VLOOKUP(A7,$A$15:$V$261,6) -> #N/A | F7: =VLOOKUP(A7,$A$15:$V$261,7) -> #N/A | G7: =VLOOKUP(A7,$A$15:$V$261,12) -> #N/A | X7: 8 | Z7: =VLOOKUP(X7,$X$15:$AX$153,3) -> #N/A | AA7: =VLOOKUP(X7,$X$15:$AX$153,4) -> #N/A | AB7: =VLOOKUP(X7,$X$15:$AX$153,6) -> #N/A | AC7: =VLOOKUP(X7,$X$15:$AX$153,7) -> #N/A | AD7: =VLOOKUP(X7,$X$15:$AX$153,12) -> #N/A
B9: Index Method (ID and OD known)* | C9: 5 | D9: 11 | E9: {=INDEX(F14:F260,MATCH($C$9&$D$9,$C$14:$C$260&$D$14:$D$260,0))} -> 0.468 | F9: {=INDEX(G14:G260,MATCH($C$9&$D$9,$C$14:$C$260&$D$14:$D$260,0))} -> 0.143 | G9: {=INDEX(L14:L260,MATCH($C$9&$D$9,$C$14:$C$260&$D$14:$D$260,0))} -> 618/5 | Y9: Index Method (ID and OD known)* | Z9: 17 | AA9: 40 | AB9: {=INDEX(#REF!,MATCH($Z$9&$AA$9,$Z$14:$Z$99&$AA$14:$AA$99,0))} -> #REF! | AC9: {=INDEX(#REF!,MATCH($Z$9&$AA$9,$Z$14:$Z$99&$AA$14:$AA$99,0))} -> #REF! | AD9: {=INDEX(#REF!,MATCH($Z$9&$AA$9,$Z$14:$Z$99&$AA$14:$AA$99,0))} -> #REF!
B10: * this is an array function - use ctrl-shift-enter after modifying equation | Y10: * this is an array function - use ctrl-shift-enter after modifying equation
BC11: Equivalent Load
C12: Principle Dimensions | F12: Basic Load Ratings | H12: Fatigue Load Limit | I12: Speed Ratings | K12: Mass | L12: Designation | M12: Dimensions | R12: Abutment and fillet dimensions | U12: Calculation Factors | Z12: Principle Dimensions | AC12: Basic Load Ratings | AE12: Fatigue Load Limit | AF12: Speed Ratings | AH12: Mass | AI12: Designation | AK12: Dimensions | AR12: Abutment and fillet dimensions | AX12: Calculation Factors | BE12: Fa/V*Fr<e | BG12: Fa/V*Fr>e
C13: d [mm] | D13: D [mm]2 | E13: B [mm] | F13: C [kN] | G13: C0 [kN] | H13: Pu [Kn] | I13: Reference Speed [rpm] | J13: Limit Speed [rpm] | K13: [kg] | M13: d | N13: d1 | O13: D12 | P13: D2 | Q13: r1.2min | R13: da.min | S13: Da.max | T13: ra.max | U13: kr | V13: f0 | Z13: d | AA13: D2 | AB13: B | AC13: C | AD13: C0 | AE13: Pu | AF13: Reference Speed | AG13: Limit Speed | AH13: Column3 | AI13: Column4 | AJ13: Column5 | AK13: d6 | AL13: d1 | AM13: D17 | AN13: F.E | AO13: r1.2min | AP13: r3.4min | AQ13: S1 | AR13: da.min | AS13: da.max | AT13: da.Da.min | AU13: Da.max8 | AV13: ra.max | AW13: rb.max | AX13: kr | BC13: Fa/C0 | BD13: e | BE13: X1 | BF13: Y1 | BG13: X2 | BH13: Y2
B14: =CONCATENATE("ID/OD(mm): ",C14,"/",D14,", C/C0(kN): ",F14,"/",G14) -> ID/OD(mm): 4/9, C/C0(kN): 0.423/0.116 | C14: 4 | D14: 9 | E14: 2.5 | F14: 0.423 | G14: 0.116 | H14: 0.005 | I14: 140000 | J14: 85000 | K14: 0.0007 | L14: 618/4 | M14: 3 | N14: 5.2 | O14: 7.5 | P14: 8.2 | Q14: 0.15 | R14: 4.2 | S14: 8.8 | T14: 0.1 | U14: 0.025 | V14: 7.5 | Y14: ID/OD(mm): 15/35, C/C0(kN): 12.5/10.2 | Z14: 15 | AA14: 35 | AB14: 11 | AC14: 12.5 | AD14: 10.2 | AE14: 1.22 | AF14: 22000 | AG14: 26000 | AH14: 0.047 | AI14: NU202ECPPHA | AK14: 15 | AL14: – | AM14: 27.9 | AN14: 19.3 | AO14: 0.6 | AP14: 0.3 | AQ14: 1 | AR14: 17.4 | AS14: 18.4 | AT14: 21 | AU14: 31.3 | AV14: 0.6 | AW14: 0.3 | AX14: 0.15 | BC14: 0.014 | BD14: 0.19 | BE14: 1 | BF14: 0 | BG14: 0.56 | BH14: 2.3
B15: =CONCATENATE("ID/OD(mm): ",C15,"/",D15,", C/C0(kN): ",F15,"/",G15) -> ID/OD(mm): 5/11, C/C0(kN): 0.468/0.143 | C15: 5 | D15: 11 | E15: 3 | F15: 0.468 | G15: 0.143 | H15: 0.006 | I15: 120000 | J15: 75000 | K15: 0.0012 | L15: 618/5 | N15: 8.4 | O15: 12 | P15: 13.3 | Q15: 0.3 | R15: 6.4 | S15: 13.6 | T15: 0.3 | U15: 0.03 | V15: 8.4 | Y15: ID/OD(mm): 17/40, C/C0(kN): 17.2/14.3 | Z15: 17 | AA15: 40 | AB15: 12 | AC15: 17.2 | AD15: 14.3 | AE15: 1.73 | AF15: 19000 | AG15: 22000 | AH15: 0.068 | AI15: NU203ECPPHA | AK15: 17 | AL15: – | AM15: 32.4 | AN15: 22.1 | AO15: 0.6 | AP15: 0.3 | AQ15: 1 | AR15: 19.9 | AS15: 21.1 | AT15: 24 | AU15: 36 | AV15: 0.6 | AW15: 0.3 | AX15: 0.15 | BC15: 0.021 | BD15: 0.21 | BE15: 1 | BF15: 0 | BG15: 0.56 | BH15: 2.15
B16: =CONCATENATE("ID/OD(mm): ",C16,"/",D16,", C/C0(kN): ",F16,"/",G16) -> ID/OD(mm): 3/10, C/C0(kN): 0.54/0.18 | C16: 3 | D16: 10 | E16: 4 | F16: 0.54 | G16: 0.18 | H16: 0.007 | I16: 130000 | J16: 80000 | K16: 0.0015 | L16: 623 | Y16: ID/OD(mm): 17/40, C/C0(kN): 23.8/21.6 | Z16: 17 | AA16: 40 | AB16: 16 | AC16: 23.8 | AD16: 21.6 | AE16: 2.65 | AF16: 19000 | AG16: 22000 | AH16: 0.087 | AI16: NU2203ECP– | AL16: – | AM16: 32.4 | AN16: 22.1 | AO16: 0.6 | AP16: 0.3 | AQ16: 1.5 | AR16: 19.9 | AS16: 21.1 | AT16: 24 | AU16: 36 | AV16: 0.6 | AW16: 0.3 | AX16: 0.2 | BC16: 0.028 | BD16: 0.22 | BE16: 1 | BF16: 0 | BG16: 0.56 | BH16: 1.99
B17: =CONCATENATE("ID/OD(mm): ",C17,"/",D17,", C/C0(kN): ",F17,"/",G17) -> ID/OD(mm): 4/11, C/C0(kN): 0.624/0.18 | C17: 4 | D17: 11 | E17: 4 | F17: 0.624 | G17: 0.18 | H17: 0.008 | I17: 130000 | J17: 80000 | K17: 0.0017 | L17: 619/4 | M17: 4 | N17: 5.2 | O17: 7.5 | P17: – | Q17: 0.1 | R17: 4.6 | S17: 8.4 | T17: 0.1 | U17: 0.015 | V17: 6.5 | Y17: ID/OD(mm): 17/47, C/C0(kN): 28.5/20.4 | Z17: 17 | AA17: 47 | AB17: 14 | AC17: 28.5 | AD17: 20.4 | AE17: 2.55 | AF17: 15000 | AG17: 20000 | AH17: 0.12 | AI17: *NU303ECP– | AL17: – | AM17: 37 | AN17: 24.2 | AO17: 1 | AP17: 0.6 | AQ17: 1 | AR17: 21.1 | AS17: 23.1 | AT17: 26 | AU17: 41.7 | AV17: 1 | AW17: 0.6 | AX17: 0.15 | BC17: 0.042 | BD17: 0.24 | BE17: 1 | BF17: 0 | BG17: 0.56 | BH17: 1.85
B18: =CONCATENATE("ID/OD(mm): ",C18,"/",D18,", C/C0(kN): ",F18,"/",G18) -> ID/OD(mm): 6/13, C/C0(kN): 0.715/0.224 | C18: 6 | D18: 13 | E18: 3.5 | F18: 0.715 | G18: 0.224 | H18: 0.01 | I18: 110000 | J18: 67000 | K18: 0.002 | L18: 618/6 | N18: 11.1 | O18: 15.2 | P18: 16.5 | Q18: 0.3 | R18: 7.4 | S18: 16.6 | T18: 0.3 | U18: 0.03 | V18: 13 | Y18: ID/OD(mm): 20/47, C/C0(kN): 28.5/22 | Z18: 20 | AA18: 47 | AB18: 14 | AC18: 28.5 | AD18: 22 | AE18: 2.75 | AF18: 16000 | AG18: 19000 | AH18: 0.11 | AI18: *NU204ECPML.PHA | AK18: 20 | AL18: – | AM18: 38.8 | AN18: 26.5 | AO18: 1 | AP18: 0.6 | AQ18: 1 | AR18: 24 | AS18: 25.4 | AT18: 28 | AU18: 41.7 | AV18: 1 | AW18: 0.6 | AX18: 0.15 | BC18: 0.056 | BD18: 0.26 | BE18: 1 | BF18: 0 | BG18: 0.56 | BH18: 1.71
B19: =CONCATENATE("ID/OD(mm): ",C19,"/",D19,", C/C0(kN): ",F19,"/",G19) -> ID/OD(mm): 7/14, C/C0(kN): 0.78/0.26 | C19: 7 | D19: 14 | E19: 3.5 | F19: 0.78 | G19: 0.26 | H19: 0.011 | I19: 100000 | J19: 63000 | K19: 0.0022 | L19: 618/7 | N19: 11.1 | O19: 15.2 | P19: 16.5 | Q19: 0.3 | R19: 8.4 | S19: 16.6 | T19: 0.3 | U19: 0.025 | V19: 13 | Y19: ID/OD(mm): 20/47, C/C0(kN): 34.5/27.5 | Z19: 20 | AA19: 47 | AB19: 18 | AC19: 34.5 | AD19: 27.5 | AE19: 3.45 | AF19: 16000 | AG19: 19000 | AH19: 0.14 | AI19: *NU2204ECP– | AL19: – | AM19: 38.8 | AN19: 26.5 | AO19: 1 | AP19: 0.6 | AQ19: 2 | AR19: 24 | AS19: 25.4 | AT19: 28 | AU19: 41.7 | AV19: 1 | AW19: 0.6 | AX19: 0.2 | BC19: 0.07 | BD19: 0.27 | BE19: 1 | BF19: 0 | BG19: 0.56 | BH19: 1.63
B20: =CONCATENATE("ID/OD(mm): ",C20,"/",D20,", C/C0(kN): ",F20,"/",G20) -> ID/OD(mm): 4/12, C/C0(kN): 0.806/0.28 | C20: 4 | D20: 12 | E20: 4 | F20: 0.806 | G20: 0.28 | H20: 0.012 | I20: 120000 | J20: 75000 | K20: 0.0021 | L20: 604 | N20: 6.1 | O20: 9 | P20: 9.9 | Q20: 0.15 | R20: 4.8 | S20: 10.2 | T20: 0.1 | U20: 0.02 | V20: 6.4 | Y20: ID/OD(mm): 20/52, C/C0(kN): 35.5/26 | Z20: 20 | AA20: 52 | AB20: 15 | AC20: 35.5 | AD20: 26 | AE20: 3.25 | AF20: 15000 | AG20: 18000 | AH20: 0.15 | AI20: *NU304ECP– | AL20: 31.2 | AM20: 42.4 | AN20: 27.5 | AO20: 1.1 | AP20: 0.6 | AQ20: 0.9 | AR20: 24.1 | AS20: 26.2 | AT20: 29 | AU20: 45.4 | AV20: 1 | AW20: 0.6 | AX20: 0.15 | BC20: 0.084 | BD20: 0.28 | BE20: 1 | BF20: 0 | BG20: 0.56 | BH20: 1.55
B21: =CONCATENATE("ID/OD(mm): ",C21,"/",D21,", C/C0(kN): ",F21,"/",G21) -> ID/OD(mm): 8/16, C/C0(kN): 0.819/0.3 | C21: 8 | D21: 16 | E21: 4 | F21: 0.819 | G21: 0.3 | H21: 0.012 | I21: 90000 | J21: 56000 | K21: 0.003 | L21: 618/8 | N21: 12.1 | O21: 17.6 | P21: 19.2 | Q21: 0.3 | R21: 9.4 | S21: 19.6 | T21: 0.3 | U21: 0.025 | V21: 12 | Y21: ID/OD(mm): 20/52, C/C0(kN): 47.5/38 | Z21: 20 | AA21: 52 | AB21: 21 | AC21: 47.5 | AD21: 38 | AE21: 4.8 | AF21: 15000 | AG21: 18000 | AH21: 0.21 | AI21: *NU2304ECP– | AL21: – | AM21: 42.4 | AN21: 27.5 | AO21: 1.1 | AP21: 0.6 | AQ21: 1.9 | AR21: 24.1 | AS21: 26.2 | AT21: 29 | AU21: 45.4 | AV21: 1 | AW21: 0.6 | AX21: 0.25 | BC21: 0.11 | BD21: 0.3 | BE21: 1 | BF21: 0 | BG21: 0.56 | BH21: 1.45
B22: =CONCATENATE("ID/OD(mm): ",C22,"/",D22,", C/C0(kN): ",F22,"/",G22) -> ID/OD(mm): 9/17, C/C0(kN): 0.871/0.34 | C22: 9 | D22: 17 | E22: 4 | F22: 0.871 | G22: 0.34 | H22: 0.014 | I22: 85000 | J22: 53000 | K22: 0.0034 | L22: 618/9 | N22: 14.4 | O22: 19.8 | P22: 21.2 | Q22: 0.3 | R22: 10.4 | S22: 21.6 | T22: 0.3 | U22: 0.025 | V22: 13 | Y22: ID/OD(mm): 25/47, C/C0(kN): 14.2/13.2 | Z22: 25 | AA22: 47 | AB22: 12 | AC22: 14.2 | AD22: 13.2 | AE22: 1.4 | AF22: 18000 | AG22: 18000 | AH22: 0.083 | AI22: NU1005– | AK22: 25 | AL22: – | AM22: 38.8 | AN22: 30.5 | AO22: 0.6 | AP22: 0.3 | AQ22: 2 | AR22: 27.1 | AS22: 29.5 | AT22: 32 | AU22: 43.1 | AV22: 0.6 | AW22: 0.3 | AX22: 0.1 | BC22: 0.17 | BD22: 0.34 | BE22: 1 | BF22: 0 | BG22: 0.56 | BH22: 1.31
B23: =CONCATENATE("ID/OD(mm): ",C23,"/",D23,", C/C0(kN): ",F23,"/",G23) -> ID/OD(mm): 5/13, C/C0(kN): 0.884/0.335 | C23: 5 | D23: 13 | E23: 4 | F23: 0.884 | G23: 0.335 | H23: 0.014 | I23: 110000 | J23: 70000 | K23: 0.0025 | L23: 619/5 | M23: 5 | N23: 6.8 | O23: 9.2 | P23: – | Q23: 0.15 | R23: 5.8 | S23: 10.2 | T23: 0.1 | U23: 0.015 | V23: 7.1 | Y23: ID/OD(mm): 25/52, C/C0(kN): 32.5/27 | Z23: 25 | AA23: 52 | AB23: 15 | AC23: 32.5 | AD23: 27 | AE23: 3.35 | AF23: 14000 | AG23: 16000 | AH23: 0.13 | AI23: *NU205ECPJ.ML.PHA | AL23: 34.7 | AM23: 43.8 | AN23: 31.5 | AO23: 1 | AP23: 0.6 | AQ23: 1.3 | AR23: 28.9 | AS23: 30.4 | AT23: 33 | AU23: 46.4 | AV23: 1 | AW23: 0.6 | AX23: 0.15 | BC23: 0.28 | BD23: 0.38 | BE23: 1 | BF23: 0 | BG23: 0.56 | BH23: 1.15
B24: =CONCATENATE("ID/OD(mm): ",C24,"/",D24,", C/C0(kN): ",F24,"/",G24) -> ID/OD(mm): 6/15, C/C0(kN): 0.884/0.27 | C24: 6 | D24: 15 | E24: 5 | F24: 0.884 | G24: 0.27 | H24: 0.011 | I24: 100000 | J24: 63000 | K24: 0.0039 | L24: 619/6 | M24: 6 | N24: 8 | O24: 11 | P24: – | Q24: 0.15 | R24: 6.8 | S24: 12.2 | T24: 0.1 | U24: 0.015 | V24: 7 | Y24: ID/OD(mm): 25/52, C/C0(kN): 39/34 | Z24: 25 | AA24: 52 | AB24: 18 | AC24: 39 | AD24: 34 | AE24: 4.25 | AF24: 14000 | AG24: 16000 | AH24: 0.16 | AI24: *NU2205ECPML | AL24: 34.7 | AM24: 43.8 | AN24: 31.5 | AO24: 1 | AP24: 0.6 | AQ24: 1.8 | AR24: 28.9 | AS24: 30.4 | AT24: 33 | AU24: 46.4 | AV24: 1 | AW24: 0.6 | AX24: 0.2 | BC24: 0.42 | BD24: 0.42 | BE24: 1 | BF24: 0 | BG24: 0.56 | BH24: 1.04
B25: =CONCATENATE("ID/OD(mm): ",C25,"/",D25,", C/C0(kN): ",F25,"/",G25) -> ID/OD(mm): 4/13, C/C0(kN): 0.936/0.29 | C25: 4 | D25: 13 | E25: 5 | F25: 0.936 | G25: 0.29 | H25: 0.012 | I25: 110000 | J25: 67000 | K25: 0.0031 | L25: 624 | N25: 6.1 | O25: 9.9 | P25: – | Q25: 0.2 | R25: 5.4 | S25: 10.6 | T25: 0.2 | U25: 0.025 | V25: 10 | Y25: ID/OD(mm): 25/62, C/C0(kN): 46.5/36.5 | Z25: 25 | AA25: 62 | AB25: 17 | AC25: 46.5 | AD25: 36.5 | AE25: 4.55 | AF25: 12000 | AG25: 15000 | AH25: 0.23 | AI25: *NU305ECPJ.ML | AL25: 38.1 | AM25: 50.7 | AN25: 34 | AO25: 1.1 | AP25: 1.1 | AQ25: 1.3 | AR25: 31 | AS25: 32.5 | AT25: 36 | AU25: 54.9 | AV25: 1 | AW25: 1 | AX25: 0.15 | BC25: 0.56 | BD25: 0.44 | BE25: 1 | BF25: 0 | BG25: 0.56 | BH25: 1
B26: =CONCATENATE("ID/OD(mm): ",C26,"/",D26,", C/C0(kN): ",F26,"/",G26) -> ID/OD(mm): 7/17, C/C0(kN): 1.06/0.375 | C26: 7 | D26: 17 | E26: 5 | F26: 1.06 | G26: 0.375 | H26: 0.016 | I26: 90000 | J26: 56000 | K26: 0.0049 | L26: 619/7 | M26: 7 | N26: 9 | O26: 12 | P26: – | Q26: 0.15 | R26: 7.8 | S26: 13.2 | T26: 0.1 | U26: 0.015 | V26: 7.2 | Y26: ID/OD(mm): 25/62, C/C0(kN): 64/55 | Z26: 25 | AA26: 62 | AB26: 24 | AC26: 64 | AD26: 55 | AE26: 6.95 | AF26: 12000 | AG26: 15000 | AH26: 0.34 | AI26: *NU2305ECPJ.ML | AL26: 38.1 | AM26: 50.7 | AN26: 34 | AO26: 1.1 | AP26: 1.1 | AQ26: 2.3 | AR26: 31 | AS26: 32.5 | AT26: 36 | AU26: 54.9 | AV26: 1 | AW26: 1 | AX26: 0.25
B27: =CONCATENATE("ID/OD(mm): ",C27,"/",D27,", C/C0(kN): ",F27,"/",G27) -> ID/OD(mm): 4/16, C/C0(kN): 1.11/0.38 | C27: 4 | D27: 16 | E27: 5 | F27: 1.11 | G27: 0.38 | H27: 0.016 | I27: 95000 | J27: 60000 | K27: 0.0054 | L27: 634 | N27: 6.7 | O27: 10.3 | P27: 11.2 | Q27: 0.2 | R27: 5.8 | S27: 11.2 | T27: 0.2 | U27: 0.025 | V27: 10 | Y27: ID/OD(mm): 30/55, C/C0(kN): 17.9/17.3 | Z27: 30 | AA27: 55 | AB27: 13 | AC27: 17.9 | AD27: 17.3 | AE27: 1.86 | AF27: 15000 | AG27: 15000 | AH27: 0.12 | AI27: NU1006– | AK27: 30 | AL27: – | AM27: 45.6 | AN27: 36.5 | AO27: 1 | AP27: 0.6 | AQ27: 2.1 | AR27: 32.9 | AS27: 35.4 | AT27: 38 | AU27: 49.8 | AV27: 1 | AW27: 0.6 | AX27: 0.1
B28: =CONCATENATE("ID/OD(mm): ",C28,"/",D28,", C/C0(kN): ",F28,"/",G28) -> ID/OD(mm): 5/16, C/C0(kN): 1.14/0.38 | C28: 5 | D28: 16 | E28: 5 | F28: 1.14 | G28: 0.38 | H28: 0.016 | I28: 95000 | J28: 60000 | K28: 0.005 | L28: * 625 | N28: 7.5 | O28: 10.5 | P28: 11.2 | Q28: 0.2 | R28: 6.4 | S28: 11.6 | T28: 0.2 | U28: 0.02 | V28: 11 | Y28: ID/OD(mm): 30/62, C/C0(kN): 44/36.5 | Z28: 30 | AA28: 62 | AB28: 16 | AC28: 44 | AD28: 36.5 | AE28: 4.5 | AF28: 13000 | AG28: 14000 | AH28: 0.2 | AI28: *NU206ECPJ.ML.PH | AL28: 41.2 | AM28: 52.5 | AN28: 37.5 | AO28: 1 | AP28: 0.6 | AQ28: 1.3 | AR28: 34.3 | AS28: 36.1 | AT28: 39 | AU28: 55.9 | AV28: 1 | AW28: 0.6 | AX28: 0.15
B29: =CONCATENATE("ID/OD(mm): ",C29,"/",D29,", C/C0(kN): ",F29,"/",G29) -> ID/OD(mm): 8/19, C/C0(kN): 1.46/0.465 | C29: 8 | D29: 19 | E29: 6 | F29: 1.46 | G29: 0.465 | H29: 0.02 | I29: 85000 | J29: 53000 | K29: 0.0071 | L29: 619/8 | M29: 8 | N29: 10.5 | O29: 13.5 | P29: – | Q29: 0.2 | R29: 9.4 | S29: 14.6 | T29: 0.2 | U29: 0.015 | V29: 7.5 | Y29: ID/OD(mm): 30/62, C/C0(kN): 55/49 | Z29: 30 | AA29: 62 | AB29: 20 | AC29: 55 | AD29: 49 | AE29: 6.1 | AF29: 13000 | AG29: 14000 | AH29: 0.26 | AI29: *NU2206ECPJ.ML.PH | AL29: – | AM29: 52.5 | AN29: 37.5 | AO29: 1 | AP29: 0.6 | AQ29: 1.8 | AR29: 34.3 | AS29: 36.1 | AT29: 39 | AU29: 55.9 | AV29: 1 | AW29: 0.6 | AX29: 0.2
B30: =CONCATENATE("ID/OD(mm): ",C30,"/",D30,", C/C0(kN): ",F30,"/",G30) -> ID/OD(mm): 10/19, C/C0(kN): 1.72/0.83 | C30: 10 | D30: 19 | E30: 5 | F30: 1.72 | G30: 0.83 | H30: 0.036 | I30: 80000 | J30: 48000 | K30: 0.0053 | L30: 61800 | N30: 14.8 | O30: 21.2 | P30: 22.6 | Q30: 0.3 | R30: 11.4 | S30: 23.6 | T30: 0.3 | U30: 0.025 | V30: 12 | Y30: ID/OD(mm): 30/72, C/C0(kN): 58.5/48 | Z30: 30 | AA30: 72 | AB30: 19 | AC30: 58.5 | AD30: 48 | AE30: 6.2 | AF30: 11000 | AG30: 12000 | AH30: 0.36 | AI30: *NU306ECPJ.M.ML | AL30: 45 | AM30: 58.9 | AN30: 40.5 | AO30: 1.1 | AP30: 1.1 | AQ30: 1.4 | AR30: 37 | AS30: 39 | AT30: 43 | AU30: 65.1 | AV30: 1 | AW30: 1 | AX30: 0.15
B31: =CONCATENATE("ID/OD(mm): ",C31,"/",D31,", C/C0(kN): ",F31,"/",G31) -> ID/OD(mm): 12/21, C/C0(kN): 1.74/0.915 | C31: 12 | D31: 21 | E31: 5 | F31: 1.74 | G31: 0.915 | H31: 0.039 | I31: 70000 | J31: 43000 | K31: 0.0063 | L31: 61801 | N31: 17.5 | O31: 26.9 | P31: 28.7 | Q31: 0.6 | R31: 14.2 | S31: 30.8 | T31: 0.6 | U31: 0.03 | V31: 11 | Y31: ID/OD(mm): 30/72, C/C0(kN): 83/75 | Z31: 30 | AA31: 72 | AB31: 27 | AC31: 83 | AD31: 75 | AE31: 9.65 | AF31: 11000 | AG31: 12000 | AH31: 0.53 | AI31: *NU2306ECPML | AL31: – | AM31: 58.9 | AN31: 40.5 | AO31: 1.1 | AP31: 1.1 | AQ31: 2.4 | AR31: 37 | AS31: 39 | AT31: 43 | AU31: 65.1 | AV31: 1 | AW31: 1 | AX31: 0.25
B32: =CONCATENATE("ID/OD(mm): ",C32,"/",D32,", C/C0(kN): ",F32,"/",G32) -> ID/OD(mm): 15/24, C/C0(kN): 1.9/1.1 | C32: 15 | D32: 24 | E32: 5 | F32: 1.9 | G32: 1.1 | H32: 0.048 | I32: 60000 | J32: 38000 | K32: 0.0065 | L32: 61802 | N32: 19.5 | O32: 29.5 | P32: 31.5 | Q32: 1 | R32: 17.6 | S32: 31.4 | T32: 1 | U32: 0.03 | V32: 11 | Y32: ID/OD(mm): 30/90, C/C0(kN): 60.5/53 | Z32: 30 | AA32: 90 | AB32: 23 | AC32: 60.5 | AD32: 53 | AE32: 6.8 | AF32: 9000 | AG32: 11000 | AH32: 0.75 | AI32: NU406MA | AL32: 50.5 | AM32: 66.6 | AN32: 45 | AO32: 1.5 | AP32: 1.5 | AQ32: 1.6 | AR32: 41 | AS32: 43 | AT32: 47 | AU32: 81 | AV32: 1.5 | AW32: 1.5 | AX32: 0.15
B33: =CONCATENATE("ID/OD(mm): ",C33,"/",D33,", C/C0(kN): ",F33,"/",G33) -> ID/OD(mm): 17/26, C/C0(kN): 2.03/1.27 | C33: 17 | D33: 26 | E33: 5 | F33: 2.03 | G33: 1.27 | H33: 0.054 | I33: 56000 | J33: 34000 | K33: 0.0075 | L33: 61803 | N33: 23.7 | O33: 33.7 | P33: 36.3 | Q33: 1 | R33: 20.6 | S33: 36.4 | T33: 1 | U33: 0.03 | V33: 12 | Y33: ID/OD(mm): 35/62, C/C0(kN): 35.8/38 | Z33: 35 | AA33: 62 | AB33: 14 | AC33: 35.8 | AD33: 38 | AE33: 4.55 | AF33: 13000 | AG33: 13000 | AH33: 0.16 | AI33: NU1007ECPPH | AK33: 35 | AL33: – | AM33: 54.5 | AN33: 42 | AO33: 1 | AP33: 0.6 | AQ33: 1 | AR33: 38 | AS33: 41 | AT33: 44 | AU33: 56.5 | AV33: 1 | AW33: 0.6 | AX33: 0.1
B34: =CONCATENATE("ID/OD(mm): ",C34,"/",D34,", C/C0(kN): ",F34,"/",G34) -> ID/OD(mm): 5/19, C/C0(kN): 2.34/0.95 | C34: 5 | D34: 19 | E34: 6 | F34: 2.34 | G34: 0.95 | H34: 0.04 | I34: 80000 | J34: 50000 | K34: 0.0085 | L34: * 635 | N34: 8.4 | O34: 12 | P34: 13.3 | Q34: 0.3 | R34: 7.4 | S34: 13.6 | T34: 0.3 | U34: 0.025 | V34: 8.4 | Y34: ID/OD(mm): 35/72, C/C0(kN): 56/48 | Z34: 35 | AA34: 72 | AB34: 17 | AC34: 56 | AD34: 48 | AE34: 6.1 | AF34: 11000 | AG34: 12000 | AH34: 0.29 | AI34: *NU207ECPJ.M.ML.PH | AL34: 48.1 | AM34: 60.7 | AN34: 44 | AO34: 1.1 | AP34: 0.6 | AQ34: 1.3 | AR34: 39.8 | AS34: 42.2 | AT34: 46 | AU34: 65.1 | AV34: 1 | AW34: 0.6 | AX34: 0.15
B35: =CONCATENATE("ID/OD(mm): ",C35,"/",D35,", C/C0(kN): ",F35,"/",G35) -> ID/OD(mm): 6/19, C/C0(kN): 2.34/0.95 | C35: 6 | D35: 19 | E35: 6 | F35: 2.34 | G35: 0.95 | H35: 0.04 | I35: 80000 | J35: 50000 | K35: 0.0081 | L35: * 626 | N35: 8.2 | O35: 11.7 | P35: 13 | Q35: 0.2 | R35: 7.4 | S35: 13.6 | T35: 0.2 | U35: 0.02 | V35: 6.8 | Y35: ID/OD(mm): 35/72, C/C0(kN): 69.5/63 | Z35: 35 | AA35: 72 | AB35: 23 | AC35: 69.5 | AD35: 63 | AE35: 8.15 | AF35: 11000 | AG35: 12000 | AH35: 0.4 | AI35: *NU2207ECPJ.ML.PH | AL35: – | AM35: 60.7 | AN35: 44 | AO35: 1.1 | AP35: 0.6 | AQ35: 2.8 | AR35: 39.8 | AS35: 42.2 | AT35: 46 | AU35: 65.1 | AV35: 1 | AW35: 0.6 | AX35: 0.2
B36: =CONCATENATE("ID/OD(mm): ",C36,"/",D36,", C/C0(kN): ",F36,"/",G36) -> ID/OD(mm): 7/19, C/C0(kN): 2.34/0.95 | C36: 7 | D36: 19 | E36: 6 | F36: 2.34 | G36: 0.95 | H36: 0.04 | I36: 85000 | J36: 53000 | K36: 0.0076 | L36: * 607 | N36: 10.4 | O36: 13.6 | P36: 14.3 | Q36: 0.3 | R36: 9 | S36: 15 | T36: 0.3 | U36: 0.02 | V36: 7.3 | Y36: ID/OD(mm): 35/72, C/C0(kN): 69.5/63 | Z36: 35 | AA36: 72 | AB36: 23 | AC36: 69.5 | AD36: 63 | AE36: 8.15 | AF36: 11000 | AG36: 12000 | AH36: 0.42 | AI36: *NUP2207ECPJ.ML.PH | AL36: 48.1 | AM36: 60.7 | AN36: 44 | AO36: 1.1 | AP36: 0.6 | AQ36: – | AR36: 41.8 | AS36: – | AT36: 50 | AU36: 65.1 | AV36: 1 | AW36: 0.6 | AX36: 0.2
B37: =CONCATENATE("ID/OD(mm): ",C37,"/",D37,", C/C0(kN): ",F37,"/",G37) -> ID/OD(mm): 9/20, C/C0(kN): 2.34/0.98 | C37: 9 | D37: 20 | E37: 6 | F37: 2.34 | G37: 0.98 | H37: 0.043 | I37: 80000 | J37: 50000 | K37: 0.0076 | L37: 619/9 | M37: 9 | N37: 11.5 | O37: 14.5 | P37: – | Q37: 0.2 | R37: 10.4 | S37: 15.6 | T37: 0.2 | U37: 0.015 | V37: 7.7 | Y37: ID/OD(mm): 35/80, C/C0(kN): 75/63 | Z37: 35 | AA37: 80 | AB37: 21 | AC37: 75 | AD37: 63 | AE37: 8.15 | AF37: 9500 | AG37: 11000 | AH37: 0.47 | AI37: *NU307ECPJ.M.ML | AL37: 51 | AM37: 66.3 | AN37: 46.2 | AO37: 1.5 | AP37: 1.1 | AQ37: 1.2 | AR37: 42 | AS37: 44 | AT37: 48 | AU37: 72.2 | AV37: 1.5 | AW37: 1 | AX37: 0.15
B38: =CONCATENATE("ID/OD(mm): ",C38,"/",D38,", C/C0(kN): ",F38,"/",G38) -> ID/OD(mm): 10/22, C/C0(kN): 2.7/1.27 | C38: 10 | D38: 22 | E38: 6 | F38: 2.7 | G38: 1.27 | H38: 0.054 | I38: 70000 | J38: 45000 | K38: 0.01 | L38: 61900 | M38: 10 | N38: 12.7 | O38: 16.3 | P38: – | Q38: 0.3 | R38: 12 | S38: 17 | T38: 0.3 | U38: 0.015 | V38: 15 | Y38: ID/OD(mm): 35/80, C/C0(kN): 106/98 | Z38: 35 | AA38: 80 | AB38: 31 | AC38: 106 | AD38: 98 | AE38: 12.7 | AF38: 9500 | AG38: 11000 | AH38: 0.72 | AI38: *NU2307ECPPH | AL38: – | AM38: 66.3 | AN38: 46.2 | AO38: 1.5 | AP38: 1.1 | AQ38: 2.7 | AR38: 42 | AS38: 44 | AT38: 48 | AU38: 72.2 | AV38: 1.5 | AW38: 1 | AX38: 0.25
B39: =CONCATENATE("ID/OD(mm): ",C39,"/",D39,", C/C0(kN): ",F39,"/",G39) -> ID/OD(mm): 12/24, C/C0(kN): 2.91/1.46 | C39: 12 | D39: 24 | E39: 6 | F39: 2.91 | G39: 1.46 | H39: 0.062 | I39: 67000 | J39: 40000 | K39: 0.011 | L39: 61901 | M39: 12 | N39: 14.8 | O39: 18.3 | P39: – | Q39: 0.3 | R39: 14 | S39: 19 | T39: 0.3 | U39: 0.015 | V39: 13 | Y39: ID/OD(mm): 35/100, C/C0(kN): 76.5/69.5 | Z39: 35 | AA39: 100 | AB39: 25 | AC39: 76.5 | AD39: 69.5 | AE39: 9 | AF39: 8000 | AG39: 9500 | AH39: 1 | AI39: NU407– | AL39: – | AM39: 76.1 | AN39: 53 | AO39: 1.5 | AP39: 1.5 | AQ39: 1.7 | AR39: 48 | AS39: 51 | AT39: 55 | AU39: 90 | AV39: 1.5 | AW39: 1.5 | AX39: 0.15
B40: =CONCATENATE("ID/OD(mm): ",C40,"/",D40,", C/C0(kN): ",F40,"/",G40) -> ID/OD(mm): 7/22, C/C0(kN): 3.45/1.37 | C40: 7 | D40: 22 | E40: 7 | F40: 3.45 | G40: 1.37 | H40: 0.057 | I40: 70000 | J40: 45000 | K40: 0.012 | L40: * 627 | N40: 11.1 | O40: 15.2 | P40: 16.5 | Q40: 0.3 | R40: 9 | S40: 17 | T40: 0.3 | U40: 0.025 | V40: 13 | Y40: ID/OD(mm): 40/68, C/C0(kN): 25.1/26 | Z40: 40 | AA40: 68 | AB40: 15 | AC40: 25.1 | AD40: 26 | AE40: 3 | AF40: 12000 | AG40: 18000 | AH40: 0.23 | AI40: NU1008ML– | AK40: 40 | AL40: – | AM40: 57.6 | AN40: 47 | AO40: 1 | AP40: 0.6 | AQ40: 2.4 | AR40: 43 | AS40: 46 | AT40: 49 | AU40: 62.3 | AV40: 1 | AW40: 0.6 | AX40: 0.15
B41: =CONCATENATE("ID/OD(mm): ",C41,"/",D41,", C/C0(kN): ",F41,"/",G41) -> ID/OD(mm): 8/22, C/C0(kN): 3.45/1.37 | C41: 8 | D41: 22 | E41: 7 | F41: 3.45 | G41: 1.37 | H41: 0.057 | I41: 75000 | J41: 48000 | K41: 0.012 | L41: * 608 | N41: 10.5 | O41: 15.5 | P41: 16.7 | Q41: 0.3 | R41: 10 | S41: 17 | T41: 0.3 | U41: 0.02 | V41: 6.6 | Y41: ID/OD(mm): 40/80, C/C0(kN): 62/53 | Z41: 40 | AA41: 80 | AB41: 18 | AC41: 62 | AD41: 53 | AE41: 6.7 | AF41: 9500 | AG41: 11000 | AH41: 0.37 | AI41: *NU208ECPJ.M.ML.PH | AL41: 54 | AM41: 67.9 | AN41: 49.5 | AO41: 1.1 | AP41: 1.1 | AQ41: 1.4 | AR41: 47 | AS41: 48 | AT41: 51 | AU41: 72.8 | AV41: 1 | AW41: 1 | AX41: 0.15
B42: =CONCATENATE("ID/OD(mm): ",C42,"/",D42,", C/C0(kN): ",F42,"/",G42) -> ID/OD(mm): 9/24, C/C0(kN): 3.9/1.66 | C42: 9 | D42: 24 | E42: 7 | F42: 3.9 | G42: 1.66 | H42: 0.071 | I42: 70000 | J42: 43000 | K42: 0.014 | L42: * 609 | N42: 11.6 | O42: 16.2 | P42: 17.5 | Q42: 0.3 | R42: 11 | S42: 18 | T42: 0.3 | U42: 0.02 | V42: 12 | Y42: ID/OD(mm): 40/80, C/C0(kN): 81.5/75 | Z42: 40 | AA42: 80 | AB42: 23 | AC42: 81.5 | AD42: 75 | AE42: 9.65 | AF42: 9500 | AG42: 11000 | AH42: 0.49 | AI42: *NU2208ECPJ.ML.PH | AL42: 54 | AM42: 67.9 | AN42: 49.5 | AO42: 1.1 | AP42: 1.1 | AQ42: 1.9 | AR42: 47 | AS42: 48 | AT42: 51 | AU42: 72.8 | AV42: 1 | AW42: 1 | AX42: 0.2
B43: =CONCATENATE("ID/OD(mm): ",C43,"/",D43,", C/C0(kN): ",F43,"/",G43) -> ID/OD(mm): 8/24, C/C0(kN): 3.9/1.66 | C43: 8 | D43: 24 | E43: 8 | F43: 3.9 | G43: 1.66 | H43: 0.071 | I43: 63000 | J43: 40000 | K43: 0.018 | L43: * 628 | N43: 12.1 | O43: 17.6 | P43: 19.2 | Q43: 0.3 | R43: 10 | S43: 20 | T43: 0.3 | U43: 0.025 | V43: 12 | Y43: ID/OD(mm): 40/90, C/C0(kN): 93/78 | Z43: 40 | AA43: 90 | AB43: 23 | AC43: 93 | AD43: 78 | AE43: 10.2 | AF43: 8000 | AG43: 9500 | AH43: 0.65 | AI43: *NU308ECPJ.M.ML.PH | AL43: 57.5 | AM43: 75.6 | AN43: 52 | AO43: 1.5 | AP43: 1.5 | AQ43: 1.4 | AR43: 48 | AS43: 50 | AT43: 54 | AU43: 81.8 | AV43: 1.5 | AW43: 1.5 | AX43: 0.15
B44: =CONCATENATE("ID/OD(mm): ",C44,"/",D44,", C/C0(kN): ",F44,"/",G44) -> ID/OD(mm): 20/32, C/C0(kN): 4.03/2.32 | C44: 20 | D44: 32 | E44: 7 | F44: 4.03 | G44: 2.32 | H44: 0.104 | I44: 45000 | J44: 28000 | K44: 0.018 | L44: 61804 | N44: 32.4 | O44: 46.6 | P44: 48.7 | Q44: 1.1 | R44: 23.5 | S44: 55.5 | T44: 1 | U44: 0.035 | V44: 11 | Y44: ID/OD(mm): 40/90, C/C0(kN): 129/120 | Z44: 40 | AA44: 90 | AB44: 33 | AC44: 129 | AD44: 120 | AE44: 15.3 | AF44: 8000 | AG44: 9500 | AH44: 0.94 | AI44: *NU2308ECPJ.M.ML.PH | AL44: – | AM44: 75.6 | AN44: 52 | AO44: 1.5 | AP44: 1.5 | AQ44: 2.9 | AR44: 48 | AS44: 50 | AT44: 54 | AU44: 81.8 | AV44: 1.5 | AW44: 1.5 | AX44: 0.25
B45: =CONCATENATE("ID/OD(mm): ",C45,"/",D45,", C/C0(kN): ",F45,"/",G45) -> ID/OD(mm): 15/28, C/C0(kN): 4.36/2.24 | C45: 15 | D45: 28 | E45: 7 | F45: 4.36 | G45: 2.24 | H45: 0.095 | I45: 56000 | J45: 34000 | K45: 0.016 | L45: 61902 | M45: 15 | N45: 17.8 | O45: 21.3 | P45: – | Q45: 0.3 | R45: 17 | S45: 22 | T45: 0.3 | U45: 0.015 | V45: 14 | Y45: ID/OD(mm): 40/110, C/C0(kN): 96.8/90 | Z45: 40 | AA45: 110 | AB45: 27 | AC45: 96.8 | AD45: 90 | AE45: 11.6 | AF45: 7000 | AG45: 8500 | AH45: 1.3 | AI45: NU408MA | AL45: – | AM45: 84.2 | AN45: 58 | AO45: 2 | AP45: 2 | AQ45: 2.5 | AR45: 52 | AS45: 56 | AT45: 60 | AU45: 99 | AV45: 2 | AW45: 2 | AX45: 0.15
B46: =CONCATENATE("ID/OD(mm): ",C46,"/",D46,", C/C0(kN): ",F46,"/",G46) -> ID/OD(mm): 25/37, C/C0(kN): 4.36/2.6 | C46: 25 | D46: 37 | E46: 7 | F46: 4.36 | G46: 2.6 | H46: 0.125 | I46: 38000 | J46: 24000 | K46: 0.022 | L46: 61805 | N46: 32.9 | O46: 45.3 | P46: – | Q46: 1.1 | R46: 29 | S46: 47 | T46: 1 | U46: 0.03 | V46: 12 | Y46: ID/OD(mm): 45/75, C/C0(kN): 44.6/52 | Z46: 45 | AA46: 75 | AB46: 16 | AC46: 44.6 | AD46: 52 | AE46: 6.3 | AF46: 11000 | AG46: 11000 | AH46: 0.25 | AI46: NU1009ECPPH | AK46: 45 | AL46: – | AM46: 65.3 | AN46: 52.5 | AO46: 1 | AP46: 0.6 | AQ46: 0.9 | AR46: 48.4 | AS46: 51 | AT46: 54 | AU46: 69.8 | AV46: 1 | AW46: 0.6 | AX46: 0.1
B47: =CONCATENATE("ID/OD(mm): ",C47,"/",D47,", C/C0(kN): ",F47,"/",G47) -> ID/OD(mm): 35/47, C/C0(kN): 4.36/3.35 | C47: 35 | D47: 47 | E47: 7 | F47: 4.36 | G47: 3.35 | H47: 0.14 | I47: 30000 | J47: 18000 | K47: 0.029 | L47: 61807 | N47: 50.3 | O47: 69.7 | P47: – | Q47: 1.5 | R47: 41 | S47: 79 | T47: 1.5 | U47: 0.035 | V47: 12 | Y47: ID/OD(mm): 45/85, C/C0(kN): 69.5/64 | Z47: 45 | AA47: 85 | AB47: 19 | AC47: 69.5 | AD47: 64 | AE47: 8.15 | AF47: 9000 | AG47: 9500 | AH47: 0.43 | AI47: *NU209ECPJ.M.ML | AL47: 59 | AM47: 73 | AN47: 54.5 | AO47: 1.1 | AP47: 1.1 | AQ47: 1.2 | AR47: 52 | AS47: 53 | AT47: 56 | AU47: 77.6 | AV47: 1 | AW47: 1 | AX47: 0.15
B48: =CONCATENATE("ID/OD(mm): ",C48,"/",D48,", C/C0(kN): ",F48,"/",G48) -> ID/OD(mm): 30/42, C/C0(kN): 4.49/2.9 | C48: 30 | D48: 42 | E48: 7 | F48: 4.49 | G48: 2.9 | H48: 0.146 | I48: 32000 | J48: 20000 | K48: 0.025 | L48: 61806 | N48: 41.7 | O48: 55.5 | P48: 57.8 | Q48: 1.1 | R48: 35 | S48: 61 | T48: 1 | U48: 0.03 | V48: 13 | Y48: ID/OD(mm): 45/85, C/C0(kN): 85/81.5 | Z48: 45 | AA48: 85 | AB48: 23 | AC48: 85 | AD48: 81.5 | AE48: 10.6 | AF48: 9000 | AG48: 9500 | AH48: 0.52 | AI48: *NU2209ECPJ | AL48: – | AM48: 73 | AN48: 54.5 | AO48: 1.1 | AP48: 1.1 | AQ48: 1.7 | AR48: 52 | AS48: 53 | AT48: 56 | AU48: 77.6 | AV48: 1 | AW48: 1 | AX48: 0.2
B49: =CONCATENATE("ID/OD(mm): ",C49,"/",D49,", C/C0(kN): ",F49,"/",G49) -> ID/OD(mm): 40/52, C/C0(kN): 4.49/3.75 | C49: 40 | D49: 52 | E49: 7 | F49: 4.49 | G49: 3.75 | H49: 0.16 | I49: 26000 | J49: 16000 | K49: 0.032 | L49: 61808 | N49: 57.4 | O49: 79.6 | P49: – | Q49: 1.5 | R49: 46 | S49: 89 | T49: 1.5 | U49: 0.035 | V49: 12 | Y49: ID/OD(mm): 45/100, C/C0(kN): 112/100 | Z49: 45 | AA49: 100 | AB49: 25 | AC49: 112 | AD49: 100 | AE49: 12.9 | AF49: 7500 | AG49: 8500 | AH49: 0.9 | AI49: *NU309ECPJ.M.ML.PH | AL49: 64.4 | AM49: 83.8 | AN49: 58.5 | AO49: 1.5 | AP49: 1.5 | AQ49: 1.7 | AR49: 54 | AS49: 56 | AT49: 60 | AU49: 91.4 | AV49: 1.5 | AW49: 1.5 | AX49: 0.15
B50: =CONCATENATE("ID/OD(mm): ",C50,"/",D50,", C/C0(kN): ",F50,"/",G50) -> ID/OD(mm): 17/30, C/C0(kN): 4.62/2.55 | C50: 17 | D50: 30 | E50: 7 | F50: 4.62 | G50: 2.55 | H50: 0.108 | I50: 50000 | J50: 32000 | K50: 0.016 | L50: 61903 | M50: 17 | N50: 19.8 | O50: 23.3 | P50: – | Q50: 0.3 | R50: 19 | S50: 24 | T50: 0.3 | U50: 0.015 | V50: 14 | Y50: ID/OD(mm): 45/100, C/C0(kN): 160/153 | Z50: 45 | AA50: 100 | AB50: 36 | AC50: 160 | AD50: 153 | AE50: 20 | AF50: 7500 | AG50: 8500 | AH50: 1.3 | AI50: *NU2309ECPML | AL50: – | AM50: 83.8 | AN50: 58.5 | AO50: 1.5 | AP50: 1.5 | AQ50: 3.2 | AR50: 54 | AS50: 56 | AT50: 60 | AU50: 91.4 | AV50: 1.5 | AW50: 1.5 | AX50: 0.25
B51: =CONCATENATE("ID/OD(mm): ",C51,"/",D51,", C/C0(kN): ",F51,"/",G51) -> ID/OD(mm): 9/26, C/C0(kN): 4.75/1.96 | C51: 9 | D51: 26 | E51: 8 | F51: 4.75 | G51: 1.96 | H51: 0.083 | I51: 60000 | J51: 38000 | K51: 0.02 | L51: * 629 | N51: 14.4 | O51: 19.8 | P51: 21.2 | Q51: 0.3 | R51: 11 | S51: 22 | T51: 0.3 | U51: 0.025 | V51: 13 | Y51: ID/OD(mm): 45/120, C/C0(kN): 106/102 | Z51: 45 | AA51: 120 | AB51: 29 | AC51: 106 | AD51: 102 | AE51: 13.4 | AF51: 6700 | AG51: 7500 | AH51: 1.65 | AI51: NU409– | AL51: 71.8 | AM51: 92.2 | AN51: 64.5 | AO51: 2 | AP51: 2 | AQ51: 2.5 | AR51: 58 | AS51: 62 | AT51: 66 | AU51: 108 | AV51: 2 | AW51: 2 | AX51: 0.15
B52: =CONCATENATE("ID/OD(mm): ",C52,"/",D52,", C/C0(kN): ",F52,"/",G52) -> ID/OD(mm): 10/26, C/C0(kN): 4.75/1.96 | C52: 10 | D52: 26 | E52: 8 | F52: 4.75 | G52: 1.96 | H52: 0.083 | I52: 67000 | J52: 40000 | K52: 0.019 | L52: * 6000 | N52: 13.9 | O52: 18.2 | P52: – | Q52: 0.3 | R52: 12 | S52: 20 | T52: 0.3 | U52: 0.02 | V52: 14 | Y52: ID/OD(mm): 50/80, C/C0(kN): 46.8/56 | Z52: 50 | AA52: 80 | AB52: 16 | AC52: 46.8 | AD52: 56 | AE52: 6.7 | AF52: 9500 | AG52: 9500 | AH52: 0.27 | AI52: NU1010ECP– | AK52: 50 | AL52: – | AM52: 70 | AN52: 57.5 | AO52: 1 | AP52: 0.6 | AQ52: 1 | AR52: 53.4 | AS52: 56 | AT52: 59 | AU52: 74.6 | AV52: 1 | AW52: 0.6 | AX52: 0.1
B53: =CONCATENATE("ID/OD(mm): ",C53,"/",D53,", C/C0(kN): ",F53,"/",G53) -> ID/OD(mm): 10/28, C/C0(kN): 5.07/2.36 | C53: 10 | D53: 28 | E53: 8 | F53: 5.07 | G53: 2.36 | H53: 0.1 | I53: 60000 | J53: 38000 | K53: 0.024 | L53: 16100 | N53: 14.8 | O53: 21.2 | P53: 22.6 | Q53: 0.3 | R53: 12 | S53: 24 | T53: 0.3 | U53: 0.025 | V53: 12 | Y53: ID/OD(mm): 50/90, C/C0(kN): 73.5/69.5 | Z53: 50 | AA53: 90 | AB53: 20 | AC53: 73.5 | AD53: 69.5 | AE53: 8.8 | AF53: 8500 | AG53: 9000 | AH53: 0.48 | AI53: *NU210ECPJ.M.ML | AL53: 64 | AM53: 78 | AN53: 59.5 | AO53: 1.1 | AP53: 1.1 | AQ53: 1.5 | AR53: 57 | AS53: 57.5 | AT53: 61 | AU53: 82.4 | AV53: 1 | AW53: 1 | AX53: 0.15
B54: =CONCATENATE("ID/OD(mm): ",C54,"/",D54,", C/C0(kN): ",F54,"/",G54) -> ID/OD(mm): 12/30, C/C0(kN): 5.07/2.36 | C54: 12 | D54: 30 | E54: 8 | F54: 5.07 | G54: 2.36 | H54: 0.1 | I54: 60000 | J54: 38000 | K54: 0.026 | L54: 16101 | N54: 17 | O54: 23.2 | P54: 24.8 | Q54: 0.3 | R54: 14 | S54: 26 | T54: 0.3 | U54: 0.025 | V54: 13 | Y54: ID/OD(mm): 50/90, C/C0(kN): 90/88 | Z54: 50 | AA54: 90 | AB54: 23 | AC54: 90 | AD54: 88 | AE54: 11.4 | AF54: 8500 | AG54: 9000 | AH54: 0.56 | AI54: *NU2210ECPJ.M.ML.PH | AL54: – | AM54: 78 | AN54: 59.5 | AO54: 1.1 | AP54: 1.1 | AQ54: 1.5 | AR54: 57 | AS54: 57.5 | AT54: 61 | AU54: 82.4 | AV54: 1 | AW54: 1 | AX54: 0.2
B55: =CONCATENATE("ID/OD(mm): ",C55,"/",D55,", C/C0(kN): ",F55,"/",G55) -> ID/OD(mm): 12/28, C/C0(kN): 5.4/2.36 | C55: 12 | D55: 28 | E55: 8 | F55: 5.4 | G55: 2.36 | H55: 0.1 | I55: 60000 | J55: 38000 | K55: 0.021 | L55: * 6001 | N55: 16 | O55: 20.3 | P55: – | Q55: 0.3 | R55: 14 | S55: 22 | T55: 0.3 | U55: 0.02 | V55: 15 | Y55: ID/OD(mm): 50/110, C/C0(kN): 127/112 | Z55: 50 | AA55: 110 | AB55: 27 | AC55: 127 | AD55: 112 | AE55: 15 | AF55: 6700 | AG55: 8000 | AH55: 1.15 | AI55: *NU310ECPJ.M.ML.PH | AL55: 71.2 | AM55: 92.1 | AN55: 65 | AO55: 2 | AP55: 2 | AQ55: 1.9 | AR55: 60 | AS55: 63 | AT55: 67 | AU55: 99.6 | AV55: 2 | AW55: 2 | AX55: 0.15
B56: =CONCATENATE("ID/OD(mm): ",C56,"/",D56,", C/C0(kN): ",F56,"/",G56) -> ID/OD(mm): 10/30, C/C0(kN): 5.4/2.36 | C56: 10 | D56: 30 | E56: 9 | F56: 5.4 | G56: 2.36 | H56: 0.1 | I56: 56000 | J56: 36000 | K56: 0.031 | L56: * 6200 | N56: 17 | O56: 23.2 | P56: 24.8 | Q56: 0.3 | R56: 14.2 | S56: 23.8 | T56: 0.3 | U56: 0.025 | V56: 13 | Y56: ID/OD(mm): 50/110, C/C0(kN): 186/186 | Z56: 50 | AA56: 110 | AB56: 40 | AC56: 186 | AD56: 186 | AE56: 24.5 | AF56: 6700 | AG56: 8000 | AH56: 1.75 | AI56: *NU2310ECPJ.ML.PH | AL56: – | AM56: 92.1 | AN56: 65 | AO56: 2 | AP56: 2 | AQ56: 3.4 | AR56: 60 | AS56: 63 | AT56: 67 | AU56: 99.6 | AV56: 2 | AW56: 2 | AX56: 0.25
B57: =CONCATENATE("ID/OD(mm): ",C57,"/",D57,", C/C0(kN): ",F57,"/",G57) -> ID/OD(mm): 15/32, C/C0(kN): 5.85/2.85 | C57: 15 | D57: 32 | E57: 8 | F57: 5.85 | G57: 2.85 | H57: 0.12 | I57: 50000 | J57: 32000 | K57: 0.03 | L57: * 16002 | N57: 18.8 | O57: 24.2 | P57: 25.3 | Q57: 0.3 | R57: 17 | S57: 26 | T57: 0.3 | U57: 0.02 | V57: 14 | Y57: ID/OD(mm): 50/130, C/C0(kN): 130/127 | Z57: 50 | AA57: 130 | AB57: 31 | AC57: 130 | AD57: 127 | AE57: 16.6 | AF57: 6000 | AG57: 7000 | AH57: 2 | AI57: NU410– | AL57: 78.8 | AM57: 102 | AN57: 70.8 | AO57: 2.1 | AP57: 2.1 | AQ57: 2.6 | AR57: 64 | AS57: 68 | AT57: 73 | AU57: 116 | AV57: 2 | AW57: 2 | AX57: 0.15
B58: =CONCATENATE("ID/OD(mm): ",C58,"/",D58,", C/C0(kN): ",F58,"/",G58) -> ID/OD(mm): 15/32, C/C0(kN): 5.85/2.85 | C58: 15 | D58: 32 | E58: 9 | F58: 5.85 | G58: 2.85 | H58: 0.12 | I58: 50000 | J58: 32000 | K58: 0.03 | L58: * 6002 | N58: 20.5 | O58: 26.7 | P58: 28.2 | Q58: 0.3 | R58: 17 | S58: 30 | T58: 0.3 | U58: 0.02 | V58: 14 | Y58: ID/OD(mm): 55/90, C/C0(kN): 57.2/69.5 | Z58: 55 | AA58: 90 | AB58: 18 | AC58: 57.2 | AD58: 69.5 | AE58: 8.3 | AF58: 8500 | AG58: 8500 | AH58: 0.39 | AI58: NU1011ECPML | AK58: 55 | AL58: – | AM58: 79 | AN58: 64.5 | AO58: 1.1 | AP58: 1 | AQ58: 0.5 | AR58: 59.7 | AS58: 63 | AT58: 66 | AU58: 83 | AV58: 1 | AW58: 1 | AX58: 0.1
B59: =CONCATENATE("ID/OD(mm): ",C59,"/",D59,", C/C0(kN): ",F59,"/",G59) -> ID/OD(mm): 17/35, C/C0(kN): 6.37/3.25 | C59: 17 | D59: 35 | E59: 8 | F59: 6.37 | G59: 3.25 | H59: 0.137 | I59: 45000 | J59: 28000 | K59: 0.038 | L59: * 16003 | N59: 20.4 | O59: 26.6 | P59: 27.7 | Q59: 0.3 | R59: 19 | S59: 28 | T59: 0.3 | U59: 0.02 | V59: 15 | Y59: ID/OD(mm): 55/100, C/C0(kN): 96.5/95 | Z59: 55 | AA59: 100 | AB59: 21 | AC59: 96.5 | AD59: 95 | AE59: 12.2 | AF59: 7500 | AG59: 8000 | AH59: 0.66 | AI59: *NU211ECPJ.M.ML | AL59: 70.8 | AM59: 86.3 | AN59: 66 | AO59: 1.5 | AP59: 1.1 | AQ59: 1 | AR59: 62 | AS59: 64 | AT59: 68 | AU59: 91.4 | AV59: 1.5 | AW59: 1 | AX59: 0.15
B60: =CONCATENATE("ID/OD(mm): ",C60,"/",D60,", C/C0(kN): ",F60,"/",G60) -> ID/OD(mm): 20/37, C/C0(kN): 6.37/3.65 | C60: 20 | D60: 37 | E60: 9 | F60: 6.37 | G60: 3.65 | H60: 0.156 | I60: 43000 | J60: 26000 | K60: 0.037 | L60: 61904 | M60: 20 | N60: 23.8 | O60: 28.3 | P60: – | Q60: 0.3 | R60: 22 | S60: 30 | T60: 0.3 | U60: 0.015 | V60: 15 | Y60: ID/OD(mm): 55/100, C/C0(kN): 114/118 | Z60: 55 | AA60: 100 | AB60: 25 | AC60: 114 | AD60: 118 | AE60: 15.3 | AF60: 7500 | AG60: 8000 | AH60: 0.79 | AI60: *NU2211ECPJ.M.ML.PH | AL60: 70.8 | AM60: 86.3 | AN60: 66 | AO60: 1.5 | AP60: 1.1 | AQ60: 1.5 | AR60: 62 | AS60: 64 | AT60: 68 | AU60: 91.4 | AV60: 1.5 | AW60: 1 | AX60: 0.2
B61: =CONCATENATE("ID/OD(mm): ",C61,"/",D61,", C/C0(kN): ",F61,"/",G61) -> ID/OD(mm): 17/35, C/C0(kN): 6.37/3.25 | C61: 17 | D61: 35 | E61: 10 | F61: 6.37 | G61: 3.25 | H61: 0.137 | I61: 45000 | J61: 28000 | K61: 0.038 | L61: * 6003 | N61: 23 | O61: 29.2 | P61: 31.2 | Q61: 0.3 | R61: 19 | S61: 33 | T61: 0.3 | U61: 0.02 | V61: 14 | Y61: ID/OD(mm): 55/120, C/C0(kN): 156/143 | Z61: 55 | AA61: 120 | AB61: 29 | AC61: 156 | AD61: 143 | AE61: 18.6 | AF61: 6000 | AG61: 7000 | AH61: 1.45 | AI61: *NU311ECPJ.M.ML | AL61: 77.5 | AM61: 101 | AN61: 70.5 | AO61: 2 | AP61: 2 | AQ61: 2 | AR61: 65 | AS61: 68 | AT61: 73 | AU61: 109 | AV61: 2 | AW61: 2 | AX61: 0.15
B62: =CONCATENATE("ID/OD(mm): ",C62,"/",D62,", C/C0(kN): ",F62,"/",G62) -> ID/OD(mm): 45/58, C/C0(kN): 6.63/6.1 | C62: 45 | D62: 58 | E62: 7 | F62: 6.63 | G62: 6.1 | H62: 0.26 | I62: 22000 | J62: 14000 | K62: 0.04 | L62: 61809 | N62: 62.8 | O62: 87 | P62: – | Q62: 2 | R62: 53 | S62: 97 | T62: 2 | U62: 0.035 | V62: 12 | Y62: ID/OD(mm): 55/120, C/C0(kN): 232/232 | Z62: 55 | AA62: 120 | AB62: 43 | AC62: 232 | AD62: 232 | AE62: 30.5 | AF62: 6000 | AG62: 7000 | AH62: 2.2 | AI62: *NU2311ECPJ.ML.PH | AL62: 77.5 | AM62: 101 | AN62: 70.5 | AO62: 2 | AP62: 2 | AQ62: 3.5 | AR62: 65 | AS62: 68 | AT62: 73 | AU62: 109 | AV62: 2 | AW62: 2 | AX62: 0.25
B63: =CONCATENATE("ID/OD(mm): ",C63,"/",D63,", C/C0(kN): ",F63,"/",G63) -> ID/OD(mm): 50/65, C/C0(kN): 6.76/6.8 | C63: 50 | D63: 65 | E63: 7 | F63: 6.76 | G63: 6.8 | H63: 0.285 | I63: 20000 | J63: 13000 | K63: 0.052 | L63: 61810 | N63: 68.9 | O63: 95.9 | P63: – | Q63: 2 | R63: 58 | S63: 107 | T63: 2 | U63: 0.035 | V63: 12 | Y63: ID/OD(mm): 55/140, C/C0(kN): 142/140 | Z63: 55 | AA63: 140 | AB63: 33 | AC63: 142 | AD63: 140 | AE63: 18.6 | AF63: 5600 | AG63: 6300 | AH63: 2.5 | AI63: NU411– | AL63: 85.2 | AM63: 108 | AN63: 77.2 | AO63: 2.1 | AP63: 2.1 | AQ63: 2.6 | AR63: 69 | AS63: 74 | AT63: 79 | AU63: 126 | AV63: 2 | AW63: 2 | AX63: 0.15
B64: =CONCATENATE("ID/OD(mm): ",C64,"/",D64,", C/C0(kN): ",F64,"/",G64) -> ID/OD(mm): 25/42, C/C0(kN): 7.02/4.3 | C64: 25 | D64: 42 | E64: 9 | F64: 7.02 | G64: 4.3 | H64: 0.193 | I64: 36000 | J64: 22000 | K64: 0.045 | L64: 61905 | M64: 25 | N64: 28.5 | O64: 33.2 | P64: – | Q64: 0.3 | R64: 27 | S64: 35 | T64: 0.3 | U64: 0.015 | V64: 14 | Y64: ID/OD(mm): 60/95, C/C0(kN): 37.4/44 | Z64: 60 | AA64: 95 | AB64: 18 | AC64: 37.4 | AD64: 44 | AE64: 5.3 | AF64: 8000 | AG64: 13000 | AH64: 0.5 | AI64: NU1012ML– | AK64: 60 | AL64: – | AM64: 81.6 | AN64: 69.5 | AO64: 1.1 | AP64: 1 | AQ64: 2.9 | AR64: 64.7 | AS64: 68 | AT64: 71 | AU64: 88 | AV64: 1 | AW64: 1 | AX64: 0.15
B65: =CONCATENATE("ID/OD(mm): ",C65,"/",D65,", C/C0(kN): ",F65,"/",G65) -> ID/OD(mm): 20/42, C/C0(kN): 7.28/4.05 | C65: 20 | D65: 42 | E65: 8 | F65: 7.28 | G65: 4.05 | H65: 0.173 | I65: 38000 | J65: 24000 | K65: 0.05 | L65: * 16004 | N65: 25.5 | O65: 31.4 | P65: 32.7 | Q65: 0.3 | R65: 22 | S65: 35 | T65: 0.3 | U65: 0.02 | V65: 15 | Y65: ID/OD(mm): 60/110, C/C0(kN): 108/102 | Z65: 60 | AA65: 110 | AB65: 22 | AC65: 108 | AD65: 102 | AE65: 13.4 | AF65: 6700 | AG65: 7500 | AH65: 0.8 | AI65: *NU212ECPJ.M.ML | AL65: 77.5 | AM65: 95.7 | AN65: 72 | AO65: 1.5 | AP65: 1.5 | AQ65: 1.4 | AR65: 68 | AS65: 70 | AT65: 74 | AU65: 101 | AV65: 1.5 | AW65: 1.5 | AX65: 0.15
B66: =CONCATENATE("ID/OD(mm): ",C66,"/",D66,", C/C0(kN): ",F66,"/",G66) -> ID/OD(mm): 30/47, C/C0(kN): 7.28/4.55 | C66: 30 | D66: 47 | E66: 9 | F66: 7.28 | G66: 4.55 | H66: 0.212 | I66: 30000 | J66: 19000 | K66: 0.049 | L66: 61906 | M66: 30 | N66: 33.7 | O66: 38.4 | P66: – | Q66: 0.3 | R66: 32 | S66: 40 | T66: 0.3 | U66: 0.015 | V66: 14 | Y66: ID/OD(mm): 60/110, C/C0(kN): 146/153 | Z66: 60 | AA66: 110 | AB66: 28 | AC66: 146 | AD66: 153 | AE66: 20 | AF66: 6700 | AG66: 7500 | AH66: 1.05 | AI66: *NU2212ECPJ.M.ML | AL66: 77.5 | AM66: 95.7 | AN66: 72 | AO66: 1.5 | AP66: 1.5 | AQ66: 1.4 | AR66: 68 | AS66: 70 | AT66: 74 | AU66: 101 | AV66: 1.5 | AW66: 1.5 | AX66: 0.2
B67: =CONCATENATE("ID/OD(mm): ",C67,"/",D67,", C/C0(kN): ",F67,"/",G67) -> ID/OD(mm): 12/32, C/C0(kN): 7.28/3.1 | C67: 12 | D67: 32 | E67: 10 | F67: 7.28 | G67: 3.1 | H67: 0.132 | I67: 50000 | J67: 32000 | K67: 0.037 | L67: * 6201 | N67: 17 | O67: 23.4 | P67: 24.8 | Q67: 0.3 | R67: 14.4 | S67: 27.6 | T67: 0.3 | U67: 0.025 | V67: 13 | Y67: ID/OD(mm): 60/130, C/C0(kN): 173/160 | Z67: 60 | AA67: 130 | AB67: 31 | AC67: 173 | AD67: 160 | AE67: 21.2 | AF67: 5600 | AG67: 6700 | AH67: 1.75 | AI67: *NU312ECPJ.M.ML | AL67: 84.3 | AM67: 110 | AN67: 77 | AO67: 2.1 | AP67: 2.1 | AQ67: 2.1 | AR67: 72 | AS67: 74 | AT67: 79 | AU67: 118 | AV67: 2 | AW67: 2 | AX67: 0.15
B68: =CONCATENATE("ID/OD(mm): ",C68,"/",D68,", C/C0(kN): ",F68,"/",G68) -> ID/OD(mm): 25/47, C/C0(kN): 8.06/4.75 | C68: 25 | D68: 47 | E68: 8 | F68: 8.06 | G68: 4.75 | H68: 0.212 | I68: 32000 | J68: 20000 | K68: 0.06 | L68: * 16005 | N68: 30.2 | O68: 36.8 | P68: 37.7 | Q68: 0.3 | R68: 27 | S68: 40 | T68: 0.3 | U68: 0.02 | V68: 15 | Y68: ID/OD(mm): 60/130, C/C0(kN): 260/265 | Z68: 60 | AA68: 130 | AB68: 46 | AC68: 260 | AD68: 265 | AE68: 34.5 | AF68: 5600 | AG68: 6700 | AH68: 2.75 | AI68: *NU2312ECPJ.M.ML | AL68: 84.3 | AM68: 110 | AN68: 77 | AO68: 2.1 | AP68: 2.1 | AQ68: 3.6 | AR68: 72 | AS68: 74 | AT68: 79 | AU68: 118 | AV68: 2 | AW68: 2 | AX68: 0.25
B69: =CONCATENATE("ID/OD(mm): ",C69,"/",D69,", C/C0(kN): ",F69,"/",G69) -> ID/OD(mm): 15/35, C/C0(kN): 8.06/3.75 | C69: 15 | D69: 35 | E69: 11 | F69: 8.06 | G69: 3.75 | H69: 0.16 | I69: 43000 | J69: 28000 | K69: 0.045 | L69: * 6202 | N69: 20.5 | O69: 26.7 | P69: 28.2 | Q69: 0.3 | R69: 17 | S69: 30 | T69: 0.3 | U69: 0.025 | V69: 14 | Y69: ID/OD(mm): 60/150, C/C0(kN): 168/173 | Z69: 60 | AA69: 150 | AB69: 35 | AC69: 168 | AD69: 173 | AE69: 22 | AF69: 5000 | AG69: 6000 | AH69: 3 | AI69: NU412– | AL69: – | AM69: 117 | AN69: 83 | AO69: 2.1 | AP69: 2.1 | AQ69: 2.5 | AR69: 74 | AS69: 80 | AT69: 85 | AU69: 136 | AV69: 2 | AW69: 2 | AX69: 0.15
B70: =CONCATENATE("ID/OD(mm): ",C70,"/",D70,", C/C0(kN): ",F70,"/",G70) -> ID/OD(mm): 10/35, C/C0(kN): 8.52/3.4 | C70: 10 | D70: 35 | E70: 11 | F70: 8.52 | G70: 3.4 | H70: 0.143 | I70: 50000 | J70: 32000 | K70: 0.053 | L70: * 6300 | N70: 17 | O70: 23.2 | P70: 24.8 | Q70: 0.6 | R70: 14.2 | S70: 25.8 | T70: 0.6 | U70: 0.025 | V70: 13 | Y70: ID/OD(mm): 65/100, C/C0(kN): 62.7/81.5 | Z70: 65 | AA70: 100 | AB70: 18 | AC70: 62.7 | AD70: 81.5 | AE70: 9.8 | AF70: 7500 | AG70: 7500 | AH70: 0.45 | AI70: NU1013ECP– | AK70: 65 | AL70: – | AM70: 88.5 | AN70: 74 | AO70: 1.1 | AP70: 1 | AQ70: 1 | AR70: 69.6 | AS70: 72 | AT70: 76 | AU70: 94 | AV70: 1 | AW70: 1 | AX70: 0.1
B71: =CONCATENATE("ID/OD(mm): ",C71,"/",D71,", C/C0(kN): ",F71,"/",G71) -> ID/OD(mm): 55/72, C/C0(kN): 9/8.8 | C71: 55 | D71: 72 | E71: 9 | F71: 9 | G71: 8.8 | H71: 0.375 | I71: 19000 | J71: 12000 | K71: 0.083 | L71: 61811 | N71: 75.4 | O71: 105 | P71: – | Q71: 2.1 | R71: 64 | S71: 116 | T71: 2 | U71: 0.035 | V71: 12 | Y71: ID/OD(mm): 65/120, C/C0(kN): 122/118 | Z71: 65 | AA71: 120 | AB71: 23 | AC71: 122 | AD71: 118 | AE71: 15.6 | AF71: 6300 | AG71: 6700 | AH71: 1.05 | AI71: *NU213ECPJ.M.ML | AL71: 84.4 | AM71: 104 | AN71: 78.5 | AO71: 1.5 | AP71: 1.5 | AQ71: 1.4 | AR71: 74 | AS71: 76 | AT71: 81 | AU71: 110 | AV71: 1.5 | AW71: 1.5 | AX71: 0.15
B72: =CONCATENATE("ID/OD(mm): ",C72,"/",D72,", C/C0(kN): ",F72,"/",G72) -> ID/OD(mm): 17/40, C/C0(kN): 9.95/4.75 | C72: 17 | D72: 40 | E72: 12 | F72: 9.95 | G72: 4.75 | H72: 0.2 | I72: 38000 | J72: 24000 | K72: 0.065 | L72: * 6203 | N72: 23 | O72: 29.2 | P72: 31.2 | Q72: 0.3 | R72: 19 | S72: 33 | T72: 0.3 | U72: 0.025 | V72: 14 | Y72: ID/OD(mm): 65/120, C/C0(kN): 170/180 | Z72: 65 | AA72: 120 | AB72: 31 | AC72: 170 | AD72: 180 | AE72: 24 | AF72: 6300 | AG72: 6700 | AH72: 1.4 | AI72: *NU2213ECPJ.ML | AL72: 84.4 | AM72: 104 | AN72: 78.5 | AO72: 1.5 | AP72: 1.5 | AQ72: 1.9 | AR72: 74 | AS72: 76 | AT72: 81 | AU72: 110 | AV72: 1.5 | AW72: 1.5 | AX72: 0.2
B73: =CONCATENATE("ID/OD(mm): ",C73,"/",D73,", C/C0(kN): ",F73,"/",G73) -> ID/OD(mm): 20/42, C/C0(kN): 9.95/5 | C73: 20 | D73: 42 | E73: 12 | F73: 9.95 | G73: 5 | H73: 0.212 | I73: 38000 | J73: 24000 | K73: 0.067 | L73: * 6004 | N73: 27.3 | O73: 34.6 | P73: – | Q73: 0.3 | R73: 22 | S73: 40 | T73: 0.3 | U73: 0.02 | V73: 15 | Y73: ID/OD(mm): 65/140, C/C0(kN): 212/196 | Z73: 65 | AA73: 140 | AB73: 33 | AC73: 212 | AD73: 196 | AE73: 25.5 | AF73: 5300 | AG73: 6000 | AH73: 2.2 | AI73: *NU313ECPJ.M.ML. | AK73: PH | AL73: 90.5 | AM73: 119 | AN73: 82.5 | AO73: 2.1 | AP73: 2.1 | AQ73: 2.2 | AR73: 77 | AS73: 80 | AT73: 85 | AU73: 127 | AV73: 2 | AW73: 2 | AX73: 0.15
B74: =CONCATENATE("ID/OD(mm): ",C74,"/",D74,", C/C0(kN): ",F74,"/",G74) -> ID/OD(mm): 12/37, C/C0(kN): 10.1/4.15 | C74: 12 | D74: 37 | E74: 12 | F74: 10.1 | G74: 4.15 | H74: 0.176 | I74: 45000 | J74: 28000 | K74: 0.06 | L74: * 6301 | N74: 18.4 | O74: 25.7 | P74: 27.4 | Q74: 0.6 | R74: 16.2 | S74: 27.8 | T74: 0.6 | U74: 0.025 | V74: 12 | Y74: ID/OD(mm): 65/140, C/C0(kN): 285/290 | Z74: 65 | AA74: 140 | AB74: 48 | AC74: 285 | AD74: 290 | AE74: 38 | AF74: 5300 | AG74: 6000 | AH74: 3.2 | AI74: *NU2313ECPML.PH | AL74: 90.5 | AM74: 119 | AN74: 82.5 | AO74: 2.1 | AP74: 2.1 | AQ74: 4.7 | AR74: 77 | AS74: 80 | AT74: 85 | AU74: 127 | AV74: 2 | AW74: 2 | AX74: 0.25
B75: =CONCATENATE("ID/OD(mm): ",C75,"/",D75,", C/C0(kN): ",F75,"/",G75) -> ID/OD(mm): 35/55, C/C0(kN): 10.8/7.8 | C75: 35 | D75: 55 | E75: 10 | F75: 10.8 | G75: 7.8 | H75: 0.325 | I75: 26000 | J75: 16000 | K75: 0.08 | L75: 61907 | M75: 35 | N75: 38.2 | O75: 42.8 | P75: – | Q75: 0.3 | R75: 37 | S75: 45 | T75: 0.3 | U75: 0.015 | V75: 14 | Y75: ID/OD(mm): 65/160, C/C0(kN): 183/190 | Z75: 65 | AA75: 160 | AB75: 37 | AC75: 183 | AD75: 190 | AE75: 24 | AF75: 4800 | AG75: 5600 | AH75: 3.55 | AI75: NU413M | AL75: 98.5 | AM75: 125 | AN75: 89.3 | AO75: 2.1 | AP75: 2.1 | AQ75: 2.6 | AR75: 78 | AS75: 86 | AT75: 91 | AU75: 146 | AV75: 2 | AW75: 2 | AX75: 0.15
B76: =CONCATENATE("ID/OD(mm): ",C76,"/",D76,", C/C0(kN): ",F76,"/",G76) -> ID/OD(mm): 17/40, C/C0(kN): 11.4/5.4 | C76: 17 | D76: 40 | E76: 12 | F76: 11.4 | G76: 5.4 | H76: 0.228 | I76: 38000 | J76: 24000 | K76: 0.064 | L76: 6203 ETN9 | N76: 24.5 | O76: 32.7 | P76: 35 | Q76: 0.6 | R76: 21.2 | S76: 35.8 | T76: 0.6 | U76: 0.025 | V76: 13 | Y76: ID/OD(mm): 70/110, C/C0(kN): 76.5/93 | Z76: 70 | AA76: 110 | AB76: 20 | AC76: 76.5 | AD76: 93 | AE76: 12 | AF76: 7000 | AG76: 7000 | AH76: 0.62 | AI76: NU1014ECP– | AK76: 70 | AL76: 84 | AM76: 97.5 | AN76: 79.5 | AO76: 1.1 | AP76: 1 | AQ76: 1.3 | AR76: 74.6 | AS76: 78 | AT76: 82 | AU76: 104 | AV76: 1 | AW76: 1 | AX76: 0.1
B77: =CONCATENATE("ID/OD(mm): ",C77,"/",D77,", C/C0(kN): ",F77,"/",G77) -> ID/OD(mm): 30/55, C/C0(kN): 11.9/7.35 | C77: 30 | D77: 55 | E77: 9 | F77: 11.9 | G77: 7.35 | H77: 0.31 | I77: 28000 | J77: 17000 | K77: 0.089 | L77: * 16006 | N77: 35.2 | O77: 41.7 | P77: 42.7 | Q77: 0.3 | R77: 32 | S77: 45 | T77: 0.3 | U77: 0.02 | V77: 14 | Y77: ID/OD(mm): 70/125, C/C0(kN): 137/137 | Z77: 70 | AA77: 125 | AB77: 24 | AC77: 137 | AD77: 137 | AE77: 18 | AF77: 6000 | AG77: 6300 | AH77: 1.15 | AI77: *NU214ECPJ.M.ML.PH | AL77: 89.4 | AM77: 109 | AN77: 83.5 | AO77: 1.5 | AP77: 1.5 | AQ77: 1.2 | AR77: 79 | AS77: 81 | AT77: 86 | AU77: 115 | AV77: 1.5 | AW77: 1.5 | AX77: 0.15
B78: =CONCATENATE("ID/OD(mm): ",C78,"/",D78,", C/C0(kN): ",F78,"/",G78) -> ID/OD(mm): 60/78, C/C0(kN): 11.9/11.4 | C78: 60 | D78: 78 | E78: 10 | F78: 11.9 | G78: 11.4 | H78: 0.49 | I78: 17000 | J78: 11000 | K78: 0.11 | L78: 61812 | N78: 81.5 | O78: 114 | P78: – | Q78: 2.1 | R78: 69 | S78: 126 | T78: 2 | U78: 0.035 | V78: 12 | Y78: ID/OD(mm): 70/125, C/C0(kN): 180/193 | Z78: 70 | AA78: 125 | AB78: 31 | AC78: 180 | AD78: 193 | AE78: 25.5 | AF78: 6000 | AG78: 6300 | AH78: 1.5 | AI78: *NU2214ECPJ.M.ML.PH | AL78: 89.4 | AM78: 109 | AN78: 83.5 | AO78: 1.5 | AP78: 1.5 | AQ78: 1.7 | AR78: 79 | AS78: 81 | AT78: 86 | AU78: 115 | AV78: 1.5 | AW78: 1.5 | AX78: 0.2
B79: =CONCATENATE("ID/OD(mm): ",C79,"/",D79,", C/C0(kN): ",F79,"/",G79) -> ID/OD(mm): 25/47, C/C0(kN): 11.9/6.55 | C79: 25 | D79: 47 | E79: 12 | F79: 11.9 | G79: 6.55 | H79: 0.275 | I79: 32000 | J79: 20000 | K79: 0.078 | L79: * 6005 | N79: 33.3 | O79: 40.7 | P79: – | Q79: 0.3 | R79: 27 | S79: 45 | T79: 0.3 | U79: 0.02 | V79: 15 | Y79: ID/OD(mm): 70/150, C/C0(kN): 236/228 | Z79: 70 | AA79: 150 | AB79: 35 | AC79: 236 | AD79: 228 | AE79: 29 | AF79: 4800 | AG79: 5600 | AH79: 2.7 | AI79: *NU314ECPJ.M.ML | AL79: 97.3 | AM79: 127 | AN79: 89 | AO79: 2.1 | AP79: 2.1 | AQ79: 1.8 | AR79: 82 | AS79: 86 | AT79: 92 | AU79: 137 | AV79: 2 | AW79: 2 | AX79: 0.15
B80: =CONCATENATE("ID/OD(mm): ",C80,"/",D80,", C/C0(kN): ",F80,"/",G80) -> ID/OD(mm): 15/42, C/C0(kN): 11.9/5.4 | C80: 15 | D80: 42 | E80: 13 | F80: 11.9 | G80: 5.4 | H80: 0.228 | I80: 38000 | J80: 24000 | K80: 0.082 | L80: * 6302 | N80: 21.7 | O80: 29 | P80: 30.4 | Q80: 0.6 | R80: 19.2 | S80: 30.8 | T80: 0.6 | U80: 0.025 | V80: 13 | Y80: ID/OD(mm): 70/150, C/C0(kN): 315/325 | Z80: 70 | AA80: 150 | AB80: 51 | AC80: 315 | AD80: 325 | AE80: 41.5 | AF80: 4800 | AG80: 5600 | AH80: 3.95 | AI80: *NU2314ECPJ.ML.PH | AL80: 97.3 | AM80: 127 | AN80: 89 | AO80: 2.1 | AP80: 2.1 | AQ80: 4.8 | AR80: 82 | AS80: 86 | AT80: 92 | AU80: 137 | AV80: 2 | AW80: 2 | AX80: 0.25
B81: =CONCATENATE("ID/OD(mm): ",C81,"/",D81,", C/C0(kN): ",F81,"/",G81) -> ID/OD(mm): 65/85, C/C0(kN): 12.4/12.7 | C81: 65 | D81: 85 | E81: 10 | F81: 12.4 | G81: 12.7 | H81: 0.54 | I81: 16000 | J81: 10000 | K81: 0.13 | L81: 61813 | N81: 88.1 | O81: 122 | P81: – | Q81: 2.1 | R81: 74 | S81: 136 | T81: 2 | U81: 0.035 | V81: 12 | Y81: ID/OD(mm): 70/180, C/C0(kN): 229/240 | Z81: 70 | AA81: 180 | AB81: 42 | AC81: 229 | AD81: 240 | AE81: 30 | AF81: 4300 | AG81: 5000 | AH81: 5.35 | AI81: NU414MA | AL81: 110 | AM81: 140 | AN81: 100 | AO81: 3 | AP81: 3 | AQ81: 3.5 | AR81: 87 | AS81: 97 | AT81: 102 | AU81: 164 | AV81: 2.5 | AW81: 2.5 | AX81: 0.15
B82: =CONCATENATE("ID/OD(mm): ",C82,"/",D82,", C/C0(kN): ",F82,"/",G82) -> ID/OD(mm): 70/90, C/C0(kN): 12.4/13.2 | C82: 70 | D82: 90 | E82: 10 | F82: 12.4 | G82: 13.2 | H82: 0.56 | I82: 15000 | J82: 9000 | K82: 0.14 | L82: 61814 | N82: 94 | O82: 131 | P82: – | Q82: 2.1 | R82: 79 | S82: 146 | T82: 2 | U82: 0.035 | V82: 12 | Y82: ID/OD(mm): 75/115, C/C0(kN): 58.3/71 | Z82: 75 | AA82: 115 | AB82: 20 | AC82: 58.3 | AD82: 71 | AE82: 8.5 | AF82: 6700 | AG82: 10000 | AH82: 0.75 | AI82: NU1015MLM | AK82: 75 | AL82: – | AM82: 101 | AN82: 85 | AO82: 1.1 | AP82: 1 | AQ82: 3 | AR82: 80 | AS82: 83 | AT82: 87 | AU82: 109 | AV82: 1 | AW82: 1 | AX82: 0.15
B83: =CONCATENATE("ID/OD(mm): ",C83,"/",D83,", C/C0(kN): ",F83,"/",G83) -> ID/OD(mm): 75/95, C/C0(kN): 12.7/14.3 | C83: 75 | D83: 95 | E83: 10 | F83: 12.7 | G83: 14.3 | H83: 0.61 | I83: 14000 | J83: 8500 | K83: 0.15 | L83: 61815 | N83: 103 | O83: 146 | P83: – | Q83: 3 | R83: 86 | S83: 164 | T83: 2.5 | U83: 0.035 | V83: 12 | Y83: ID/OD(mm): 75/130, C/C0(kN): 150/156 | Z83: 75 | AA83: 130 | AB83: 25 | AC83: 150 | AD83: 156 | AE83: 20.4 | AF83: 5600 | AG83: 6000 | AH83: 1.25 | AI83: *NU215ECPJ.M.ML | AL83: 94.3 | AM83: 114 | AN83: 88.5 | AO83: 1.5 | AP83: 1.5 | AQ83: 1.2 | AR83: 84 | AS83: 86 | AT83: 91 | AU83: 121 | AV83: 1.5 | AW83: 1.5 | AX83: 0.15
B84: =CONCATENATE("ID/OD(mm): ",C84,"/",D84,", C/C0(kN): ",F84,"/",G84) -> ID/OD(mm): 35/62, C/C0(kN): 13/8.15 | C84: 35 | D84: 62 | E84: 9 | F84: 13 | G84: 8.15 | H84: 0.375 | I84: 24000 | J84: 15000 | K84: 0.11 | L84: * 16007 | N84: 42.2 | O84: 50.1 | P84: 52.2 | Q84: 0.6 | R84: 38.2 | S84: 51.8 | T84: 0.6 | U84: 0.02 | V84: 16 | Y84: ID/OD(mm): 75/130, C/C0(kN): 186/208 | Z84: 75 | AA84: 130 | AB84: 31 | AC84: 186 | AD84: 208 | AE84: 27 | AF84: 5600 | AG84: 6000 | AH84: 1.6 | AI84: *NU2215ECPJ.ML.PH | AL84: – | AM84: 114 | AN84: 88.5 | AO84: 1.5 | AP84: 1.5 | AQ84: 1.7 | AR84: 84 | AS84: 86 | AT84: 91 | AU84: 121 | AV84: 1.5 | AW84: 1.5 | AX84: 0.2
B85: =CONCATENATE("ID/OD(mm): ",C85,"/",D85,", C/C0(kN): ",F85,"/",G85) -> ID/OD(mm): 80/100, C/C0(kN): 13/15 | C85: 80 | D85: 100 | E85: 10 | F85: 13 | G85: 15 | H85: 0.64 | I85: 13000 | J85: 8000 | K85: 0.15 | L85: 61816 | N85: 110 | O85: 155 | P85: – | Q85: 3 | R85: 91 | S85: 174 | T85: 2.5 | U85: 0.035 | V85: 12 | Y85: ID/OD(mm): 75/160, C/C0(kN): 280/265 | Z85: 75 | AA85: 160 | AB85: 37 | AC85: 280 | AD85: 265 | AE85: 33.5 | AF85: 4500 | AG85: 5300 | AH85: 3.3 | AI85: *NU315ECPJ.M.ML | AL85: 104 | AM85: 136 | AN85: 95 | AO85: 2.1 | AP85: 2.1 | AQ85: 1.8 | AR85: 87 | AS85: 92 | AT85: 97 | AU85: 148 | AV85: 2 | AW85: 2 | AX85: 0.15
B86: =CONCATENATE("ID/OD(mm): ",C86,"/",D86,", C/C0(kN): ",F86,"/",G86) -> ID/OD(mm): 20/47, C/C0(kN): 13.5/6.55 | C86: 20 | D86: 47 | E86: 14 | F86: 13.5 | G86: 6.55 | H86: 0.28 | I86: 32000 | J86: 20000 | K86: 0.11 | L86: * 6204 | N86: 27.2 | O86: 34.8 | P86: 37.2 | Q86: 0.6 | R86: 23.2 | S86: 38.8 | T86: 0.6 | U86: 0.025 | V86: 14 | Y86: ID/OD(mm): 75/160, C/C0(kN): 380/400 | Z86: 75 | AA86: 160 | AB86: 55 | AC86: 380 | AD86: 400 | AE86: 50 | AF86: 4500 | AG86: 5300 | AH86: 4.8 | AI86: *NU2315ECPJ.ML | AL86: 104 | AM86: 136 | AN86: 95 | AO86: 2.1 | AP86: 2.1 | AQ86: 4.8 | AR86: 87 | AS86: 92 | AT86: 97 | AU86: 148 | AV86: 2 | AW86: 2 | AX86: 0.25
B87: =CONCATENATE("ID/OD(mm): ",C87,"/",D87,", C/C0(kN): ",F87,"/",G87) -> ID/OD(mm): 40/68, C/C0(kN): 13.8/10.2 | C87: 40 | D87: 68 | E87: 9 | F87: 13.8 | G87: 10.2 | H87: 0.44 | I87: 22000 | J87: 14000 | K87: 0.13 | L87: * 16008 | N87: 46.9 | O87: 55.1 | P87: – | Q87: 0.6 | R87: 43.2 | S87: 58.8 | T87: 0.6 | U87: 0.02 | V87: 16 | Y87: ID/OD(mm): 75/190, C/C0(kN): 264/280 | Z87: 75 | AA87: 190 | AB87: 45 | AC87: 264 | AD87: 280 | AE87: 34 | AF87: 4000 | AG87: 4800 | AH87: 6.2 | AI87: NU415– | AL87: 116 | AM87: 148 | AN87: 104.5 | AO87: 3 | AP87: 3 | AQ87: 3.8 | AR87: 91 | AS87: 101 | AT87: 107 | AU87: 174 | AV87: 2.5 | AW87: 2.5 | AX87: 0.15
B88: =CONCATENATE("ID/OD(mm): ",C88,"/",D88,", C/C0(kN): ",F88,"/",G88) -> ID/OD(mm): 40/62, C/C0(kN): 13.8/10 | C88: 40 | D88: 62 | E88: 12 | F88: 13.8 | G88: 10 | H88: 0.425 | I88: 24000 | J88: 14000 | K88: 0.12 | L88: 61908 | M88: 40 | N88: 43.2 | O88: 48.1 | P88: – | Q88: 0.3 | R88: 42 | S88: 50 | T88: 0.3 | U88: 0.015 | V88: 15 | Y88: ID/OD(mm): 80/125, C/C0(kN): 64.4/78 | Z88: 80 | AA88: 125 | AB88: 22 | AC88: 64.4 | AD88: 78 | AE88: 9.8 | AF88: 6300 | AG88: 6300 | AH88: 0.88 | AI88: NU1016– | AK88: 80 | AL88: – | AM88: 109 | AN88: 91.5 | AO88: 1.1 | AP88: 1 | AQ88: 3.3 | AR88: 86 | AS88: 90 | AT88: 94 | AU88: 119 | AV88: 1 | AW88: 1 | AX88: 0.1
B89: =CONCATENATE("ID/OD(mm): ",C89,"/",D89,", C/C0(kN): ",F89,"/",G89) -> ID/OD(mm): 30/55, C/C0(kN): 13.8/8.3 | C89: 30 | D89: 55 | E89: 13 | F89: 13.8 | G89: 8.3 | H89: 0.355 | I89: 28000 | J89: 17000 | K89: 0.12 | L89: * 6006 | N89: 37.7 | O89: 47.3 | P89: – | Q89: 0.3 | R89: 32 | S89: 53 | T89: 0.3 | U89: 0.02 | V89: 15 | Y89: ID/OD(mm): 80/125, C/C0(kN): 99/127 | Z89: 80 | AA89: 125 | AB89: 22 | AC89: 99 | AD89: 127 | AE89: 16.3 | AF89: 6000 | AG89: 9500 | AH89: 1.05 | AI89: NJ1016ECML– | AL89: 96.2 | AM89: 111 | AN89: 91.5 | AO89: 1.1 | AP89: 1 | AQ89: 1.5 | AR89: 86 | AS89: 90 | AT89: 99 | AU89: 119 | AV89: 1 | AW89: 1 | AX89: 0.15
B90: =CONCATENATE("ID/OD(mm): ",C90,"/",D90,", C/C0(kN): ",F90,"/",G90) -> ID/OD(mm): 45/68, C/C0(kN): 14/10.8 | C90: 45 | D90: 68 | E90: 12 | F90: 14 | G90: 10.8 | H90: 0.465 | I90: 20000 | J90: 13000 | K90: 0.14 | L90: 61909 | M90: 45 | N90: 49.1 | O90: 53.9 | P90: – | Q90: 0.3 | R90: 47 | S90: 56 | T90: 0.3 | U90: 0.015 | V90: 17 | Y90: ID/OD(mm): 80/140, C/C0(kN): 160/166 | Z90: 80 | AA90: 140 | AB90: 26 | AC90: 160 | AD90: 166 | AE90: 21.2 | AF90: 5300 | AG90: 5600 | AH90: 1.55 | AI90: *NU216ECPJ.M.ML | AL90: 101 | AM90: 123 | AN90: 95.3 | AO90: 2 | AP90: 2 | AQ90: 1.4 | AR90: 90 | AS90: 93 | AT90: 98 | AU90: 129 | AV90: 2 | AW90: 2 | AX90: 0.15
B91: =CONCATENATE("ID/OD(mm): ",C91,"/",D91,", C/C0(kN): ",F91,"/",G91) -> ID/OD(mm): 22/50, C/C0(kN): 14/7.65 | C91: 22 | D91: 50 | E91: 14 | F91: 14 | G91: 7.65 | H91: 0.325 | I91: 30000 | J91: 19000 | K91: 0.13 | L91: 62/22 | N91: 37.1 | O91: 54.8 | P91: – | Q91: 1.1 | R91: 29 | S91: 63 | T91: 1 | U91: 0.035 | V91: 11 | Y91: ID/OD(mm): 80/140, C/C0(kN): 212/245 | Z91: 80 | AA91: 140 | AB91: 33 | AC91: 212 | AD91: 245 | AE91: 31 | AF91: 5300 | AG91: 5600 | AH91: 2 | AI91: *NU2216ECPJ.M.ML | AL91: 101 | AM91: 123 | AN91: 95.3 | AO91: 2 | AP91: 2 | AQ91: 1.4 | AR91: 90 | AS91: 93 | AT91: 98 | AU91: 129 | AV91: 2 | AW91: 2 | AX91: 0.2
B92: =CONCATENATE("ID/OD(mm): ",C92,"/",D92,", C/C0(kN): ",F92,"/",G92) -> ID/OD(mm): 17/47, C/C0(kN): 14.3/6.55 | C92: 17 | D92: 47 | E92: 14 | F92: 14.3 | G92: 6.55 | H92: 0.275 | I92: 34000 | J92: 22000 | K92: 0.11 | L92: * 6303 | N92: 24.5 | O92: 32.7 | P92: – | Q92: 0.6 | R92: 21.2 | S92: 35.8 | T92: 0.6 | U92: 0.03 | V92: 12 | Y92: ID/OD(mm): 80/170, C/C0(kN): 300/290 | Z92: 80 | AA92: 170 | AB92: 39 | AC92: 300 | AD92: 290 | AE92: 36 | AF92: 4300 | AG92: 5000 | AH92: 3.85 | AI92: *NU316ECPJ.M.ML | AL92: 110 | AM92: 144 | AN92: 101 | AO92: 2.1 | AP92: 2.1 | AQ92: 2.1 | AR92: 92 | AS92: 98 | AT92: 104 | AU92: 157 | AV92: 2 | AW92: 2 | AX92: 0.15
B93: =CONCATENATE("ID/OD(mm): ",C93,"/",D93,", C/C0(kN): ",F93,"/",G93) -> ID/OD(mm): 50/72, C/C0(kN): 14.6/11.8 | C93: 50 | D93: 72 | E93: 12 | F93: 14.6 | G93: 11.8 | H93: 0.5 | I93: 19000 | J93: 12000 | K93: 0.14 | L93: 61910 | M93: 50 | N93: 55.1 | O93: 59.9 | P93: – | Q93: 0.3 | R93: 52 | S93: 63 | T93: 0.3 | U93: 0.015 | V93: 17 | Y93: ID/OD(mm): 80/170, C/C0(kN): 415/440 | Z93: 80 | AA93: 170 | AB93: 58 | AC93: 415 | AD93: 440 | AE93: 55 | AF93: 4300 | AG93: 5000 | AH93: 5.85 | AI93: *NU2316ECPM.ML | AL93: 110 | AM93: 144 | AN93: 101 | AO93: 2.1 | AP93: 2.1 | AQ93: 5.1 | AR93: 92 | AS93: 98 | AT93: 104 | AU93: 157 | AV93: 2 | AW93: 2 | AX93: 0.25
B94: =CONCATENATE("ID/OD(mm): ",C94,"/",D94,", C/C0(kN): ",F94,"/",G94) -> ID/OD(mm): 25/52, C/C0(kN): 14.8/7.8 | C94: 25 | D94: 52 | E94: 15 | F94: 14.8 | G94: 7.8 | H94: 0.335 | I94: 28000 | J94: 18000 | K94: 0.13 | L94: * 6205 | M94: 32 | N94: 40 | O94: 42.2 | P94: 0.6 | Q94: 28.2 | R94: 43.8 | S94: 0.6 | T94: 0.025 | U94: 14 | Y94: ID/OD(mm): 80/200, C/C0(kN): 303/320 | Z94: 80 | AA94: 200 | AB94: 48 | AC94: 303 | AD94: 320 | AE94: 39 | AF94: 3800 | AG94: 4500 | AH94: 7.25 | AI94: NU416M | AL94: 122 | AM94: 157 | AN94: 110 | AO94: 3 | AP94: 3 | AQ94: 3.7 | AR94: 96 | AS94: 107 | AT94: 112 | AU94: 184 | AV94: 2.5 | AW94: 2.5 | AX94: 0.15
B95: =CONCATENATE("ID/OD(mm): ",C95,"/",D95,", C/C0(kN): ",F95,"/",G95) -> ID/OD(mm): 20/47, C/C0(kN): 15.6/7.65 | C95: 20 | D95: 47 | E95: 14 | F95: 15.6 | G95: 7.65 | H95: 0.325 | I95: 32000 | J95: 20000 | K95: 0.098 | L95: 6204 ETN9 | N95: 28.8 | O95: 38.5 | P95: 40.6 | Q95: 1 | R95: 25.6 | S95: 41.4 | T95: 1 | U95: 0.025 | V95: 13 | Y95: ID/OD(mm): 85/150, C/C0(kN): 190/200 | Z95: 85 | AA95: 150 | AB95: 28 | AC95: 190 | AD95: 200 | AE95: 25 | AF95: 4800 | AG95: 5300 | AH95: 1.9 | AI95: *NU217ECPJ.M.ML | AL95: 107 | AM95: 131 | AN95: 100.5 | AO95: 2 | AP95: 2 | AQ95: 1.5 | AR95: 96 | AS95: 98 | AT95: 103 | AU95: 138 | AV95: 2 | AW95: 2 | AX95: 0.15
B96: =CONCATENATE("ID/OD(mm): ",C96,"/",D96,", C/C0(kN): ",F96,"/",G96) -> ID/OD(mm): 45/75, C/C0(kN): 16.5/10.8 | C96: 45 | D96: 75 | E96: 10 | F96: 16.5 | G96: 10.8 | H96: 0.52 | I96: 20000 | J96: 12000 | K96: 0.17 | L96: * 16009 | N96: 52.4 | O96: 60.6 | P96: – | Q96: 0.6 | R96: 48.2 | S96: 64.8 | T96: 0.6 | U96: 0.02 | V96: 16 | Y96: ID/OD(mm): 85/150, C/C0(kN): 250/280 | Z96: 85 | AA96: 150 | AB96: 36 | AC96: 250 | AD96: 280 | AE96: 34.5 | AF96: 4800 | AG96: 5300 | AH96: 2.5 | AI96: *NU2217ECPJ.M.ML | AL96: – | AM96: 131 | AN96: 100.5 | AO96: 2 | AP96: 2 | AQ96: 2 | AR96: 96 | AS96: 98 | AT96: 103 | AU96: 138 | AV96: 2 | AW96: 2 | AX96: 0.2
B97: =CONCATENATE("ID/OD(mm): ",C97,"/",D97,", C/C0(kN): ",F97,"/",G97) -> ID/OD(mm): 55/80, C/C0(kN): 16.5/14 | C97: 55 | D97: 80 | E97: 13 | F97: 16.5 | G97: 14 | H97: 0.6 | I97: 17000 | J97: 11000 | K97: 0.19 | L97: 61911 | M97: 55 | N97: 60.6 | O97: 66.4 | P97: – | Q97: 0.3 | R97: 57 | S97: 70 | T97: 0.3 | U97: 0.015 | V97: 17 | Y97: ID/OD(mm): 85/180, C/C0(kN): 340/335 | Z97: 85 | AA97: 180 | AB97: 41 | AC97: 340 | AD97: 335 | AE97: 41.5 | AF97: 4000 | AG97: 4800 | AH97: 4.65 | AI97: *NU317ECPJ.M.ML | AL97: 117 | AM97: 153 | AN97: 108 | AO97: 3 | AP97: 3 | AQ97: 2.3 | AR97: 99 | AS97: 105 | AT97: 111 | AU97: 165 | AV97: 2.5 | AW97: 2.5 | AX97: 0.15
B98: =CONCATENATE("ID/OD(mm): ",C98,"/",D98,", C/C0(kN): ",F98,"/",G98) -> ID/OD(mm): 60/85, C/C0(kN): 16.5/14.3 | C98: 60 | D98: 85 | E98: 13 | F98: 16.5 | G98: 14.3 | H98: 0.6 | I98: 16000 | J98: 10000 | K98: 0.2 | L98: 61912 | M98: 60 | N98: 65.6 | O98: 72.4 | P98: – | Q98: 0.3 | R98: 62 | S98: 76 | T98: 0.3 | U98: 0.015 | V98: 17 | Y98: ID/OD(mm): 85/180, C/C0(kN): 455/490 | Z98: 85 | AA98: 180 | AB98: 60 | AC98: 455 | AD98: 490 | AE98: 60 | AF98: 4000 | AG98: 4800 | AH98: 6.85 | AI98: *NU2317ECPJ.M.ML | AL98: 117 | AM98: 153 | AN98: 108 | AO98: 3 | AP98: 3 | AQ98: 5.8 | AR98: 99 | AS98: 105 | AT98: 111 | AU98: 165 | AV98: 2.5 | AW98: 2.5 | AX98: 0.25
B99: =CONCATENATE("ID/OD(mm): ",C99,"/",D99,", C/C0(kN): ",F99,"/",G99) -> ID/OD(mm): 50/80, C/C0(kN): 16.8/11.4 | C99: 50 | D99: 80 | E99: 10 | F99: 16.8 | G99: 11.4 | H99: 0.56 | I99: 18000 | J99: 11000 | K99: 0.18 | L99: * 16010 | N99: 56.9 | O99: 65.1 | P99: – | Q99: 0.6 | R99: 53.2 | S99: 68.8 | T99: 0.6 | U99: 0.02 | V99: 16 | Y99: ID/OD(mm): 85/210, C/C0(kN): 319/335 | Z99: 85 | AA99: 210 | AB99: 52 | AC99: 319 | AD99: 335 | AE99: 39 | AF99: 3600 | AG99: 4300 | AH99: 8.7 | AI99: NU417M | AL99: 126 | AM99: 163 | AN99: 113 | AO99: 4 | AP99: 4 | AQ99: 3.8 | AR99: 103 | AS99: 109 | AT99: 115 | AU99: 191 | AV99: 3 | AW99: 3 | AX99: 0.15
B100: =CONCATENATE("ID/OD(mm): ",C100,"/",D100,", C/C0(kN): ",F100,"/",G100) -> ID/OD(mm): 35/62, C/C0(kN): 16.8/10.2 | C100: 35 | D100: 62 | E100: 14 | F100: 16.8 | G100: 10.2 | H100: 0.44 | I100: 24000 | J100: 15000 | K100: 0.15 | L100: * 6007 | N100: 44 | O100: 53 | P100: – | Q100: 0.3 | R100: 37 | S100: 60 | T100: 0.3 | U100: 0.02 | V100: 14 | Y100: ID/OD(mm): 90/140, C/C0(kN): 80.9/104 | Z100: 90 | AA100: 140 | AB100: 24 | AC100: 80.9 | AD100: 104 | AE100: 12.7 | AF100: 5600 | AG100: 8500 | AH100: 1.35 | AI100: NU1018MLM | AK100: 90 | AL100: – | AM100: 122 | AN100: 103 | AO100: 1.5 | AP100: 1.1 | AQ100: 3.5 | AR100: 96 | AS100: 101 | AT100: 106 | AU100: 133 | AV100: 1.5 | AW100: 1 | AX100: 0.15
B101: =CONCATENATE("ID/OD(mm): ",C101,"/",D101,", C/C0(kN): ",F101,"/",G101) -> ID/OD(mm): 20/52, C/C0(kN): 16.8/7.8 | C101: 20 | D101: 52 | E101: 15 | F101: 16.8 | G101: 7.8 | H101: 0.335 | I101: 30000 | J101: 19000 | K101: 0.14 | L101: * 6304 | N101: 28.2 | O101: 39.6 | P101: – | Q101: 1 | R101: 25.6 | S101: 41.4 | T101: 1 | U101: 0.025 | V101: 12 | Y101: ID/OD(mm): 90/160, C/C0(kN): 208/220 | Z101: 90 | AA101: 160 | AB101: 30 | AC101: 208 | AD101: 220 | AE101: 27 | AF101: 4500 | AG101: 5000 | AH101: 2.3 | AI101: *NU218ECPJ.M.ML | AL101: 114 | AM101: 140 | AN101: 107 | AO101: 2 | AP101: 2 | AQ101: 1.8 | AR101: 101 | AS101: 104 | AT101: 110 | AU101: 149 | AV101: 2 | AW101: 2 | AX101: 0.15
B102: =CONCATENATE("ID/OD(mm): ",C102,"/",D102,", C/C0(kN): ",F102,"/",G102) -> ID/OD(mm): 28/58, C/C0(kN): 16.8/9.5 | C102: 28 | D102: 58 | E102: 16 | F102: 16.8 | G102: 9.5 | H102: 0.405 | I102: 26000 | J102: 16000 | K102: 0.17 | L102: 62/28 | N102: 45.4 | O102: 62.9 | P102: – | Q102: 1.5 | R102: 34 | S102: 71 | T102: 1.5 | U102: 0.035 | V102: 12 | Y102: ID/OD(mm): 90/160, C/C0(kN): 280/315 | Z102: 90 | AA102: 160 | AB102: 40 | AC102: 280 | AD102: 315 | AE102: 39 | AF102: 4500 | AG102: 5000 | AH102: 3.15 | AI102: *NU2218ECPJ.M.ML | AL102: 114 | AM102: 140 | AN102: 107 | AO102: 2 | AP102: 2 | AQ102: 2.6 | AR102: 101 | AS102: 104 | AT102: 110 | AU102: 149 | AV102: 2 | AW102: 2 | AX102: 0.2
...

Sheet MIsc_Tables
B2: Summary/Gears | U2: Shafts
U3: Surface Finish | W3: a | X3: b | Z3: Materials (Shigleys/1986 SAE Handbook/misc.)
B4: Elastic Coefficient Cp, sqrt(psi) | K4: Gear Bending Strength, St(psi) and Contact Strength,Sc(psi) | U4: 1 | V4: Ground | W4: 1.21 | X4: -0.67 | Z4: AISI | AA4: Condition | AB4: Su | AC4: Sy | AD4: ͠σ,f
D5: Steel | E5: Malleable Iron | F5: Nodular Iron | G5: Cast Iron | H5: Al Bronze | I5: Tin Bronze | L5: Material | M5: m | N5: b | O5: St, min | P5: m | Q5: b | R5: Sc,min | S5: HB,min | U5: 2 | V5: Machined or CD | W5: 2 | X5: -0.217 | Y5: 1 | Z5: 1006 | AA5: HR | AB5: 43 | AC5: 24 | AE5: =CONCATENATE(Z5,AA5,",Su=",AB5,",Sy=",AC5,",σ,f=",IF(AD5,AD5,"n/a")) -> 1006HR,Su=43,Sy=24,σ,f=n/a
B6: 1 | C6: Steel | D6: 2300 | E6: 2180 | F6: 2160 | G6: 2100 | H6: 1950 | I6: 1900 | K6: 1 | L6: Steel, Through-Hardened, G1 | M6: 77.3 | N6: 12800 | P6: 322 | Q6: 29100 | U6: 3 | V6: HR | W6: 11 | X6: -0.65 | Y6: 2 | Z6: 1006 | AA6: CD | AB6: 48 | AC6: 41 | AE6: =CONCATENATE(Z6,AA6,",Su=",AB6,",Sy=",AC6,",σ,f=",IF(AD6,AD6,"n/a")) -> 1006CD,Su=48,Sy=41,σ,f=n/a
B7: 2 | C7: Malleable Iron | D7: 2180 | E7: 2090 | F7: 2070 | G7: 2020 | H7: 1900 | I7: 1850 | K7: 2 | L7: Steel, Through-Hardened, G2 | M7: 102 | N7: 16400 | P7: 349 | Q7: 34300 | U7: 4 | V7: As-forged | W7: 12.7 | X7: -0.758 | Y7: 3 | Z7: 1010 | AA7: HR | AB7: 47 | AC7: 26 | AE7: =CONCATENATE(Z7,AA7,",Su=",AB7,",Sy=",AC7,",σ,f=",IF(AD7,AD7,"n/a")) -> 1010HR,Su=47,Sy=26,σ,f=n/a
B8: 3 | C8: Nodular Iron | D8: 2160 | E8: 2070 | F8: 2050 | G8: 2000 | H8: 1880 | I8: 1830 | K8: 3 | L8: Steel, Nitrided, Through-Hardened, G1 | M8: 82.3 | N8: 12150 | R8: 150000 | Y8: 4 | Z8: 1010 | AA8: CD | AB8: 53 | AC8: 44 | AE8: =CONCATENATE(Z8,AA8,",Su=",AB8,",Sy=",AC8,",σ,f=",IF(AD8,AD8,"n/a")) -> 1010CD,Su=53,Sy=44,σ,f=n/a
B9: 4 | C9: Cast Iron | D9: 2100 | E9: 2020 | F9: 2000 | G9: 1960 | H9: 1850 | I9: 1800 | K9: 4 | L9: Steel, Nitrided, Through-Hardened, G2 | M9: 108.6 | N9: 15890 | R9: 163000 | U9: Reliability | Y9: 5 | Z9: 1015 | AA9: HR | AB9: 50 | AC9: 27.5 | AE9: =CONCATENATE(Z9,AA9,",Su=",AB9,",Sy=",AC9,",σ,f=",IF(AD9,AD9,"n/a")) -> 1015HR,Su=50,Sy=27.5,σ,f=n/a
B10: 5 | C10: Al Bronze | D10: 1950 | E10: 1900 | F10: 1880 | G10: 1850 | H10: 1750 | I10: 1700 | K10: 5 | L10: Steel, Nitrided, Nitralloy, G1 | M10: 86.2 | N10: 12730 | R10: 170000 | V10: Reliability | W10: ke | Y10: 6 | Z10: 1015 | AA10: CD | AB10: 56 | AC10: 47 | AE10: =CONCATENATE(Z10,AA10,",Su=",AB10,",Sy=",AC10,",σ,f=",IF(AD10,AD10,"n/a")) -> 1015CD,Su=56,Sy=47,σ,f=n/a
B11: 6 | C11: Tin Bronze | D11: 1900 | E11: 1850 | F11: 1830 | G11: 1800 | H11: 1700 | I11: 1650 | K11: 6 | L11: Steel, Nitrided, Nitralloy, G2 | M11: 113.8 | N11: 16650 | R11: 183000 | U11: 1 | V11: 0.5 | W11: 1 | Y11: 7 | Z11: 1018 | AA11: HR | AB11: 58 | AC11: 32 | AE11: =CONCATENATE(Z11,AA11,",Su=",AB11,",Sy=",AC11,",σ,f=",IF(AD11,AD11,"n/a")) -> 1018HR,Su=58,Sy=32,σ,f=n/a
K12: 7 | L12: Steel, Nitrided, 2.5% Chrome, G1 | M12: 105.2 | N12: 9280 | R12: 155000 | U12: 2 | V12: 0.9 | W12: 0.897 | Y12: 8 | Z12: 1018 | AA12: CD | AB12: 64 | AC12: 54 | AE12: =CONCATENATE(Z12,AA12,",Su=",AB12,",Sy=",AC12,",σ,f=",IF(AD12,AD12,"n/a")) -> 1018CD,Su=64,Sy=54,σ,f=n/a
C13: Overload Factor, Ko | K13: 8 | L13: Steel, Nitrided, 2.5% Chrome, G2 | M13: 105.2 | N13: 22280 | R13: 172000 | U13: 3 | V13: 0.95 | W13: 0.868 | Y13: 9 | Z13: 1018 | AA13: Annealed | AB13: 49.5 | AC13: 32 | AD13: 91.1 | AE13: =CONCATENATE(Z13,AA13,",Su=",AB13,",Sy=",AC13,",σ,f=",IF(AD13,AD13,"n/a")) -> 1018Annealed,Su=49.5,Sy=32,σ,f=91.1
C14: PS/DM | D14: Uniform | E14: Light Shock | F14: Medium Shock | K14: 9 | L14: Steel, Nitrided, 2.5% Chrome, G3 | M14: 105.2 | N14: 29280 | R14: 189000 | U14: 4 | V14: 0.99 | W14: 0.814 | Y14: 10 | Z14: 1020 | AA14: HR | AB14: 55 | AC14: 30 | AD14: 112 | AE14: =CONCATENATE(Z14,AA14,",Su=",AB14,",Sy=",AC14,",σ,f=",IF(AD14,AD14,"n/a")) -> 1020HR,Su=55,Sy=30,σ,f=112
B15: 1 | C15: Uniform | D15: 1 | E15: 1.25 | F15: 1.5 | K15: 10 | L15: Steel,Carburized-Hardened | O15: 65000 | R15: 225000 | U15: 5 | V15: 0.999 | W15: 0.753 | Y15: 11 | Z15: 1020 | AA15: CD | AB15: 68 | AC15: 57 | AE15: =CONCATENATE(Z15,AA15,",Su=",AB15,",Sy=",AC15,",σ,f=",IF(AD15,AD15,"n/a")) -> 1020CD,Su=68,Sy=57,σ,f=n/a
B16: 2 | C16: Light Shock | D16: 1.25 | E16: 1.5 | F16: 1.75 | K16: 11 | L16: ASTM A48 Gray Cast Iron, Class 20 | O16: 5000 | R16: 50000 | S16: 170 | U16: 6 | V16: 0.9999 | W16: 0.702 | Y16: 12 | Z16: 1030 | AA16: HR | AB16: 68 | AC16: 37.5 | AE16: =CONCATENATE(Z16,AA16,",Su=",AB16,",Sy=",AC16,",σ,f=",IF(AD16,AD16,"n/a")) -> 1030HR,Su=68,Sy=37.5,σ,f=n/a
B17: 3 | C17: Medium Shock | D17: 1.5 | E17: 1.75 | F17: 2.25 | K17: 12 | L17: ASTM A48 Gray Cast Iron, Class 30 | O17: 8500 | R17: 65000 | S17: 174 | Y17: 13 | Z17: 1030 | AA17: CD | AB17: 76 | AC17: 64 | AE17: =CONCATENATE(Z17,AA17,",Su=",AB17,",Sy=",AC17,",σ,f=",IF(AD17,AD17,"n/a")) -> 1030CD,Su=76,Sy=64,σ,f=n/a
K18: 13 | L18: ASTM A48 Gray Cast Iron, Class 40 | O18: 13000 | R18: 75000 | S18: 200 | U18: Load Factor | Y18: 14 | Z18: 1030 | AA18: Q&T 650 | AB18: 85 | AC18: 64 | AE18: =CONCATENATE(Z18,AA18,",Su=",AB18,",Sy=",AC18,",σ,f=",IF(AD18,AD18,"n/a")) -> 1030Q&T 650,Su=85,Sy=64,σ,f=n/a
K19: 14 | L19: ASTM A536, Ductile Iron, Grade 60-40-18 | O19: 22000 | R19: 77000 | S19: 140 | U19: 1 | V19: Bending | W19: 1 | Y19: 15 | Z19: 1030 | AA19: Normalized | AB19: 75 | AC19: 50 | AE19: =CONCATENATE(Z19,AA19,",Su=",AB19,",Sy=",AC19,",σ,f=",IF(AD19,AD19,"n/a")) -> 1030Normalized,Su=75,Sy=50,σ,f=n/a
K20: 15 | L20: ASTM A536, Ductile Iron, Grade 100-70-03 | O20: 27000 | R20: 92000 | S20: 229 | U20: 2 | V20: Axial | W20: 0.85 | Y20: 16 | Z20: 1030 | AA20: Annealed | AB20: 62 | AC20: 46 | AE20: =CONCATENATE(Z20,AA20,",Su=",AB20,",Sy=",AC20,",σ,f=",IF(AD20,AD20,"n/a")) -> 1030Annealed,Su=62,Sy=46,σ,f=n/a
K21: 16 | L21: ASTM A536, Ductile Iron, Grade 120-90-02 | O21: 31000 | R21: 103000 | S21: 269 | U21: 3 | V21: Torsion | W21: 0.59 | Y21: 17 | Z21: 1035 | AA21: HR | AB21: 72 | AC21: 39.5 | AE21: =CONCATENATE(Z21,AA21,",Su=",AB21,",Sy=",AC21,",σ,f=",IF(AD21,AD21,"n/a")) -> 1035HR,Su=72,Sy=39.5,σ,f=n/a
K22: 17 | L22: ASTM B-148 Bronze, Sand Cast | O22: 5700 | R22: 30000 | U22: 4 | V22: Combined | W22: 1 | Y22: 18 | Z22: 1035 | AA22: CD | AB22: 80 | AC22: 67 | AE22: =CONCATENATE(Z22,AA22,",Su=",AB22,",Sy=",AC22,",σ,f=",IF(AD22,AD22,"n/a")) -> 1035CD,Su=80,Sy=67,σ,f=n/a
K23: 18 | L23: ASTM B-148 Bronze, Heat Treated | O23: 23600 | R23: 65000 | Y23: 19 | Z23: 1040 | AA23: HR | AB23: 76 | AC23: 42 | AE23: =CONCATENATE(Z23,AA23,",Su=",AB23,",Sy=",AC23,",σ,f=",IF(AD23,AD23,"n/a")) -> 1040HR,Su=76,Sy=42,σ,f=n/a
C24: Lewis Form Factor, Y | F24: Stress Cycle Factor YN | Y24: 20 | Z24: 1040 | AA24: CD | AB24: 85 | AC24: 71 | AE24: =CONCATENATE(Z24,AA24,",Su=",AB24,",Sy=",AC24,",σ,f=",IF(AD24,AD24,"n/a")) -> 1040CD,Su=85,Sy=71,σ,f=n/a
C25: Number of Teeth | G25: Cond/Cycle | H25: 1000 | J25: 1200000 | M25: Below Min | Y25: 21 | Z25: 1040 | AA25: Q&T 650 | AB25: 92 | AC25: 63 | AE25: =CONCATENATE(Z25,AA25,",Su=",AB25,",Sy=",AC25,",σ,f=",IF(AD25,AD25,"n/a")) -> 1040Q&T 650,Su=92,Sy=63,σ,f=n/a
C26: 12 | D26: 0.245 | H26: a | I26: b | J26: a | K26: b | Y26: 22 | Z26: 1040 | AA26: Normalized | AB26: 86 | AC26: 54 | AE26: =CONCATENATE(Z26,AA26,",Su=",AB26,",Sy=",AC26,",σ,f=",IF(AD26,AD26,"n/a")) -> 1040Normalized,Su=86,Sy=54,σ,f=n/a
C27: 13 | D27: 0.261 | F27: 1 | G27: 400HB | H27: 9.4518 | I27: -0.148 | J27: 1.3558 | K27: -0.0178 | M27: =H27*$H$25^I27 -> 3.4002788 | Y27: 23 | Z27: 1040 | AA27: Annealed | AB27: 75 | AC27: 51 | AE27: =CONCATENATE(Z27,AA27,",Su=",AB27,",Sy=",AC27,",σ,f=",IF(AD27,AD27,"n/a")) -> 1040Annealed,Su=75,Sy=51,σ,f=n/a
C28: 14 | D28: 0.277 | F28: 2 | G28: Case Carb | H28: 6.1514 | I28: -0.1192 | J28: 1.3558 | K28: -0.0178 | M28: =H28*$H$25^I28 -> 2.7000634 | Y28: 24 | Z28: 1045 | AA28: HR | AB28: 82 | AC28: 45 | AD28: 140 | AE28: =CONCATENATE(Z28,AA28,",Su=",AB28,",Sy=",AC28,",σ,f=",IF(AD28,AD28,"n/a")) -> 1045HR,Su=82,Sy=45,σ,f=140
C29: 15 | D29: 0.29 | F29: 3 | G29: 250HB | H29: 4.904 | I29: -0.1045 | J29: 1.3558 | K29: -0.0178 | M29: =H29*$H$25^I29 -> 2.3825963 | Y29: 25 | Z29: 1045 | AA29: CD | AB29: 91 | AC29: 77 | AE29: =CONCATENATE(Z29,AA29,",Su=",AB29,",Sy=",AC29,",σ,f=",IF(AD29,AD29,"n/a")) -> 1045CD,Su=91,Sy=77,σ,f=n/a
C30: 16 | D30: 0.296 | F30: 4 | G30: Nitrided | H30: 3.517 | I30: -0.0817 | J30: 1.3558 | K30: -0.0178 | M30: =H30*$H$25^I30 -> 2.0001951 | Y30: 26 | Z30: 1050 | AA30: HR | AB30: 90 | AC30: 49.5 | AE30: =CONCATENATE(Z30,AA30,",Su=",AB30,",Sy=",AC30,",σ,f=",IF(AD30,AD30,"n/a")) -> 1050HR,Su=90,Sy=49.5,σ,f=n/a
C31: 17 | D31: 0.303 | F31: 5 | G31: 160HB | H31: 2.3194 | I31: -0.0538 | J31: 1.3558 | K31: -0.0178 | M31: =H31*$H$25^I31 -> 1.5994684 | Y31: 27 | Z31: 1050 | AA31: CD | AB31: 100 | AC31: 84 | AE31: =CONCATENATE(Z31,AA31,",Su=",AB31,",Sy=",AC31,",σ,f=",IF(AD31,AD31,"n/a")) -> 1050CD,Su=100,Sy=84,σ,f=n/a
C32: 18 | D32: 0.309 | I32: opt. | J32: 1.6831 | K32: -0.0323 | Y32: 28 | Z32: 1050 | AA32: Q&T 650 | AB32: 104 | AC32: 78 | AE32: =CONCATENATE(Z32,AA32,",Su=",AB32,",Sy=",AC32,",σ,f=",IF(AD32,AD32,"n/a")) -> 1050Q&T 650,Su=104,Sy=78,σ,f=n/a
C33: 19 | D33: 0.314 | F33: Stress Cycle Factor ZN | Y33: 29 | Z33: 1050 | AA33: Normalized | AB33: 108 | AC33: 62 | AE33: =CONCATENATE(Z33,AA33,",Su=",AB33,",Sy=",AC33,",σ,f=",IF(AD33,AD33,"n/a")) -> 1050Normalized,Su=108,Sy=62,σ,f=n/a
C34: 20 | D34: 0.322 | G34: Cond/Cycle | H34: 10000 | J34: 10000000 | Y34: 30 | Z34: 1050 | AA34: Annealed | AB34: 92 | AC34: 53 | AE34: =CONCATENATE(Z34,AA34,",Su=",AB34,",Sy=",AC34,",σ,f=",IF(AD34,AD34,"n/a")) -> 1050Annealed,Su=92,Sy=53,σ,f=n/a
C35: 21 | D35: 0.328 | H35: a | I35: b | J35: a | K35: b | Y35: 31 | Z35: 1060 | AA35: HR | AB35: 98 | AC35: 54 | AE35: =CONCATENATE(Z35,AA35,",Su=",AB35,",Sy=",AC35,",σ,f=",IF(AD35,AD35,"n/a")) -> 1060HR,Su=98,Sy=54,σ,f=n/a
C36: 22 | D36: 0.331 | F36: 1 | G36: Hardened | H36: 2.466 | I36: -0.056 | J36: 1.4488 | K36: -0.023 | M36: =H36*$H$34^I36 -> 1.472289 | Y36: 32 | Z36: 1060 | AA36: Q&T 650 | AB36: 116 | AC36: 76 | AE36: =CONCATENATE(Z36,AA36,",Su=",AB36,",Sy=",AC36,",σ,f=",IF(AD36,AD36,"n/a")) -> 1060Q&T 650,Su=116,Sy=76,σ,f=n/a
C37: 24 | D37: 0.337 | F37: 2 | G37: Nitrided | H37: 1.249 | I37: -0.0138 | J37: 1.4488 | K37: -0.023 | M37: =H37*$H$34^I37 -> 1.0999234 | Y37: 33 | Z37: 1060 | AA37: Normalized | AB37: 112 | AC37: 61 | AE37: =CONCATENATE(Z37,AA37,",Su=",AB37,",Sy=",AC37,",σ,f=",IF(AD37,AD37,"n/a")) -> 1060Normalized,Su=112,Sy=61,σ,f=n/a
C38: 26 | D38: 0.346 | Y38: 34 | Z38: 1060 | AA38: Annealed | AB38: 91 | AC38: 54 | AE38: =CONCATENATE(Z38,AA38,",Su=",AB38,",Sy=",AC38,",σ,f=",IF(AD38,AD38,"n/a")) -> 1060Annealed,Su=91,Sy=54,σ,f=n/a
C39: 28 | D39: 0.353 | F39: Crowned/Uncrowned | I39: Adj at Assy? | Y39: 35 | Z39: 1080 | AA39: HR | AB39: 112 | AC39: 61.5 | AE39: =CONCATENATE(Z39,AA39,",Su=",AB39,",Sy=",AC39,",σ,f=",IF(AD39,AD39,"n/a")) -> 1080HR,Su=112,Sy=61.5,σ,f=n/a
C40: 30 | D40: 0.359 | F40: 1 | G40: Crowned | I40: 1 | J40: Adjusted at Assy | Y40: 36 | Z40: 1095 | AA40: HR | AB40: 120 | AC40: 66 | AE40: =CONCATENATE(Z40,AA40,",Su=",AB40,",Sy=",AC40,",σ,f=",IF(AD40,AD40,"n/a")) -> 1095HR,Su=120,Sy=66,σ,f=n/a
C41: 34 | D41: 0.371 | F41: 2 | G41: Uncrowned | I41: 2 | J41: All Other Cond | Y41: 37 | Z41: 1095 | AA41: Q&T 650 | AB41: 130 | AC41: 80 | AE41: =CONCATENATE(Z41,AA41,",Su=",AB41,",Sy=",AC41,",σ,f=",IF(AD41,AD41,"n/a")) -> 1095Q&T 650,Su=130,Sy=80,σ,f=n/a
C42: 38 | D42: 0.384 | Y42: 38 | Z42: 1095 | AA42: Normalized | AB42: 147 | AC42: 72 | AE42: =CONCATENATE(Z42,AA42,",Su=",AB42,",Sy=",AC42,",σ,f=",IF(AD42,AD42,"n/a")) -> 1095Normalized,Su=147,Sy=72,σ,f=n/a
C43: 43 | D43: 0.397 | F43: Enclosure Constants | Y43: 39 | Z43: 1095 | AA43: Annealed | AB43: 95 | AC43: 55 | AE43: =CONCATENATE(Z43,AA43,",Su=",AB43,",Sy=",AC43,",σ,f=",IF(AD43,AD43,"n/a")) -> 1095Annealed,Su=95,Sy=55,σ,f=n/a
C44: 50 | D44: 0.409 | G44: Condition | H44: A | I44: B | J44: C | Y44: 40 | Z44: 4130 | AA44: Q&T 650 | AB44: 118 | AC44: 102 | AE44: =CONCATENATE(Z44,AA44,",Su=",AB44,",Sy=",AC44,",σ,f=",IF(AD44,AD44,"n/a")) -> 4130Q&T 650,Su=118,Sy=102,σ,f=n/a
C45: 60 | D45: 0.422 | F45: 1 | G45: Open Gearing | H45: 0.247 | I45: 0.0167 | J45: -7.65e-05 | Y45: 41 | Z45: 4130 | AA45: Normalized | AB45: 97 | AC45: 63 | AE45: =CONCATENATE(Z45,AA45,",Su=",AB45,",Sy=",AC45,",σ,f=",IF(AD45,AD45,"n/a")) -> 4130Normalized,Su=97,Sy=63,σ,f=n/a
C46: 75 | D46: 0.435 | F46: 2 | G46: Commercial, Enclosed | H46: 0.127 | I46: 0.0158 | J46: -9.3e-05 | Y46: 42 | Z46: 4130 | AA46: Annealed | AB46: 81 | AC46: 52 | AE46: =CONCATENATE(Z46,AA46,",Su=",AB46,",Sy=",AC46,",σ,f=",IF(AD46,AD46,"n/a")) -> 4130Annealed,Su=81,Sy=52,σ,f=n/a
C47: 100 | D47: 0.447 | F47: 3 | G47: Precision, Enclosed | H47: 0.0675 | I47: 0.0128 | J47: -9.26e-05 | Y47: 43 | Z47: 4340 | AA47: Q&T 650 | AB47: 140 | AC47: 124 | AE47: =CONCATENATE(Z47,AA47,",Su=",AB47,",Sy=",AC47,",σ,f=",IF(AD47,AD47,"n/a")) -> 4340Q&T 650,Su=140,Sy=124,σ,f=n/a
C48: 150 | D48: 0.46 | F48: 4 | G48: Extraprecision, Enclosed | H48: 0.0036 | I48: 0.012 | J48: -8.22e-05
C49: 300 | D49: 0.472
C50: 400 | D50: 0.48
