Workbook
Name Sut: Shafts!$T$24

Sheet Summary
A1: Materials:
A2: Shafts:
A3: Sut | B3: 80 | C3: ksi
A4: Sy | B4: 3 | C4: ksi

Sheet Input-Output
A1: Property | B1: Value | C1: Units | D1: Notes | E1: From | F1: To
A2: Sut | B2: =Shafts!B10 -> 147 | C2: kpsi | D2: shafts property | E2: Shafts | F2: Report Template
A3: Sy | B3: =Shafts!B12 -> 72 | C3: kpsi | D3: shafts property | E3: Shafts | F3: Report Template
A4: Mm | C4: in-lbf | E4: loads | F4: shafts & bearings
A5: Ma | C5: in-lbf | E5: loads | F5: shafts & bearings
A6: Tm | C6: in-lbf | E6: loads | F6: shafts & bearings
A7: Ta | C7: in-lbf | E7: loads | F7: shafts & bearings
A8: d | C8: in | D8: shaft diameter | E8: shafts | F8: bearings
A9: θ | B9: =Gears!U45 -> 42.11948 | C9: degrees | D9: Intermediate shaft angle | E9: gears | F9: loads
A10: Wt12 | B10: =Gears!P5 -> 472.69018 | C10: lbf | D10: Transmittal Load; gear 1 and 2 | E10: gears | F10: loads
A11: Wt34 | B11: =Gears!P7 -> 2058.8283 | C11: lbf | D11: Transmittal Load; gear 3 and 4
A12: Wr12 | B12: =Gears!Q5 -> 172.04516 | C12: lbf | D12: Radial Load; gear 1 and 2
A13: Wr34 | B13: =Gears!Q7 -> 749.35223 | C13: lbf | D13: Radial Load; gear 3 and 4
A14: Widtha | B14: =Bearings!I7 -> 7 | C14: mm | D14: Bearing Width | E14: Bearings | F14: Loads
A15: Widthb | B15: =Bearings!J7 -> 5 | C15: mm | E15: Bearings | F15: Loads
A16: Widthc | B16: =Bearings!K7 -> 13 | C16: mm | E16: Bearings | F16: Loads
A17: Widthd | B17: =Bearings!L7 -> 7 | C17: mm | E17: Bearings | F17: Loads
A18: Widthe | B18: =Bearings!M7 -> 10 | C18: mm | E18: Bearings | F18: Loads
A19: Widthf | B19: =Bearings!N7 -> 10 | C19: mm | E19: Bearings | F19: Loads
A20: IDa | B20: =Bearings!I5 -> 20 | D20: Bearing Inner Diameter | E20: Bearings | F20: Shafts
A21: IDb | B21: =Bearings!J5 -> 15 | E21: Bearings | F21: Shafts
A22: IDc | B22: =Bearings!K5 -> 70 | E22: Bearings | F22: Shafts
A23: IDd | B23: =Bearings!L5 -> 45 | E23: Bearings | F23: Shafts
A24: IDe | B24: =Bearings!M5 -> 35 | E24: Bearings | F24: Shafts
A25: IDf | B25: =Bearings!N5 -> 35 | E25: Bearings | F25: Shafts
A26: Width 1 | B26: =Gears!R50 -> 0.75 | C26: in | D26: Gear width
A27: Width 2 | B27: =Gears!S50 -> 0.75 | C27: in
A28: Width 3 | B28: =Gears!T50 -> 1.75 | C28: in
A29: Width 4 | B29: =Gears!U50 -> 1.75 | C29: in
A30: F input Bearing 1 | B30: =Loads!B22 -> -251.51319 | C30: lbf | D30: Radial Force on input shaft bearings | E30: loads | F30: bearings
A31: F output bearing 1 | B31: =Loads!B43 -> -2207.1374 | C31: lbf | D31: Radial Force on output shaft bearings | E31: loads | F31: bearings
A32: F intermediate bearing 1 | B32: =Loads!B31 -> 5524.8746 | C32: lbf | D32: Radial Force on first bearing | E32: loads | F32: bearings
A33: F intermediate bearing 2 | B33: =Loads!G31 -> 1126.4527 | C33: lbf | D33: Radial Force on second bearing | E33: loads | F33: bearings
A34: RPM Shaft 1 | B34: =Gears!P22 -> 10
A35: RPM Shaft 2 | B35: =Gears!P23 -> 3.2653061
A36: RPM Shaft 3 | B36: =Gears!P24 -> 2.1768707
A37: Ma,input,A | B37: =Loads!C23 -> -49.548099 | C37: in-lbf | D37: Moment at Shoulder A | E37: Loads | F37: Shafts
A38: Ma,input,B | B38: =Loads!D23 -> -175.30469 | C38: in-lbf | D38: Moment at Gear 1 | E38: Loads | F38: Shafts
A39: Ma,input,C | B39: =Loads!E23 -> -49.548099 | C39: in-lbf | D39: Moment at Shoulder C | E39: Loads | F39: Shafts
A40: Ma,int,A | B40: =Loads!C36 -> 5221.0065 | C40: in-lbf | D40: Moment at Shoulder A | E40: Loads | F40: Shafts
...

Sheet Shafts
A1: Location | B1: Input: a | C1: Input: b | D1: Input: c | E1: Intermed: a | F1: Intermed: b | G1: Intermed:c | H1: Intermed: d | I1: Output: a | J1: Output: b | K1: Ouput: c
A2: Loads | AE2: Dropdown Boxes | AF2: Lookup Value | AH2: AISI Lookup Reference
A3: Ma | B3: ='Input-Output'!$B37 -> -49.548099 | C3: ='Input-Output'!$B38 -> -175.30469 | D3: ='Input-Output'!$B39 -> -49.548099 | E3: ='Input-Output'!$B40 -> 5221.0065 | F3: ='Input-Output'!$B41 -> 7983.4439 | G3: ='Input-Output'!$B42 -> 16063.572 | H3: ='Input-Output'!$B43 -> 4204.1611 | I3: ='Input-Output'!$B44 -> -999.83326 | J3: ='Input-Output'!$B45 -> -3206.9707 | K3: ='Input-Output'!$B46 -> -999.83326 | L3: in-lbf | AE3: Ka | AF3: 2 | AH3: 1006 HR | AI3: 1006HR,Su=43,Sy=24,σ,f=n/a
A4: Mm | B4: 0 | C4: 0 | D4: 0 | E4: 0 | F4: 0 | G4: 0 | H4: 0 | I4: 0 | J4: 0 | K4: 0 | L4: in-lbf | AE4: Ke | AF4: 1 | AH4: 1006 CD | AI4: 1006CD,Su=48,Sy=41,σ,f=n/a
A5: Ta | B5: 0 | C5: 0 | D5: 0 | E5: 0 | F5: 0 | G5: 0 | H5: 0 | I5: 0 | J5: 0 | K5: 0 | L5: in-lbf | AE5: Kc | AF5: 1 | AH5: 1010 HR | AI5: 1010HR,Su=47,Sy=26,σ,f=n/a
A6: Tm | B6: ='Input-Output'!B51 -> 1260.5071 | C6: ='Input-Output'!B51 -> 1260.5071 | D6: 0 | E6: 0 | F6: ='Input-Output'!B52 -> 3860.3031 | G6: ='Input-Output'!B52 -> 3860.3031 | H6: 0 | I6: =K6 -> -3334.641 | J6: ='Input-Output'!B53 -> -3334.641 | K6: ='Input-Output'!B53 -> -3334.641 | L6: in-lbf | AE6: Material Pick | AF6: 38 | AH6: 1010 CD | AI6: 1010CD,Su=53,Sy=44,σ,f=n/a
U7: given during quiz | AH7: 1015 HR | AI7: 1015HR,Su=50,Sy=27.5,σ,f=n/a
A8: Material Properties | U8: given during quiz | AH8: 1015 CD | AI8: 1015CD,Su=56,Sy=47,σ,f=n/a
A9: Material Selection | AH9: 1018 HR | AI9: 1018HR,Su=58,Sy=32,σ,f=n/a
A10: Sut | B10: =VLOOKUP($AF$6,MIsc_Tables!Y5:AD47,4) -> 147 | C10: =B10 -> 147 | D10: =C10 -> 147 | E10: =D10 -> 147 | F10: =E10 -> 147 | G10: =F10 -> 147 | H10: =G10 -> 147 | I10: =H10 -> 147 | J10: =I10 -> 147 | K10: =J10 -> 147 | L10: ksi | AH10: 1018 CD | AI10: 1018CD,Su=64,Sy=54,σ,f=n/a
B11: =B10*1000 -> 147000 | C11: =B11 -> 147000 | D11: =C11 -> 147000 | E11: =D11 -> 147000 | F11: =E11 -> 147000 | G11: =F11 -> 147000 | H11: =G11 -> 147000 | I11: =H11 -> 147000 | J11: =I11 -> 147000 | K11: =J11 -> 147000 | L11: psi | V11: Legend | AH11: 1018 Annealed | AI11: 1018Annealed,Su=49.5,Sy=32,σ,f=91.1
A12: Sy | B12: =IF(ISBLANK(M12),VLOOKUP($AF$6,MIsc_Tables!Y5:AD47,5),M12) -> 72 | C12: =B12 -> 72 | D12: =C12 -> 72 | E12: =D12 -> 72 | F12: =E12 -> 72 | G12: =F12 -> 72 | H12: =G12 -> 72 | I12: =H12 -> 72 | J12: =I12 -> 72 | K12: =J12 -> 72 | L12: ksi | V12: Inputs | W12: Inputs from Input-Output | AH12: 1020 HR | AI12: 1020HR,Su=55,Sy=30,σ,f=112
B13: =B12*1000 -> 72000 | C13: =B13 -> 72000 | D13: =C13 -> 72000 | E13: =D13 -> 72000 | F13: =E13 -> 72000 | G13: =F13 -> 72000 | H13: =G13 -> 72000 | I13: =H13 -> 72000 | J13: =I13 -> 72000 | K13: =J13 -> 72000 | L13: psi | V13: Calculated | AH13: 1020 CD | AI13: 1020CD,Su=68,Sy=57,σ,f=n/a
V14: Conversions | AH14: 1030 HR | AI14: 1030HR,Su=68,Sy=37.5,σ,f=n/a
A15: Fatigue | V15: Fix | AH15: 1030 CD | AI15: 1030CD,Su=76,Sy=64,σ,f=n/a
V16: Automated | AH16: 1030 Q&T 650 | AI16: 1030Q&T 650,Su=85,Sy=64,σ,f=n/a
A17: dguess | B17: 0.57 | C17: 0.74 | D17: 0.29 | E17: 1.46 | F17: 1.9 | G17: 2.23 | H17: 1.29 | I17: 0.98 | J17: 1.41 | K17: 0.98 | L17: in | M17: Range of .3 to 2 inches | AH17: 1030 Normalized | AI17: 1030Normalized,Su=75,Sy=50,σ,f=n/a
A18: Se' | B18: =IF($B$10<=200, 0.5*$B$10,100) -> 73.5 | C18: =$B$18 -> 73.5 | D18: =$B$18 -> 73.5 | E18: =$B$18 -> 73.5 | F18: =$B$18 -> 73.5 | G18: =$B$18 -> 73.5 | H18: =$B$18 -> 73.5 | I18: =$B$18 -> 73.5 | J18: =$B$18 -> 73.5 | K18: =$B$18 -> 73.5 | L18: ksi | AH18: 1030 Annealed | AI18: 1030Annealed,Su=62,Sy=46,σ,f=n/a
B19: =B18*1000 -> 73500 | C19: =C18*1000 -> 73500 | D19: =D18*1000 -> 73500 | E19: =E18*1000 -> 73500 | F19: =F18*1000 -> 73500 | G19: =G18*1000 -> 73500 | H19: =H18*1000 -> 73500 | I19: =I18*1000 -> 73500 | ... K19: =K18*1000 -> 73500 | L19: psi | AH19: 1035 HR | AI19: 1035HR,Su=72,Sy=39.5,σ,f=n/a
A20: ka (Surface Finish) | B20: =VLOOKUP($AF$3,MIsc_Tables!U4:X7,3)*Shafts!B10^(VLOOKUP(Shafts!$AF$3,MIsc_Tables!U4:X7,4)) -> 0.67720808 | C20: =$B$20 -> 0.67720808 | D20: =$B$20 -> 0.67720808 | E20: =$B$20 -> 0.67720808 | F20: =$B$20 -> 0.67720808 | G20: =$B$20 -> 0.67720808 | H20: =$B$20 -> 0.67720808 | I20: =$B$20 -> 0.67720808 | J20: =$B$20 -> 0.67720808 | K20: =$B$20 -> 0.67720808 | L20: NA | AH20: 1035 CD | AI20: 1035CD,Su=80,Sy=67,σ,f=n/a
A21: kb (Size Factor) | B21: =IF(B17>2, 0.91*B17^(-0.157), (B17/0.3)^(-0.107)) -> 0.93362692 | C21: =IF(C17>2, 0.91*C17^(-0.157), (C17/0.3)^(-0.107)) -> 0.90791289 | D21: =IF(D17>2, 0.91*D17^(-0.157), (D17/0.3)^(-0.107)) -> 1.0036341 | E21: =IF(E17>2, 0.91*E17^(-0.157), (E17/0.3)^(-0.107)) -> 0.84424057 | F21: =IF(F17>2, 0.91*F17^(-0.157), (F17/0.3)^(-0.107)) -> 0.8207773 | G21: =IF(G17>2, 0.91*G17^(-0.157), (G17/0.3)^(-0.107)) -> 0.80233831 | H21: =IF(H17>2, 0.91*H17^(-0.157), (H17/0.3)^(-0.107)) -> 0.85549776 | I21: =IF(I17>2, 0.91*I17^(-0.157), (I17/0.3)^(-0.107)) -> 0.88103018 | ... K21: =IF(K17>2, 0.91*K17^(-0.157), (K17/0.3)^(-0.107)) -> 0.88103018 | L21: NA | AH21: 1040 HR | AI21: 1040HR,Su=76,Sy=42,σ,f=n/a
A22: kc (Load Factor) | B22: =VLOOKUP($AF$5,MIsc_Tables!$U$19:$W$22,3) -> 1 | C22: =VLOOKUP($AF$5,MIsc_Tables!$U$19:$W$22,3) -> 1 | D22: =VLOOKUP($AF$5,MIsc_Tables!$U$19:$W$22,3) -> 1 | E22: =VLOOKUP($AF$5,MIsc_Tables!$U$19:$W$22,3) -> 1 | F22: =VLOOKUP($AF$5,MIsc_Tables!$U$19:$W$22,3) -> 1 | G22: =VLOOKUP($AF$5,MIsc_Tables!$U$19:$W$22,3) -> 1 | H22: =VLOOKUP($AF$5,MIsc_Tables!$U$19:$W$22,3) -> 1 | I22: =VLOOKUP($AF$5,MIsc_Tables!$U$19:$W$22,3) -> 1 | ... K22: =VLOOKUP($AF$5,MIsc_Tables!$U$19:$W$22,3) -> 1 | L22: NA | AH22: 1040 CD | AI22: 1040CD,Su=85,Sy=71,σ,f=n/a
A23: kd (Temp. Factor) | B23: 1 | C23: 1 | D23: 1 | E23: 1 | F23: 1 | G23: 1 | H23: 1 | I23: 1 | J23: 1 | K23: 1 | L23: NA | AH23: 1040 Q&T 650 | AI23: 1040Q&T 650,Su=92,Sy=63,σ,f=n/a
A24: ke (Reliability %) | B24: =VLOOKUP($AF$4,MIsc_Tables!$U$11:$W$16,3) -> 1 | C24: =VLOOKUP($AF$4,MIsc_Tables!$U$11:$W$16,3) -> 1 | D24: =VLOOKUP($AF$4,MIsc_Tables!$U$11:$W$16,3) -> 1 | E24: =VLOOKUP($AF$4,MIsc_Tables!$U$11:$W$16,3) -> 1 | F24: =VLOOKUP($AF$4,MIsc_Tables!$U$11:$W$16,3) -> 1 | G24: =VLOOKUP($AF$4,MIsc_Tables!$U$11:$W$16,3) -> 1 | H24: =VLOOKUP($AF$4,MIsc_Tables!$U$11:$W$16,3) -> 1 | I24: =VLOOKUP($AF$4,MIsc_Tables!$U$11:$W$16,3) -> 1 | ... K24: =VLOOKUP($AF$4,MIsc_Tables!$U$11:$W$16,3) -> 1 | L24: NA | AH24: 1040 Normalized | AI24: 1040Normalized,Su=86,Sy=54,σ,f=n/a
A25: Se | B25: =B18*B20*B21*B22*B23*B24 -> 46.471088 | C25: =$B$25 -> 46.471088 | D25: =$B$25 -> 46.471088 | E25: =$B$25 -> 46.471088 | F25: =$B$25 -> 46.471088 | G25: =$B$25 -> 46.471088 | H25: =$B$25 -> 46.471088 | I25: =$B$25 -> 46.471088 | J25: =$B$25 -> 46.471088 | K25: =$B$25 -> 46.471088 | L25: ksi | AH25: 1040 Annealed | AI25: 1040Annealed,Su=75,Sy=51,σ,f=n/a
B26: =IF(ISBLANK(M26),B25*1000,M26) -> 46471.088 | C26: =$B$26 -> 46471.088 | D26: =$B$26 -> 46471.088 | E26: =$B$26 -> 46471.088 | F26: =$B$26 -> 46471.088 | G26: =$B$26 -> 46471.088 | H26: =$B$26 -> 46471.088 | I26: =$B$26 -> 46471.088 | J26: =$B$26 -> 46471.088 | K26: =$B$26 -> 46471.088 | L26: psi | AH26: 1045 HR | AI26: 1045HR,Su=82,Sy=45,σ,f=140
AH27: 1045 CD | AI27: 1045CD,Su=91,Sy=77,σ,f=n/a
A28: A and B | AH28: 1050 HR | AI28: 1050HR,Su=90,Sy=49.5,σ,f=n/a
A29: A | B29: =SQRT(4*(B41*B3)^2+3*(B42*B5)^2) -> 154.59007 | C29: =SQRT(4*(C41*C3)^2+3*(C42*C5)^2) -> 670.36515 | D29: =SQRT(4*(D41*D3)^2+3*(D42*D5)^2) -> 154.59007 | E29: =SQRT(4*(E41*E3)^2+3*(E42*E5)^2) -> 16289.54 | F29: =SQRT(4*(F41*F3)^2+3*(F42*F5)^2) -> 30528.689 | G29: =SQRT(4*(G41*G3)^2+3*(G42*G5)^2) -> 61427.098 | H29: =SQRT(4*(H41*H3)^2+3*(H42*H5)^2) -> 13116.983 | I29: =SQRT(4*(I41*I3)^2+3*(I42*I5)^2) -> 3119.4798 | ... K29: =SQRT(4*(K41*K3)^2+3*(K42*K5)^2) -> 3119.4798 | AH29: 1050 CD | AI29: 1050CD,Su=100,Sy=84,σ,f=n/a
A30: B | B30: =SQRT(4*(B41*B4)^2+3*(B42*B6)^2) -> 3089.3163 | C30: =SQRT(4*(C41*C4)^2+3*(C42*C6)^2) -> 5807.4781 | D30: =SQRT(4*(D41*D4)^2+3*(D42*D6)^2) -> 0 | E30: =SQRT(4*(E41*E4)^2+3*(E42*E6)^2) -> 0 | F30: =SQRT(4*(F41*F4)^2+3*(F42*F6)^2) -> 17785.402 | G30: =SQRT(4*(G41*G4)^2+3*(G42*G6)^2) -> 17785.402 | H30: =SQRT(4*(H41*H4)^2+3*(H42*H6)^2) -> 0 | I30: =SQRT(4*(I41*I4)^2+3*(I42*I6)^2) -> 8172.7113 | ... K30: =SQRT(4*(K41*K4)^2+3*(K42*K6)^2) -> 8172.7113 | AH30: 1050 Q&T 650 | AI30: 1050Q&T 650,Su=104,Sy=78,σ,f=n/a
AH31: 1050 Normalized | AI31: 1050Normalized,Su=108,Sy=62,σ,f=n/a
A32: Condition Given | AH32: 1050 Annealed | AI32: 1050Annealed,Su=92,Sy=53,σ,f=n/a
A33: n | B33: 1.5 | C33: 1.5 | D33: 1.5 | E33: 1.5 | F33: 1.5 | G33: 1.5 | H33: 1.5 | I33: 1.5 | J33: 1.5 | K33: 1.5 | AH33: 1060 HR | AI33: 1060HR,Su=98,Sy=54,σ,f=n/a
A34: d | B34: =IF(ISBLANK(B42),((16*B21/PI())*(B17/B14+B18/#REF!))^(1/3),B42) -> 1.415 | C34: =IF(ISBLANK(C42),((16*C21/PI())*(C17/C14+C18/#REF!))^(1/3),C42) -> 2.66 | D34: =IF(ISBLANK(D42),((16*D21/PI())*(D17/D14+D18/#REF!))^(1/3),D42) -> 1.415 | E34: =IF(ISBLANK(E42),((16*E21/PI())*(E17/E14+E18/#REF!))^(1/3),E42) -> 1.415 | F34: =IF(ISBLANK(F42),((16*F21/PI())*(F17/F14+F18/#REF!))^(1/3),F42) -> 2.66 | G34: =IF(ISBLANK(G42),((16*G21/PI())*(G17/G14+G18/#REF!))^(1/3),G42) -> 2.66 | H34: =IF(ISBLANK(H42),((16*H21/PI())*(H17/H14+H18/#REF!))^(1/3),H42) -> 1.415 | I34: =IF(ISBLANK(I42),((16*I21/PI())*(I17/I14+I18/#REF!))^(1/3),I42) -> 1.415 | ... K34: =IF(ISBLANK(K42),((16*K21/PI())*(K17/K14+K18/#REF!))^(1/3),K42) -> 1.415 | L34: in | AH34: 1060 Q&T 650 | AI34: 1060Q&T 650,Su=116,Sy=76,σ,f=n/a
AH35: 1060 Normalized | AI35: 1060Normalized,Su=112,Sy=61,σ,f=n/a
A36: Stress Consentrations | AH36: 1060 Annealed | AI36: 1060Annealed,Su=91,Sy=54,σ,f=n/a
A37: kt | B37: 1.7 | C37: 2.14 | D37: 1.7 | E37: 1.7 | F37: 2.14 | G37: 2.14 | H37: 1.7 | I37: 1.7 | J37: 2.14 | K37: 1.7 | L37: NA | AH37: 1080 HR | AI37: 1080HR,Su=112,Sy=61.5,σ,f=n/a
A38: kts | B38: 1.5 | C38: 3 | D38: 1.5 | E38: 1.5 | F38: 3 | G38: 3 | H38: 1.5 | I38: 1.5 | J38: 3 | K38: 1.5 | L38: NA | AH38: 1095 HR | AI38: 1095HR,Su=120,Sy=66,σ,f=n/a
A39: q | B39: 0.8 | C39: =$B$39 -> 0.8 | D39: =$B$39 -> 0.8 | E39: =$B$39 -> 0.8 | F39: =$B$39 -> 0.8 | G39: =$B$39 -> 0.8 | H39: =$B$39 -> 0.8 | I39: =$B$39 -> 0.8 | J39: =$B$39 -> 0.8 | K39: =$B$39 -> 0.8 | L39: NA | M39: Use Figure 6-26 | AH39: 1095 Q&T 650 | AI39: 1095Q&T 650,Su=130,Sy=80,σ,f=n/a
A40: qs | B40: 0.83 | C40: =$B$40 -> 0.83 | D40: =$B$40 -> 0.83 | E40: =$B$40 -> 0.83 | F40: =$B$40 -> 0.83 | G40: =$B$40 -> 0.83 | H40: =$B$40 -> 0.83 | I40: =$B$40 -> 0.83 | J40: =$B$40 -> 0.83 | K40: =$B$40 -> 0.83 | L40: NA | M40: Use Figure 6-27 | AH40: 1095 Normalized | AI40: 1095Normalized,Su=147,Sy=72,σ,f=n/a
...

Sheet Loads
A1: Inputs: | E1: Outputs:
A2: Input bearing width A | B2: 0.394 | C2: in | E2: Mm | F2: 1 | H2: <- Test Values | J2: Actual Bearing Widths [in]
A3: Input bearing width C | B3: 0.394 | C3: in | E3: Ma | F3: 2 | H3: <- Test Values | J3: input A | K3: input C | L3: Intermediate A | M3: Intermediate D | N3: Output A | O3: Output C
A4: Intermediate bearing width A | B4: 1.89 | C4: in | E4: Tm | F4: 3 | H4: <- Test Values | J4: ='Input-Output'!B14/25.4 -> 0.27559055 | K4: ='Input-Output'!B15/25.4 -> 0.19685039 | L4: ='Input-Output'!B16/25.4 -> 0.51181102 | M4: ='Input-Output'!B17/25.4 -> 0.27559055 | N4: ='Input-Output'!B18/25.4 -> 0.39370079 | O4: ='Input-Output'!B19/25.4 -> 0.39370079
A5: Intermediate bearing width D | B5: 0.709 | C5: in | E5: Ta | F5: 4 | H5: <- Test Values
A6: Output bearing width A | B6: 0.906 | C6: in
A7: Output bearing width C | B7: 0.906 | C7: in | F7: Inputs
A8: Gear 1 & 2 width | B8: ='Input-Output'!B26 -> 0.75 | C8: in | F8: Calculated
A9: Gear 3 & 4 width | B9: ='Input-Output'!B29 -> 1.75 | C9: in | F9: From IO sheet
A10: Spacing | B10: 0.125 | C10: in | F10: Hard Coded
A11: Theta | B11: ='Input-Output'!B9 -> 42.11948 | C11: degrees | F11: Outputs to IO sheet for shafts
A12: Gear Diameter 1 | B12: ='Input-Output'!B47 -> 5.3333333 | C12: in | F12: Ouputs to IO sheet for bearings
A13: Gear Diameter 2 | B13: ='Input-Output'!B48 -> 16.333333 | C13: in
A14: Gear Diameter 3 | B14: ='Input-Output'!B49 -> 3.75 | C14: in
A15: Gear Diameter 4 | B15: ='Input-Output'!B50 -> 5.625 | C15: in
A17: Input Shaft
A18: Location | B18: A (Bearing) | C18: Shoulder A | D18: B (Pinion Gear) | E18: Shoulder C | F18: C (Bearing)
A19: Distance from A | B19: 0 | C19: =B2/2 -> 0.197 | D19: =B2/2+B10+B8/2 -> 0.697 | E19: =D19+B8/2+B10 -> 1.197 | F19: =E19+(B3/2) -> 1.394
A20: Ft (lbf) | B20: =-D20-F20 -> -236.34509 | C20: 0 | D20: ='Input-Output'!B10 -> 472.69018 | E20: 0 | F20: =-($D$19*D20)/F19 -> -236.34509
A21: Fr (lbf) | B21: =-D21-F21 -> -86.022578 | C21: 0 | D21: ='Input-Output'!B12 -> 172.04516 | E21: 0 | F21: =-($D$19*D21)/F19 -> -86.022578
A22: V (shear) (lbf) | B22: =-SQRT(B20^2+B21^2) -> -251.51319 | C22: =SQRT(C20^2+C21^2) -> 0 | D22: =SQRT(D20^2+D21^2)+B22 -> 251.51319 | E22: =SQRT(E20^2+E21^2) -> 0 | F22: =-SQRT(F20^2+F21^2) -> -251.51319
A23: Ma (in-lbf) | B23: 0 | C23: =B22*C19 -> -49.548099 | D23: =D19*B22 -> -175.30469 | E23: =D23+(D23/(D19-F19))*(E19-D19) -> -49.548099 | F23: 0
A24: Tm (in-lbf) | D24: =B12/2*D20 -> 1260.5071
A26: Intermediate Shaft
A27: Location | B27: A (Bearing) | C27: Shoulder A | D27: B (Gear 2) | E27: C (Gear 3) | F27: Shoulder D | G27: D (Bearing)
A28: Distance from A | B28: 0 | C28: =B4/2 -> 0.945 | D28: =C28+B8/2+B10 -> 1.445 | E28: =D28+B8/2+B10+B9/2 -> 2.82 | F28: =E28+B9/2+B10 -> 3.82 | G28: =F28+B5/2 -> 4.1745
A29: Ft (lbf) | B29: =ABS(D29-E29-G29) -> 2197.6291 | C29: 0 | D29: =D20 -> 472.69018 | E29: =IF(B11<90,'Input-Output'!B10-'Input-Output'!B11/COS(RADIANS(B11))+'Input-Output'!B13/SIN(RADIANS(B11)),'Input-Output'!B10+'Input-Output'!B11/COS(RADIANS(B11))+'Input-Output'!B13/SIN(RADIANS(B11))) -> -1185.6502 | F29: 0 | G29: =(($D$28*E29)-($D$28+$D$28)*D29)/($D$28+$D$28+$E$28) -> -539.28881
A30: Fr (lbf) | B30: =ABS(D30-E30-G30) -> 5068.9906 | C30: 0 | D30: =D21 -> 172.04516 | E30: =IF(B11<90, 'Input-Output'!B12+'Input-Output'!B13/COS(RADIANS(B11))+'Input-Output'!B11/SIN(RADIANS(B11)), 'Input-Output'!B12+'Input-Output'!B13/COS(RADIANS(180-B11))+'Input-Output'!B11/SIN(RADIANS(180-B11))) -> 4252.065 | F30: 0 | G30: =(($D$28*E30)-($D$28+$D$28)*D30)/($D$28+$D$28+$E$28) -> 988.97082
A31: Feq (lbf) | B31: =SQRT(B29^2+B30^2) -> 5524.8746 | C31: =SQRT(C29^2+C30^2) -> 0 | D31: =SQRT(D29^2+D30^2) -> 503.02638 | E31: =SQRT(E29^2+E30^2) -> 4414.2749 | F31: =SQRT(F29^2+F30^2) -> 0 | G31: =SQRT(G29^2+G30^2) -> 1126.4527
A32: Vt (shear) (lbf) | B32: =D32+E32-G32 -> -4314.9496 | C32: =-B29 -> -2197.6291 | D32: =C32+C29 -> -2197.6291 | E32: =D32-D29 -> -2670.3193 | F32: =E32+E29 -> -3855.9695 | G32: =(1-$D$28)*D32+(1-$E$28)*E32/(1-$G$28) -> -552.99885
A33: Vr (shear) (lbf) | B33: =D33+E33-G33 -> -12671.254 | C33: =-B30 -> -5068.9906 | D33: =C33+C30 -> -5068.9906 | E33: =D33-D30 -> -5241.0358 | F33: =E33+E30 -> -988.97082 | G33: =(1-$D$28)*D30+(1-$E$28)*E30/(1-$G$28) -> 2361.228
A34: Mt (in-lbf) | B34: 0 | C34: NA | D34: =D32*D28 -> -3175.5741 | E34: =D34+E32*(E28-D28) -> -6847.2632 | F34: NA | G34: 0
A35: Mr (in-lbf) | B35: 0 | C35: NA | D35: =D33*D28 -> -7324.6915 | E35: =D35+E33*(E28-D28) -> -14531.116 | F35: NA | G35: 0
A36: Ma (in-lbf) | B36: 0 | C36: =(B4/2)/(B4/2+B10+B8/2)*D36 -> 5221.0065 | D36: =SQRT(D34^2+D35^2) -> 7983.4439 | E36: =SQRT(E34^2+E35^2) -> 16063.572 | F36: =(B5/2)/(B5/2+B10+B9/2)*E36 -> 4204.1611 | G36: 0
A37: Tm (in-lbf) | B37: 0 | C37: 0 | D37: ='Input-Output'!B10*B13/2 -> 3860.3031 | E37: ='Input-Output'!B11*B14/2 -> 3860.3031 | F37: 0 | G37: 0
A38: Output Shaft
A39: Location | B39: A (Bearing) | C39: Shoulder A | D39: B (Gear 4) | E39: Shoulder C | F39: C (Bearing)
A40: Distance from A | B40: 0 | C40: =B6/2 -> 0.453 | D40: =C40+B9/2+B10 -> 1.453 | E40: =D40+B9/2+B10 -> 2.453 | F40: =E40+(B7/2) -> 2.906
A41: Ft (lbf) | B41: =-D41-F41 -> 592.82508 | C41: NA | D41: =E29 -> -1185.6502 | E41: NA | F41: =-(D40*D41)/F40 -> 592.82508
A42: Fr (lbf) | B42: =-D42-F42 -> -2126.0325 | C42: NA | D42: =E30 -> 4252.065 | E42: NA | F42: =-(D40*D42)/F40 -> -2126.0325
...

Sheet Gears
B2: Final Output | N2: Outputs | T2: Inputs | X2: Gear Kinetics
B3: Gear Material, Bending and Contact Stress | U3: Min | V3: Max
B4: Wt | C4: lbf | D4: =P5 -> 472.69018 | E4: =P6 -> 472.69018 | F4: =P7 -> 2058.8283 | G4: =P8 -> 2058.8283 | I4: Gear 2,3 Material | N4: Loading | O4: W | P4: Wt | Q4: Wr | T4: Input H (hp) | U4: 0.2 | X4: Pitch Line V (ft/min)
B5: σb | C5: psi | D5: =Y49 -> 9927.8833 | E5: =Z49 -> 29163.157 | F5: =AA49 -> 13704.302 | G5: =AB49 -> 20119.081 | I5: Name: | J5: 9 | N5: Gear 1 | O5: =SQRT(P5^2+Q5^2) -> 503.02638 | P5: =Y9 -> 472.69018 | Q5: =P5*TAN(RADIANS($U$15)) -> 172.04516 | T5: Input Speed (rpm) | U5: 10 | X5: 1 + 2 | Y5: =PI()*U40*U5/12 -> 13.962634
A6: 14-41 | B6: SF | C6: psi | D6: =Y64 -> 7.254008 | E6: =Z64 -> 2.7059052 | F6: =AA64 -> 5.7582458 | G6: =AB64 -> 4.0543909 | I6: St: | J6: =P14 -> 60840 | K6: psi | N6: Gear 2 | O6: =SQRT(P6^2+Q6^2) -> 503.02638 | P6: =Y9 -> 472.69018 | Q6: =P6*TAN(RADIANS($U$15)) -> 172.04516 | T6: Output speed (rpm) | U6: 2.15 | V6: 2.22 | X6: 3 + 4 | Y6: =PI()*U42*U5/12/U21 -> 3.2057068
B7: σc | C7: psi | D7: =Y50 -> 84637.193 | E7: =Z50 -> 84637.193 | F7: =AA50 -> 156828.35 | G7: =AB50 -> 156828.35 | I7: Sc: | J7: =P15 -> 189000 | K7: psi | N7: Gear 3 | O7: =SQRT(P7^2+Q7^2) -> 2190.9594 | P7: =Y10 -> 2058.8283 | Q7: =P7*TAN(RADIANS($U$15)) -> 749.35223 | T7: Cio (in) | U7: 8 | X7: Vmax | Y7: =(Y19+(P13-3))^2 -> 4769.8018
A8: 14-42 | B8: SH | C8: psi | D8: =Y65 -> 2.3167148 | E8: =Z65 -> 2.3527752 | F8: =AA65 -> 1.2697468 | G8: =AB65 -> 1.2768715 | I8: Gear 4,5 Material | N8: Gear 4 | O8: =SQRT(P8^2+Q8^2) -> 2190.9594 | P8: =Y10 -> 2058.8283 | Q8: =P8*TAN(RADIANS($U$15)) -> 749.35223 | T8: Life (khours) | U8: 1 | X8: Wt
B9: J | C9: - | D9: =Y40 -> 0.47 | E9: =Z40 -> 0.49 | F9: =AA40 -> 0.46 | G9: =AB40 -> 0.47 | I9: Name: | J9: 9 | T9: Reliability (%) | U9: 99 | X9: 1 + 2 | Y9: =33000*U4/Y5 -> 472.69018
B10: I | C10: - | D10: =Y47 -> 0.12114074 | E10: =Z47 -> 0.12114074 | F10: =AA47 -> 0.096418141 | G10: =AB47 -> 0.096418141 | I10: St: | J10: =Q14 -> 60840 | K10: psi | T10: Sf, min | U10: 1.5 | X10: 3 + 4 | Y10: =33000*U4/Y6 -> 2058.8283
B11: Cp | C11: - | D11: =Y43 -> 2300 | I11: Sc: | J11: =Q15 -> 189000 | K11: psi | M11: Available Pitches | O11: Material Properties | R11: Availably Qualities | T11: Sc, min | U11: 1.1
B12: Vline | C12: fpm | D12: =Y5 -> 13.962634 | F12: =Y6 -> 3.2057068 | M12: 4 | P12: 1&2 | Q12: 3&4 | R12: 5 | T12: Source condition | U12: Uniform | X12: Gear Fatigue
B13: Kv | C13: - | D13: =Y18 -> 1.0416655 | E13: =Z18 -> 1.0416655 | F13: =AA18 -> 1.0200425 | G13: =AB18 -> 1.0200425 | M13: 5 | O13: Quality: | P13: 7 | Q13: 7 | R13: 6 | T13: Output condition | U13: Light Shock
B14: Ko | C14: - | D14: =Y15 -> 1.25 | M14: 6 | O14: St: | P14: 60840 | Q14: 60840 | R14: 7 | T14: Temperature (F) | U14: 250 | X14: Gear No. | Y14: 1 | Z14: 2 | AA14: 3 | AB14: 4
B15: Ks | C15: - | D15: =Y22 -> 1 | E15: =Z22 -> 1 | F15: =AA22 -> 1 | G15: =AB22 -> 1 | M15: 8 | O15: Sc: | P15: 189000 | Q15: 189000 | R15: 8 | T15: Pitch Angle (degrees) | U15: 20 | X15: Ko | Y15: 1.25 | Z15: 1.25 | AA15: 1.25 | AB15: 1.25
B16: Km | C16: - | D16: =Y25 -> 1.0661104 | E16: =Z25 -> 1.0661104 | F16: =AA25 -> 1.1206581 | G16: =AB25 -> 1.1206581 | M16: 10 | O16: Material | P16: Steel G2 | R16: 9 | T16: Gear Geometry | X16: Select from table:
B17: YN | C17: - | D17: =Y54 -> 1.1860347 | E17: =Z54 -> 1.2996004 | F17: =AA54 -> 1.2996004 | G17: =AB54 -> 1.3433726 | M17: 12 | O17: Hardness | P17: 300 | Q17: 300 | R17: 10
B18: ZN | C18: - | D18: =Y55 -> 1.0394987 | E18: =Z55 -> 1.0556788 | F18: =AA55 -> 1.0556788 | G18: =AB55 -> 1.0616023 | M18: 16 | R18: 11 | T18: Total Speed Ratio Max | U18: =U5/U6 -> 4.6511628 | X18: Kv | Y18: =((Y19+SQRT($Y$5))/Y19)^Y20 -> 1.0416655 | Z18: =((Z19+SQRT($Y$5))/Z19)^Z20 -> 1.0416655 | AA18: =((AA19+SQRT($Y$6))/AA19)^AA20 -> 1.0200425 | AB18: =((AB19+SQRT($Y$6))/AB19)^AB20 -> 1.0200425
B19: KR | C19: - | D19: =Y53 -> 1.0019636 | M19: 20 | T19: Total Speed Ratio Min | U19: =U5/V6 -> 4.5045045 | X19: A | Y19: =50+56*(1-Y20) -> 65.063752 | Z19: =50+56*(1-Z20) -> 65.063752 | AA19: =50+56*(1-AA20) -> 65.063752 | AB19: =50+56*(1-AB20) -> 65.063752
B20: KT | C20: - | D20: =Y51 -> 1 | M20: 24 | T20: 4.578 | U20: 1 | X20: B | Y20: =0.25*((12-$P$13)^(2/3)) -> 0.73100443 | Z20: =0.25*((12-$P$13)^(2/3)) -> 0.73100443 | AA20: =0.25*((12-$P$13)^(2/3)) -> 0.73100443 | AB20: =0.25*((12-$P$13)^(2/3)) -> 0.73100443
B21: KB | C21: - | D21: =Y38 -> 1 | M21: 32 | O21: Speeds RPM | T21: Speed Ratio 1-2 | U21: 3.0625
B22: CH | C22: - | D22: =Y61 -> 1 | E22: =Z61 -> 1 | F22: =AA61 -> 1 | G22: =AB61 -> 1 | M22: 48 | O22: Shaft 1 | P22: =U5 -> 10 | T22: Speed Ratio 3-4 Max | U22: =U18/U21 -> 1.518747 | X22: Ks | Y22: 1 | Z22: 1 | AA22: 1 | AB22: 1
M23: 64 | O23: Shaft 2 | P23: =U5/U21 -> 3.2653061 | T23: Speed Ratio 3-4 Min | U23: =U19/U21 -> 1.4708586 | X23: 1 for normal gears
O24: Shaft 3 | P24: =P23/U25 -> 2.1768707
C25: Legend | T25: Speed Ratio 3-4 | U25: 1.5 | X25: Km | Y25: =1+Y26*(Y29*Y30+Y32*Y36) -> 1.0661104 | Z25: =1+Z26*(Z29*Z30+Z32*Z36) -> 1.0661104 | AA25: =1+AA26*(AA29*AA30+AA32*AA36) -> 1.1206581 | AB25: =1+AB26*(AB29*AB30+AB32*AB36) -> 1.1206581
C26: I/O Data | X26: Cmc | Y26: 1 | Z26: 1 | AA26: 1 | AB26: 1
C27: Report Data | T27: Pitch 1-2 | U27: 12 | X27: (1 uncrowned)
C28: User Input Data | T28: Pitch 3-4 | U28: 16 | X28: (0.8 crowned)
C29: Selection Choices | X29: Cpf | Y29: {=_xlfn.IFS(R50<=1,R50/10/U40-0.025,AND(R50>1,R50<=17),R50/10/U40-0.0375+0.0125*R50,AND(R50>17,R50<=40),R50/10/U40-0.1109+0.0207*R50-0.000228*R50^2)} -> -0.0109375 | Z29: {=_xlfn.IFS(S50<=1,S50/10/U40-0.025,AND(S50>1,S50<=17),S50/10/U40-0.0375+0.0125*S50,AND(S50>17,S50<=40),S50/10/U40-0.1109+0.0207*S50-0.000228*S50^2)} -> -0.0109375 | AA29: {=_xlfn.IFS(T50<=1,T50/10/U42-0.025,AND(T50>1,T50<=17),T50/10/U42-0.0375+0.0125*T50,AND(T50>17,T50<=40),T50/10/U42-0.1109+0.0207*T50-0.000228*T50^2)} -> 0.031041667 | AB29: {=_xlfn.IFS(U50<=1,U50/10/U42-0.025,AND(U50>1,U50<=17),U50/10/U42-0.0375+0.0125*U50,AND(U50>17,U50<=40),U50/10/U42-0.1109+0.0207*U50-0.000228*U50^2)} -> 0.031041667
T30: Number of Teeth 1 | U30: 64 | X30: Cpm | Y30: 1 | Z30: 1 | AA30: 1 | AB30: 1
T31: Number of Teeth 2 | U31: =U30*U21 -> 196 | X31: (1 for us)
T32: Minimum Teeth 1 | U32: =2/(1+2*U21)/(SIN(RADIANS($U$15))^2)*(U21+SQRT(U21^2+(1+2*U21)*(SIN(RADIANS($U$15))^2))) -> 15.01723 | X32: Cma | Y32: =Y33+Y34*R50+Y35*R50^2 -> 0.077047912 | Z32: =Z33+Z34*S50+Z35*S50^2 -> 0.077047912 | AA32: =AA33+AA34*T50+AA35*T50^2 -> 0.089616413 | AB32: =AB33+AB34*U50+AB35*U50^2 -> 0.089616413
R33: Negative is fine | T33: Maximum Teeth 2 | U33: =(U30^2*(SIN(RADIANS($U$15))^2)-4)/(4-2*U30*(SIN(RADIANS($U$15))^2)) -> -43.300304 | X33: A (table 14-9) | Y33: 0.0675 | Z33: 0.0675 | AA33: 0.0675 | AB33: 0.0675
X34: B (table 14-9) | Y34: 0.0128 | Z34: 0.0128 | AA34: 0.0128 | AB34: 0.0128
C35: Gear Bending Strength, St(psi) and Contact Strength,Sc(psi) | T35: Number of Teeth 3 | U35: 60 | X35: C (table 14-9) | Y35: -9.26e-05 | Z35: -9.26e-05 | AA35: -9.26e-05 | AB35: -9.26e-05
D36: Material | E36: m | F36: b | G36: St, min | H36: m | I36: b | J36: Sc,min | K36: HB,min | T36: Number of Teeth 4 | U36: =U35*U25 -> 90 | X36: Ce | Y36: 1 | Z36: 1 | AA36: 1 | AB36: 1
C37: 1 | D37: Steel, Through-Hardened, G1 | E37: 77.3 | F37: 12800 | G37: =E37*K37+F37 -> 35990 | H37: 322 | I37: 29100 | J37: =H37*K37+I37 -> 125700 | K37: 300 | T37: Minimum Teeth 3 | U37: =2/(1+2*U25)/(SIN(RADIANS($U$15))^2)*(U25+SQRT(U25^2+(1+2*U25)*(SIN(RADIANS($U$15))^2))) -> 13.458149 | X37: (1 for us)
C38: 2 | D38: Steel, Through-Hardened, G2 | E38: 102 | F38: 16400 | G38: =E38*K38+F38 -> 47000 | H38: 349 | I38: 34300 | J38: =H38*K38+I38 -> 139000 | K38: 300 | R38: Negative is fine | T38: Maximum Teeth 4 | U38: =(U35^2*(SIN(RADIANS($U$15))^2)-4)/(4-2*U35*(SIN(RADIANS($U$15))^2)) -> -41.556854 | X38: Kb | Y38: 1 | Z38: 1 | AA38: 1 | AB38: 1
C39: 3 | D39: Steel, Nitrided, Through-Hardened, G1 | E39: 82.3 | F39: 12150 | G39: =E39*K39+F39 -> 36840 | J39: 150000 | K39: 300 | X39: (1 for us rim)
C40: 4 | D40: Steel, Nitrided, Through-Hardened, G2 | E40: 108.6 | F40: 15890 | G40: =E40*K40+F40 -> 48470 | J40: 163000 | K40: 300 | T40: Pitch Diameter 1 (in) | U40: =U30/U27 -> 5.3333333 | W40: *** | X40: J | Y40: 0.47 | Z40: 0.49 | AA40: 0.46 | AB40: 0.47
C41: 5 | D41: Steel, Nitrided, Nitralloy, G1 | E41: 86.2 | F41: 12730 | G41: =E41*K41+F41 -> 38590 | J41: 170000 | K41: 300 | T41: Pitch Diameter 2 (in) | U41: =U31/U27 -> 16.333333 | X41: Teeth | Y41: =U30 -> 64 | Z41: =U31 -> 196 | AA41: =U35 -> 60 | AB41: =U36 -> 90
...

Sheet Bearings
B2: Inputs | E2: Revolutions | I2: A | J2: B | K2: C | L2: D | M2: E | N2: F
A3: Loads | B3: F_aA [lbf] | C3: 0 | E3: Shaft_1 | F3: =C25*(C15*60*1000) -> 600000 | H3: Wr [kN] | I3: =C9*0.004448 -> 1.1187307 | J3: =C10*0.004448 -> 1.1187307 | K3: =C11*0.004448 -> 24.574642 | L3: =C12*0.004448 -> 5.0104616 | M3: =C13*0.004448 -> 9.8173474 | N3: =C14*0.004448 -> 9.8173474 | AG3: TRUE
B4: F_aB [lbf] | C4: 0 | E4: Shaft_2 | F4: =C25*(C16*60*1000) -> 195918.37 | H4: Wa [kN] | I4: =C3*0.004448 -> 0 | J4: =C4*0.004448 -> 0 | K4: =C5*0.004448 -> 0 | L4: =C6*0.004448 -> 0 | M4: =C7*0.004448 -> 0 | N4: =C8*0.004448 -> 0 | AG4: FALSE
B5: F_aC [lbf] | C5: 0 | E5: Shaft_3 | F5: =C25*(C17*60*1000) -> 130612.24 | H5: i.d. [mm] | I5: =IF(I$22="Ball",_xlfn.XLOOKUP(I8,Table2[[ ]],Table2[d '[mm']]), _xlfn.XLOOKUP(I8,Table3[Column4],Table3[d])) -> 20 | J5: =IF(J$22="Ball",_xlfn.XLOOKUP(J8,Table2[[ ]],Table2[d '[mm']]), _xlfn.XLOOKUP(J8,Table3[Column4],Table3[d])) -> 15 | K5: =IF(K$22="Ball",_xlfn.XLOOKUP(K8,Table2[[ ]],Table2[d '[mm']]), _xlfn.XLOOKUP(K8,Table3[Column4],Table3[d])) -> 70 | L5: =IF(L$22="Ball",_xlfn.XLOOKUP(L8,Table2[[ ]],Table2[d '[mm']]), _xlfn.XLOOKUP(L8,Table3[Column4],Table3[d])) -> 45 | M5: =IF(M$22="Ball",_xlfn.XLOOKUP(M8,Table2[[ ]],Table2[d '[mm']]), _xlfn.XLOOKUP(M8,Table3[Column4],Table3[d])) -> 35 | N5: =IF(N$22="Ball",_xlfn.XLOOKUP(N8,Table2[[ ]],Table2[d '[mm']]), _xlfn.XLOOKUP(N8,Table3[Column4],Table3[d])) -> 35
B6: F_aD [lbf] | C6: 0 | H6: o.d [mm] | I6: =IF(I$22="Ball",_xlfn.XLOOKUP(I8,Table2[[ ]],Table2[D '[mm']2]), _xlfn.XLOOKUP(I8,Table3[Column4],Table3[D2])) -> 32 | J6: =IF(J$22="Ball",_xlfn.XLOOKUP(J8,Table2[[ ]],Table2[D '[mm']2]), _xlfn.XLOOKUP(J8,Table3[Column4],Table3[D2])) -> 24 | K6: =IF(K$22="Ball",_xlfn.XLOOKUP(K8,Table2[[ ]],Table2[D '[mm']2]), _xlfn.XLOOKUP(K8,Table3[Column4],Table3[D2])) -> 110 | L6: =IF(L$22="Ball",_xlfn.XLOOKUP(L8,Table2[[ ]],Table2[D '[mm']2]), _xlfn.XLOOKUP(L8,Table3[Column4],Table3[D2])) -> 58 | M6: =IF(M$22="Ball",_xlfn.XLOOKUP(M8,Table2[[ ]],Table2[D '[mm']2]), _xlfn.XLOOKUP(M8,Table3[Column4],Table3[D2])) -> 55 | N6: =IF(N$22="Ball",_xlfn.XLOOKUP(N8,Table2[[ ]],Table2[D '[mm']2]), _xlfn.XLOOKUP(N8,Table3[Column4],Table3[D2])) -> 55
B7: F_aE [lbf] | C7: 0 | E7: Reliability Per Bearing | F7: =IF(C27=FALSE,(C24/100)^(1/6),C24/100) -> 0.99 | H7: width [mm] | I7: =IF(I$22="Ball",_xlfn.XLOOKUP(I8,Table2[[ ]],Table2[B '[mm']]), _xlfn.XLOOKUP(I8,Table3[Column4],Table3[B])) -> 7 | J7: =IF(J$22="Ball",_xlfn.XLOOKUP(J8,Table2[[ ]],Table2[B '[mm']]), _xlfn.XLOOKUP(J8,Table3[Column4],Table3[B])) -> 5 | K7: =IF(K$22="Ball",_xlfn.XLOOKUP(K8,Table2[[ ]],Table2[B '[mm']]), _xlfn.XLOOKUP(K8,Table3[Column4],Table3[B])) -> 13 | L7: =IF(L$22="Ball",_xlfn.XLOOKUP(L8,Table2[[ ]],Table2[B '[mm']]), _xlfn.XLOOKUP(L8,Table3[Column4],Table3[B])) -> 7 | M7: =IF(M$22="Ball",_xlfn.XLOOKUP(M8,Table2[[ ]],Table2[B '[mm']]), _xlfn.XLOOKUP(M8,Table3[Column4],Table3[B])) -> 10 | N7: =IF(N$22="Ball",_xlfn.XLOOKUP(N8,Table2[[ ]],Table2[B '[mm']]), _xlfn.XLOOKUP(N8,Table3[Column4],Table3[B])) -> 10
B8: F_aF [lbf] | C8: 0 | H8: bearing | I8: =I72 -> 61804 | J8: =J72 -> 61802 | K8: =K72 -> * 16014 | L8: =L72 -> 61809 | M8: =M72 -> 61907 | N8: =N72 -> 61907
B9: F_rA [lbf] | C9: =ABS('Input-Output'!B30) -> 251.51319 | E9: a
B10: F_rB [lbf] | C10: =ABS('Input-Output'!B61) -> 251.51319 | E10: Roller | F10: 3.3333333
B11: F_rC [lbf] | C11: =ABS('Input-Output'!B32) -> 5524.8746 | E11: Ball | F11: 3
B12: F_rD [lbf] | C12: =ABS('Input-Output'!B33) -> 1126.4527
B13: F_rE [lbf] | C13: =ABS('Input-Output'!B31) -> 2207.1374 | E13: V
B14: F_rF [lbf] | C14: =ABS('Input-Output'!B62) -> 2207.1374 | E14: Inner | F14: 1
A15: Speed | B15: ω1 [rpm] | C15: ='Input-Output'!B34 -> 10 | E15: Outer | F15: 1.2
B16: ω2 [rpm] | C16: ='Input-Output'!B35 -> 3.2653061
B17: ω3 [rpm] | C17: ='Input-Output'!B36 -> 2.1768707 | E17: Legend
A18: Inner diameters | B18: d_A [mm] | C18: =('Input-Output'!B54)*25.4 -> 17.78 | E18: Input
B19: d_B [mm] | C19: =('Input-Output'!B55)*25.4 -> 7.4677039 | E19: Calculation
B20: d_C [mm] | C20: =('Input-Output'!B56)*25.4 -> 35.271953 | E20: From IO | I20: Iterative Calculations
B21: d_D [mm] | C21: =('Input-Output'!B57)*25.4 -> 32.814909 | E21: Output | I21: A | J21: B | K21: C | L21: D | M21: E | N21: F
B22: d_E [mm] | C22: =('Input-Output'!B58)*25.4 -> 24.859783 | H22: Roller/Ball | I22: Ball | J22: Ball | K22: Ball | L22: Ball | M22: Ball | N22: Ball
B23: d_F [mm] | C23: =('Input-Output'!B59)*25.4 -> 24.859783 | H23: a [Factor for bearing type] | I23: =VLOOKUP(I22,$E$10:$F$11,2,FALSE) -> 3 | J23: =VLOOKUP(J22,$E$10:$F$11,2,FALSE) -> 3 | K23: =VLOOKUP(K22,$E$10:$F$11,2,FALSE) -> 3 | L23: =VLOOKUP(L22,$E$10:$F$11,2,FALSE) -> 3 | M23: =VLOOKUP(M22,$E$10:$F$11,2,FALSE) -> 3 | N23: =VLOOKUP(N22,$E$10:$F$11,2,FALSE) -> 3 | O23: Starting Bearing
A24: Input | B24: Reliability [%] | C24: 99 | H24: x_D (Design life/Rated life) | I24: =F3/(10^6) -> 0.6 | J24: =F3/(10^6) -> 0.6 | K24: =F4/(10^6) -> 0.19591837 | L24: =F4/(10^6) -> 0.19591837 | M24: =F5/(10^6) -> 0.13061224 | N24: =F5/(10^6) -> 0.13061224
B25: Life [khours] | C25: 1 | H25: Minimum C10 [kN] (radial only) | I25: =(0.004448*$C$26*C9*((I24/(0.02+(4.439*(LN(1/$F$7)^(1/1.483)))))^(1/I23))) -> 1.8768085 | J25: =C26*C10*((J24/(0.02+(4.439*(LN(1/F7)^(1/1.483)))))^(1/J23))*4.448/1000 -> 1.8768085 | K25: =C26*C11*((K24/(0.02+(4.439*(LN(1/F7)^(1/1.483)))))^(1/K23))*4.448/1000 -> 28.389403 | L25: =C26*C12*((L24/(0.02+(4.439*(LN(1/F7)^(1/1.483)))))^(1/L23))*4.448/1000 -> 5.7882436 | M25: =C26*C13*((M24/(0.02+(4.439*(LN(1/F7)^(1/1.483)))))^(1/M23))*4.448/1000 -> 9.9075467 | N25: =C26*C14*((N24/(0.02+(4.439*(LN(1/F7)^(1/1.483)))))^(1/N23))*4.448/1000 -> 9.9075467
B26: a_f (Application Factor) | C26: 1.2 | H26: Initial Bearing | I26: {=IF(I22="Ball",INDEX(Table2[[ ]],_xlfn.XMATCH(I25,(Table2[C '[kN']])*(Table2[d '[mm']]>Bearings!C18),1)),INDEX(Table3[Column4],_xlfn.XMATCH(I25,(Table3[C])*(Table3[d]>Bearings!C18),1)))} -> 61804 | J26: {=IF(J22="Ball",INDEX(Table2[[ ]],_xlfn.XMATCH(J25,(Table2[C '[kN']])*(Table2[d '[mm']]>Bearings!C19),1)),INDEX(Table3[Column4],_xlfn.XMATCH(J25,(Table3[C])*(Table3[d]>Bearings!C19),1)))} -> 61802 | K26: {=IF(K22="Ball",INDEX(Table2[[ ]],_xlfn.XMATCH(K25,(Table2[C '[kN']])*(Table2[d '[mm']]>Bearings!C20),1)),INDEX(Table3[Column4],_xlfn.XMATCH(K25,(Table3[C])*(Table3[d]>Bearings!C20),1)))} -> * 16014 | L26: {=IF(L22="Ball",INDEX(Table2[[ ]],_xlfn.XMATCH(L25,(Table2[C '[kN']])*(Table2[d '[mm']]>Bearings!C21),1)),INDEX(Table3[Column4],_xlfn.XMATCH(L25,(Table3[C])*(Table3[d]>Bearings!C21),1)))} -> 61809 | M26: {=IF(M22="Ball",INDEX(Table2[[ ]],_xlfn.XMATCH(M25,(Table2[C '[kN']])*(Table2[d '[mm']]>Bearings!C22),1)),INDEX(Table3[Column4],_xlfn.XMATCH(M25,(Table3[C])*(Table3[d]>Bearings!C22),1)))} -> 61907 | N26: {=IF(N22="Ball",INDEX(Table2[[ ]],_xlfn.XMATCH(N25,(Table2[C '[kN']])*(Table2[d '[mm']]>Bearings!C23),1)),INDEX(Table3[Column4],_xlfn.XMATCH(N25,(Table3[C])*(Table3[d]>Bearings!C23),1)))} -> 61907
B27: Per bearing Reliability | C27: TRUE | H27: Outer/Inner Race Rotation | I27: Inner | J27: Inner | K27: Inner | L27: Inner | M27: Inner | N27: Inner
B28: Identical pairs per shaft (If same type) | C28: FALSE | H28: V [Factor for inner/outer rotation] | I28: =VLOOKUP($I$27,$E$14:$F$15,2,FALSE) -> 1 | J28: =VLOOKUP($J$27,$E$14:$F$15,2,FALSE) -> 1 | K28: =VLOOKUP($K$27,$E$14:$F$15,2,FALSE) -> 1 | L28: =VLOOKUP($L$27,$E$14:$F$15,2,FALSE) -> 1 | M28: =VLOOKUP($M$27,$E$14:$F$15,2,FALSE) -> 1 | N28: =VLOOKUP($N$27,$E$14:$F$15,2,FALSE) -> 1
H29: C0 [kN] | I29: {=IF($I$22="Ball",_xlfn.XLOOKUP(I26,Table2[[ ]],Table2[C0 '[kN']]), _xlfn.XLOOKUP(I26,Table3[Column4],Table3[C0]))} -> 2.32 | J29: {=IF($J$22="Ball",_xlfn.XLOOKUP(J26,Table2[[ ]],Table2[C0 '[kN']]), _xlfn.XLOOKUP(J26,Table3[Column4],Table3[C0]))} -> 1.1 | K29: {=IF($K$22="Ball",_xlfn.XLOOKUP(K26,Table2[[ ]],Table2[C0 '[kN']]), _xlfn.XLOOKUP(K26,Table3[Column4],Table3[C0]))} -> 25 | L29: {=IF($L$22="Ball",_xlfn.XLOOKUP(L26,Table2[[ ]],Table2[C0 '[kN']]), _xlfn.XLOOKUP(L26,Table3[Column4],Table3[C0]))} -> 6.1 | M29: {=IF($M$22="Ball",_xlfn.XLOOKUP(M26,Table2[[ ]],Table2[C0 '[kN']]), _xlfn.XLOOKUP(M26,Table3[Column4],Table3[C0]))} -> 7.8 | N29: {=IF($N$22="Ball",_xlfn.XLOOKUP(N26,Table2[[ ]],Table2[C0 '[kN']]), _xlfn.XLOOKUP(N26,Table3[Column4],Table3[C0]))} -> 7.8 | O29: Iteration 1
H30: Fa/C0 | I30: =($C$3*0.004448)/I29 -> 0 | J30: =($C$4*0.004448)/J29 -> 0 | K30: =($C$5*0.004448)/K29 -> 0 | L30: =($C$6*0.004448)/L29 -> 0 | M30: =($C$7*0.004448)/M29 -> 0 | N30: =($C$8*0.004448)/N29 -> 0
H31: e [abscissa] | I31: =IF(I30<0.014, 0.19, (0.5065*I30^0.232)) -> 0.19 | J31: =IF(J30<0.014, 0.19, (0.5065*J30^0.232)) -> 0.19 | K31: =IF(K30<0.014, 0.19, (0.5065*K30^0.232)) -> 0.19 | L31: =IF(L30<0.014, 0.19, (0.5065*L30^0.232)) -> 0.19 | M31: =IF(M30<0.014, 0.19, (0.5065*M30^0.232)) -> 0.19 | N31: =IF(N30<0.014, 0.19, (0.5065*N30^0.232)) -> 0.19
H32: Fa/(VFr) | I32: =$C$3/($I$28*$C$9) -> 0 | J32: =$C$4/($J$28*$C$10) -> 0 | K32: =$C$5/($K$28*$C$11) -> 0 | L32: =$C$6/($L$28*$C$12) -> 0 | M32: =$C$7/($M$28*$C$13) -> 0 | N32: =$C$8/($N$28*$C$14) -> 0
H33: X | I33: =IF(I32>I31, 0.56, 1) -> 1 | J33: =IF(J32>J31, 0.56, 1) -> 1 | K33: =IF(K32>K31, 0.56, 1) -> 1 | L33: =IF(L32>L31, 0.56, 1) -> 1 | M33: =IF(M32>M31, 0.56, 1) -> 1 | N33: =IF(N32>N31, 0.56, 1) -> 1
H34: Y | I34: =IF(I32>I31,IF(I30>0.014,(0.8632*I30^-0.235),2.3), 0) -> 0 | J34: =IF(J32>J31,IF(J30>0.014,(0.8632*J30^-0.235),2.3), 0) -> 0 | K34: =IF(K32>K31,IF(K30>0.014,(0.8632*K30^-0.235),2.3), 0) -> 0 | L34: =IF(L32>L31,IF(L30>0.014,(0.8632*L30^-0.235),2.3), 0) -> 0 | M34: =IF(M32>M31,IF(M30>0.014,(0.8632*M30^-0.235),2.3), 0) -> 0 | N34: =IF(N32>N31,IF(N30>0.014,(0.8632*N30^-0.235),2.3), 0) -> 0
H35: Fe [kN] | I35: =(I33*$I$28*$C$9)+(I34*$C$3) -> 251.51319 | J35: =(J33*$J$28*$C$10)+(J34*$C$4) -> 251.51319 | K35: =(K33*$K$28*$C$11)+(K34*$C$5) -> 5524.8746 | L35: =(L33*$L$28*$C$12)+(L34*$C$6) -> 1126.4527 | M35: =(M33*$M$28*$C$13)+(M34*$C$7) -> 2207.1374 | N35: =(N33*$N$28*$C$14)+(N34*$C$8) -> 2207.1374
H36: Minimum C10 [kN] | I36: =($C$26*I35*(($I$24/(0.02+(4.439*(LN(1/$F$7)^(1/1.483)))))^(1/$I$23)))*4.448/1000 -> 1.8768085 | J36: =($C$26*J35*(($J$24/(0.02+(4.439*(LN(1/$F$7)^(1/1.483)))))^(1/$J$23)))*4.448/1000 -> 1.8768085 | K36: =($C$26*K35*(($K$24/(0.02+(4.439*(LN(1/$F$7)^(1/1.483)))))^(1/$K$23)))*4.448/1000 -> 28.389403 | L36: =($C$26*L35*(($L$24/(0.02+(4.439*(LN(1/$F$7)^(1/1.483)))))^(1/$L$23)))*4.448/1000 -> 5.7882436 | M36: =($C$26*M35*(($M$24/(0.02+(4.439*(LN(1/$F$7)^(1/1.483)))))^(1/$M$23)))*4.448/1000 -> 9.9075467 | N36: =($C$26*N35*(($N$24/(0.02+(4.439*(LN(1/$F$7)^(1/1.483)))))^(1/$N$23)))*4.448/1000 -> 9.9075467
H37: 1st Iteration Bearing | I37: {=IF($I$22="Ball",INDEX(Table2[[ ]],_xlfn.XMATCH(I36,(Table2[C '[kN']])*(Table2[d '[mm']]>$C$18),1)),INDEX(Table3[Column4],_xlfn.XMATCH(I36,(Table3[C])*(Table3[d]>$C$18),1)))} -> 61804 | J37: {=IF($J$22="Ball",INDEX(Table2[[ ]],_xlfn.XMATCH(J36,(Table2[C '[kN']])*(Table2[d '[mm']]>$C$19),1)),INDEX(Table3[Column4],_xlfn.XMATCH(J36,(Table3[C])*(Table3[d]>$C$19),1)))} -> 61802 | K37: {=IF($K$22="Ball",INDEX(Table2[[ ]],_xlfn.XMATCH(K36,(Table2[C '[kN']])*(Table2[d '[mm']]>$C$20),1)),INDEX(Table3[Column4],_xlfn.XMATCH(K36,(Table3[C])*(Table3[d]>$C$20),1)))} -> * 16014 | L37: {=IF($L$22="Ball",INDEX(Table2[[ ]],_xlfn.XMATCH(L36,(Table2[C '[kN']])*(Table2[d '[mm']]>$C$21),1)),INDEX(Table3[Column4],_xlfn.XMATCH(L36,(Table3[C])*(Table3[d]>$C$21),1)))} -> 61809 | M37: {=IF($M$22="Ball",INDEX(Table2[[ ]],_xlfn.XMATCH(M36,(Table2[C '[kN']])*(Table2[d '[mm']]>$C$22),1)),INDEX(Table3[Column4],_xlfn.XMATCH(M36,(Table3[C])*(Table3[d]>$C$22),1)))} -> 61907 | N37: {=IF($N$22="Ball",INDEX(Table2[[ ]],_xlfn.XMATCH(N36,(Table2[C '[kN']])*(Table2[d '[mm']]>$C$23),1)),INDEX(Table3[Column4],_xlfn.XMATCH(N36,(Table3[C])*(Table3[d]>$C$23),1)))} -> 61907
H38: C0 [kN] | I38: {=IF(I$22="Ball",_xlfn.XLOOKUP(I37,Table2[[ ]],Table2[C0 '[kN']]), _xlfn.XLOOKUP(I37,Table3[Column4],Table3[C0]))} -> 2.32 | J38: {=IF(J$22="Ball",_xlfn.XLOOKUP(J37,Table2[[ ]],Table2[C0 '[kN']]), _xlfn.XLOOKUP(J37,Table3[Column4],Table3[C0]))} -> 1.1 | K38: {=IF(K$22="Ball",_xlfn.XLOOKUP(K37,Table2[[ ]],Table2[C0 '[kN']]), _xlfn.XLOOKUP(K37,Table3[Column4],Table3[C0]))} -> 25 | L38: {=IF(L$22="Ball",_xlfn.XLOOKUP(L37,Table2[[ ]],Table2[C0 '[kN']]), _xlfn.XLOOKUP(L37,Table3[Column4],Table3[C0]))} -> 6.1 | M38: {=IF(M$22="Ball",_xlfn.XLOOKUP(M37,Table2[[ ]],Table2[C0 '[kN']]), _xlfn.XLOOKUP(M37,Table3[Column4],Table3[C0]))} -> 7.8 | N38: =IF(N$22="Ball",_xlfn.XLOOKUP(N37,Table2[[ ]],Table2[C0 '[kN']]), _xlfn.XLOOKUP(N37,Table3[Column4],Table3[C0])) -> 7.8 | O38: Iteration 2
H39: Fa/C0 | I39: =($C$3*0.004448)/I38 -> 0 | J39: =($C$4*0.004448)/J38 -> 0 | K39: =($C$5*0.004448)/K38 -> 0 | L39: =($C$6*0.004448)/L38 -> 0 | M39: =($C$7*0.004448)/M38 -> 0 | N39: =($C$8*0.004448)/N38 -> 0
H40: e [abscissa] | I40: =IF(I39<0.014, 0.19, (0.5065*I39^0.232)) -> 0.19 | J40: =IF(J39<0.014, 0.19, (0.5065*J39^0.232)) -> 0.19 | K40: =IF(K39<0.014, 0.19, (0.5065*K39^0.232)) -> 0.19 | L40: =IF(L39<0.014, 0.19, (0.5065*L39^0.232)) -> 0.19 | M40: =IF(M39<0.014, 0.19, (0.5065*M39^0.232)) -> 0.19 | N40: =IF(N39<0.014, 0.19, (0.5065*N39^0.232)) -> 0.19
H41: X | I41: =IF(I$32>I40, 0.56, 1) -> 1 | J41: =IF(J$32>J40, 0.56, 1) -> 1 | K41: =IF(K$32>K40, 0.56, 1) -> 1 | L41: =IF(L$32>L40, 0.56, 1) -> 1 | M41: =IF(M$32>M40, 0.56, 1) -> 1 | N41: =IF(N$32>N40, 0.56, 1) -> 1
...

Sheet Report_Template
G2: Design Summary Report | P2: Reported Fields
T4: units | U4: Gear 2 | V4: Gear 3 | W4: Gear 4 | X4: Gear 5
S5: Gear Definition | Z5: e2,3 | AA5: e3,4 | AB5: eoverall
S6: N | T6: - | U6: =Gears!U30 -> 64 | V6: =Gears!U31 -> 196 | W6: =Gears!U35 -> 60 | X6: =Gears!U36 -> 90 | Z6: =U6/V6 -> 0.32653061 | AA6: =W6/X6 -> 0.66666667 | AB6: =Z6*AA6 -> 0.21768707
S7: P | T7: 1/in | U7: =Gears!U27 -> 12 | W7: =Gears!U28 -> 16 | Z7: * e=Ninput/Noutput=ωoutput/ωinput
S8: d | T8: in | U8: =Gears!U40 -> 5.3333333 | V8: =Gears!U41 -> 16.333333 | W8: =Gears!U42 -> 3.75 | X8: =Gears!U43 -> 5.625
S9: F | T9: in | U9: =Gears!R50 -> 0.75 | W9: =Gears!T50 -> 1.75
S10: Qv | T10: - | U10: =Gears!P13 -> 7 | W10: =Gears!Q13 -> 7
S11: Gear Material, Bending and Contact Stress
S12: Wt | T12: lbf | U12: =Gears!D4 -> 472.69018 | V12: =Gears!E4 -> 472.69018 | W12: =Gears!F4 -> 2058.8283 | X12: =Gears!G4 -> 2058.8283 | Z12: Gear 2,3 Material
S13: σb | T13: psi | U13: =Gears!D5 -> 9927.8833 | V13: =Gears!E5 -> 29163.157 | W13: =Gears!F5 -> 13704.302 | X13: =Gears!G5 -> 20119.081 | Z13: Name: | AA13: Steel, Nitrided, 2.5% Chrome, G3
S14: SF | T14: psi | U14: =Gears!D6 -> 7.254008 | V14: =Gears!E6 -> 2.7059052 | W14: =Gears!F6 -> 5.7582458 | X14: =Gears!G6 -> 4.0543909 | Z14: St: | AA14: =Gears!J6 -> 60840 | AB14: psi
S15: σc | T15: psi | U15: =Gears!D7 -> 84637.193 | V15: =Gears!E7 -> 84637.193 | W15: =Gears!F7 -> 156828.35 | X15: =Gears!G7 -> 156828.35 | Z15: Sc: | AA15: =Gears!J7 -> 189000 | AB15: psi
S16: SH | T16: psi | U16: =Gears!D8 -> 2.3167148 | V16: =Gears!E8 -> 2.3527752 | W16: =Gears!F8 -> 1.2697468 | X16: =Gears!G8 -> 1.2768715 | Z16: Gear 4,5 Material
S17: J | T17: - | U17: =Gears!D9 -> 0.47 | V17: =Gears!E9 -> 0.49 | W17: =Gears!F9 -> 0.46 | X17: =Gears!G9 -> 0.47 | Z17: Name: | AA17: Steel, Nitrided, 2.5% Chrome, G3
S18: I | T18: - | U18: =Gears!D10 -> 0.12114074 | V18: =Gears!E10 -> 0.12114074 | W18: =Gears!F10 -> 0.096418141 | X18: =Gears!G10 -> 0.096418141 | Z18: St: | AA18: =Gears!J10 -> 60840 | AB18: psi
S19: Cp | T19: - | U19: =Gears!D11 -> 2300 | Z19: Sc: | AA19: =Gears!J11 -> 189000 | AB19: psi
G20: Shaft Defininition | L20: Shaft Orientation(s) | S20: Vline | T20: fpm | U20: =Gears!D12 -> 13.962634 | W20: =Gears!F12 -> 3.2057068
G21: Material | H21: {=INDEX(Shafts!AH3:AH45,Shafts!AF6)} -> 1095 Normalized | I21: =$H$21 -> 1095 Normalized | J21: =$H$21 -> 1095 Normalized | K21: =$H$21 -> 1095 Normalized | L21: Cin,layshaft | M21: =Gears!U46 -> 10.833333 | N21: in | S21: Kv | T21: - | U21: =Gears!D13 -> 1.0416655 | V21: =Gears!E13 -> 1.0416655 | W21: =Gears!F13 -> 1.0200425 | X21: =Gears!G13 -> 1.0200425
G22: Su | H22: =Shafts!B10 -> 147 | I22: kpsi | L22: Clayshaft,out | M22: =Gears!U47 -> 4.6875 | N22: in | S22: Ko | T22: - | U22: =Gears!D14 -> 1.25
G23: Sy | H23: =Shafts!B12 -> 72 | I23: kpsi | L23: Cin,out | M23: =Gears!U7 -> 8 | N23: in | S23: Ks | T23: - | U23: =Gears!D15 -> 1 | V23: =Gears!E15 -> 1 | W23: =Gears!F15 -> 1 | X23: =Gears!G15 -> 1
G24: Se | H24: =Shafts!B25 -> 46.471088 | I24: kpsi | L24: θin,out | M24: =Gears!U45 -> 42.11948 | N24: deg | S24: Km | T24: - | U24: =Gears!D16 -> 1.0661104 | V24: =Gears!E16 -> 1.0661104 | W24: =Gears!F16 -> 1.1206581 | X24: =Gears!G16 -> 1.1206581
G25: Gear Torque Transmission (K - endmill keyseat, S - spline, O - other, indicate in notes) | S25: YN | T25: - | U25: =Gears!D17 -> 1.1860347 | V25: =Gears!E17 -> 1.2996004 | W25: =Gears!F17 -> 1.2996004 | X25: =Gears!G17 -> 1.3433726
H26: Gear 2 | I26: Gear 3 | J26: Gear 4 | K26: Gear 5 | S26: ZN | T26: - | U26: =Gears!D18 -> 1.0394987 | V26: =Gears!E18 -> 1.0556788 | W26: =Gears!F18 -> 1.0556788 | X26: =Gears!G18 -> 1.0616023
G27: K,S,O | H27: K | I27: K | J27: K | K27: K | S27: KR | T27: - | U27: =Gears!D19 -> 1.0019636
G28: note: | S28: KT | T28: - | U28: =Gears!D20 -> 1
G29: Output Shaft | S29: KB | T29: - | U29: =Gears!D21 -> 1
H30: units | I30: L1 | J30: L2 | K30: L3 | L30: L4 | S30: CH | T30: - | U30: =Gears!D22 -> 1 | V30: =Gears!E22 -> 1 | W30: =Gears!F22 -> 1 | X30: =Gears!G22 -> 1
G31: Length | H31: in | I31: =Loads!C40 -> 0.453 | J31: 1 | K31: 1 | L31: 0.453 | S31: Bearings
G32: d | H32: in | I32: =Shafts!I46 -> 0.97873163 | J32: =Shafts!J46 -> 1.4118771 | K32: =Shafts!J46 -> 1.4118771 | L32: =Shafts!K46 -> 0.97873163 | U32: A | V32: B | W32: C | X32: D | Y32: E | Z32: F
S33: Wr | T33: kN | U33: =Bearings!I3 -> 1.1187307 | V33: =Bearings!J3 -> 1.1187307 | W33: =Bearings!K3 -> 24.574642 | X33: =Bearings!L3 -> 5.0104616 | Y33: =Bearings!M3 -> 9.8173474 | Z33: =Bearings!N3 -> 9.8173474
S34: Wa | T34: kN | U34: =Bearings!I4 -> 0 | V34: =Bearings!J4 -> 0 | W34: =Bearings!K4 -> 0 | X34: =Bearings!L4 -> 0 | Y34: =Bearings!M4 -> 0 | Z34: =Bearings!N4 -> 0
S35: i.d. | T35: mm | U35: =Bearings!I5 -> 20 | V35: =Bearings!J5 -> 15 | W35: =Bearings!K5 -> 70 | X35: =Bearings!L5 -> 45 | Y35: =Bearings!M5 -> 35 | Z35: =Bearings!N5 -> 35
S36: o.d. | T36: mm | U36: =Bearings!I6 -> 32 | V36: =Bearings!J6 -> 24 | W36: =Bearings!K6 -> 110 | X36: =Bearings!L6 -> 58 | Y36: =Bearings!M6 -> 55 | Z36: =Bearings!N6 -> 55
G37: n.d.min | H37: 1.5 | S37: width | T37: mm | U37: =Bearings!I7 -> 7 | V37: =Bearings!J7 -> 5 | W37: =Bearings!K7 -> 13 | X37: =Bearings!L7 -> 7 | Y37: =Bearings!M7 -> 10 | Z37: =Bearings!N7 -> 10
G38: Location | H38: At both bearing E and F and at the gear | S38: bearing | T38: e.g. 62003 | U38: =Bearings!I8 -> 61804 | V38: =Bearings!J8 -> 61802 | W38: =Bearings!K8 -> * 16014 | X38: =Bearings!L8 -> 61809 | Y38: =Bearings!M8 -> 61907 | Z38: =Bearings!N8 -> 61907
G39: Criteria | H39: Goodman
G40: note: | H40: Spacers are used in between bearing and gears
G41: Layshaft
H42: units | I42: L1 | J42: L2 | K42: L3 | L42: L4 | M42: L5
...

Sheet Shafts-SC-Tables

Sheet Shafts-Fatigue Tables

Sheet Ball_Roller_Brgs
A1: Ma | AT1: d
B2: Single row deep groove ball bearings | Y2: Single row cylindrical roller bearings
B3: (adapted from SKF-rolling-bearings-catalogue.pdf) | Y3: (adapted from SKF-rolling-bearings-catalogue.pdf)
B5: Sample Data Range Lookup | Y5: Sample Data Range Lookup
B6: Combo Box/Vlookup | C6: ID | D6: OD | E6: C | F6: C0 | G6: Designation | Y6: Combo Box/Vlookup | Z6: ID | AA6: OD | AB6: C | AC6: C0 | AD6: Designation
A7: 0 | C7: =VLOOKUP(A7,$A$15:$V$261,3) -> #N/A | D7: =VLOOKUP(A7,$A$15:$V$261,4) -> #N/A | E7: =VLOOKUP(A7,$A$15:$V$261,6) -> #N/A | F7: =VLOOKUP(A7,$A$15:$V$261,7) -> #N/A | G7: =VLOOKUP(A7,$A$15:$V$261,12) -> #N/A | X7: 8 | Z7: =VLOOKUP(X7,$X$15:$AX$153,3) -> #N/A | AA7: =VLOOKUP(X7,$X$15:$AX$153,4) -> #N/A | AB7: =VLOOKUP(X7,$X$15:$AX$153,6) -> #N/A | AC7: =VLOOKUP(X7,$X$15:$AX$153,7) -> #N/A | AD7: =VLOOKUP(X7,$X$15:$AX$153,12) -> #N/A
B9: Index Method (ID and OD known)* | C9: 5 | D9: 11 | E9: {=INDEX(F14:F260,MATCH($C$9&$D$9,$C$14:$C$260&$D$14:$D$260,0))} -> 0.468 | F9: {=INDEX(G14:G260,MATCH($C$9&$D$9,$C$14:$C$260&$D$14:$D$260,0))} -> 0.143 | G9: {=INDEX(L14:L260,MATCH($C$9&$D$9,$C$14:$C$260&$D$14:$D$260,0))} -> 618/5 | Y9: Index Method (ID and OD known)* | Z9: 17 | AA9: 40 | AB9: {=INDEX(#REF!,MATCH($Z$9&$AA$9,$Z$14:$Z$99&$AA$14:$AA$99,0))} -> #REF! | AC9: {=INDEX(#REF!,MATCH($Z$9&$AA$9,$Z$14:$Z$99&$AA$14:$AA$99,0))} -> #REF! | AD9: {=INDEX(#REF!,MATCH($Z$9&$AA$9,$Z$14:$Z$99&$AA$14:$AA$99,0))} -> #REF!
B10: * this is an array function - use ctrl-shift-enter after modifying equation | Y10: * this is an array function - use ctrl-shift-enter after modifying equation
BC11: Equivalent Load
C12: Principle Dimensions | F12: Basic Load Ratings | H12: Fatigue Load Limit | I12: Speed Ratings | K12: Mass | L12: Designation | M12: Dimensions | R12: Abutment and fillet dimensions | U12: Calculation Factors | Z12: Principle Dimensions | AC12: Basic Load Ratings | AE12: Fatigue Load Limit | AF12: Speed Ratings | AH12: Mass | AI12: Designation | AK12: Dimensions | AR12: Abutment and fillet dimensions | AX12: Calculation Factors | BE12: Fa/V*Fr<e | BG12: Fa/V*Fr>e
C13: d [mm] | D13: D [mm]2 | E13: B [mm] | F13: C [kN] | G13: C0 [kN] | H13: Pu [Kn] | I13: Reference Speed [rpm] | J13: Limit Speed [rpm] | K13: [kg] | M13: d | N13: d1 | O13: D12 | P13: D2 | Q13: r1.2min | R13: da.min | S13: Da.max | T13: ra.max | U13: kr | V13: f0 | Z13: d | AA13: D2 | AB13: B | AC13: C | AD13: C0 | AE13: Pu | AF13: Reference Speed | AG13: Limit Speed | AH13: Column3 | AI13: Column4 | AJ13: Column5 | AK13: d6 | AL13: d1 | AM13: D17 | AN13: F.E | AO13: r1.2min | AP13: r3.4min | AQ13: S1 | AR13: da.min | AS13: da.max | AT13: da.Da.min | AU13: Da.max8 | AV13: ra.max | AW13: rb.max | AX13: kr | BC13: Fa/C0 | BD13: e | BE13: X1 | BF13: Y1 | BG13: X2 | BH13: Y2
B14: =CONCATENATE("ID/OD(mm): ",C14,"/",D14,", C/C0(kN): ",F14,"/",G14) -> ID/OD(mm): 4/9, C/C0(kN): 0.423/0.116 | C14: 4 | D14: 9 | E14: 2.5 | F14: 0.423 | G14: 0.116 | H14: 0.005 | I14: 140000 | J14: 85000 | K14: 0.0007 | L14: 618/4 | M14: 3 | N14: 5.2 | O14: 7.5 | P14: 8.2 | Q14: 0.15 | R14: 4.2 | S14: 8.8 | T14: 0.1 | U14: 0.025 | V14: 7.5 | Y14: ID/OD(mm): 15/35, C/C0(kN): 12.5/10.2 | Z14: 15 | AA14: 35 | AB14: 11 | AC14: 12.5 | AD14: 10.2 | AE14: 1.22 | AF14: 22000 | AG14: 26000 | AH14: 0.047 | AI14: NU202ECPPHA | AK14: 15 | AL14: – | AM14: 27.9 | AN14: 19.3 | AO14: 0.6 | AP14: 0.3 | AQ14: 1 | AR14: 17.4 | AS14: 18.4 | AT14: 21 | AU14: 31.3 | AV14: 0.6 | AW14: 0.3 | AX14: 0.15 | BC14: 0.014 | BD14: 0.19 | BE14: 1 | BF14: 0 | BG14: 0.56 | BH14: 2.3
B15: =CONCATENATE("ID/OD(mm): ",C15,"/",D15,", C/C0(kN): ",F15,"/",G15) -> ID/OD(mm): 5/11, C/C0(kN): 0.468/0.143 | C15: 5 | D15: 11 | E15: 3 | F15: 0.468 | G15: 0.143 | H15: 0.006 | I15: 120000 | J15: 75000 | K15: 0.0012 | L15: 618/5 | N15: 8.4 | O15: 12 | P15: 13.3 | Q15: 0.3 | R15: 6.4 | S15: 13.6 | T15: 0.3 | U15: 0.03 | V15: 8.4 | Y15: ID/OD(mm): 17/40, C/C0(kN): 17.2/14.3 | Z15: 17 | AA15: 40 | AB15: 12 | AC15: 17.2 | AD15: 14.3 | AE15: 1.73 | AF15: 19000 | AG15: 22000 | AH15: 0.068 | AI15: NU203ECPPHA | AK15: 17 | AL15: – | AM15: 32.4 | AN15: 22.1 | AO15: 0.6 | AP15: 0.3 | AQ15: 1 | AR15: 19.9 | AS15: 21.1 | AT15: 24 | AU15: 36 | AV15: 0.6 | AW15: 0.3 | AX15: 0.15 | BC15: 0.021 | BD15: 0.21 | BE15: 1 | BF15: 0 | BG15: 0.56 | BH15: 2.15
B16: =CONCATENATE("ID/OD(mm): ",C16,"/",D16,", C/C0(kN): ",F16,"/",G16) -> ID/OD(mm): 3/10, C/C0(kN): 0.54/0.18 | C16: 3 | D16: 10 | E16: 4 | F16: 0.54 | G16: 0.18 | H16: 0.007 | I16: 130000 | J16: 80000 | K16: 0.0015 | L16: 623 | Y16: ID/OD(mm): 17/40, C/C0(kN): 23.8/21.6 | Z16: 17 | AA16: 40 | AB16: 16 | AC16: 23.8 | AD16: 21.6 | AE16: 2.65 | AF16: 19000 | AG16: 22000 | AH16: 0.087 | AI16: NU2203ECP– | AL16: – | AM16: 32.4 | AN16: 22.1 | AO16: 0.6 | AP16: 0.3 | AQ16: 1.5 | AR16: 19.9 | AS16: 21.1 | AT16: 24 | AU16: 36 | AV16: 0.6 | AW16: 0.3 | AX16: 0.2 | BC16: 0.028 | BD16: 0.22 | BE16: 1 | BF16: 0 | BG16: 0.56 | BH16: 1.99
B17: =CONCATENATE("ID/OD(mm): ",C17,"/",D17,", C/C0(kN): ",F17,"/",G17) -> ID/OD(mm): 4/11, C/C0(kN): 0.624/0.18 | C17: 4 | D17: 11 | E17: 4 | F17: 0.624 | G17: 0.18 | H17: 0.008 | I17: 130000 | J17: 80000 | K17: 0.0017 | L17: 619/4 | M17: 4 | N17: 5.2 | O17: 7.5 | P17: – | Q17: 0.1 | R17: 4.6 | S17: 8.4 | T17: 0.1 | U17: 0.015 | V17: 6.5 | Y17: ID/OD(mm): 17/47, C/C0(kN): 28.5/20.4 | Z17: 17 | AA17: 47 | AB17: 14 | AC17: 28.5 | AD17: 20.4 | AE17: 2.55 | AF17: 15000 | AG17: 20000 | AH17: 0.12 | AI17: *NU303ECP– | AL17: – | AM17: 37 | AN17: 24.2 | AO17: 1 | AP17: 0.6 | AQ17: 1 | AR17: 21.1 | AS17: 23.1 | AT17: 26 | AU17: 41.7 | AV17: 1 | AW17: 0.6 | AX17: 0.15 | BC17: 0.042 | BD17: 0.24 | BE17: 1 | BF17: 0 | BG17: 0.56 | BH17: 1.85
B18: =CONCATENATE("ID/OD(mm): ",C18,"/",D18,", C/C0(kN): ",F18,"/",G18) -> ID/OD(mm): 6/13, C/C0(kN): 0.715/0.224 | C18: 6 | D18: 13 | E18: 3.5 | F18: 0.715 | G18: 0.224 | H18: 0.01 | I18: 110000 | J18: 67000 | K18: 0.002 | L18: 618/6 | N18: 11.1 | O18: 15.2 | P18: 16.5 | Q18: 0.3 | R18: 7.4 | S18: 16.6 | T18: 0.3 | U18: 0.03 | V18: 13 | Y18: ID/OD(mm): 20/47, C/C0(kN): 28.5/22 | Z18: 20 | AA18: 47 | AB18: 14 | AC18: 28.5 | AD18: 22 | AE18: 2.75 | AF18: 16000 | AG18: 19000 | AH18: 0.11 | AI18: *NU204ECPML.PHA | AK18: 20 | AL18: – | AM18: 38.8 | AN18: 26.5 | AO18: 1 | AP18: 0.6 | AQ18: 1 | AR18: 24 | AS18: 25.4 | AT18: 28 | AU18: 41.7 | AV18: 1 | AW18: 0.6 | AX18: 0.15 | BC18: 0.056 | BD18: 0.26 | BE18: 1 | BF18: 0 | BG18: 0.56 | BH18: 1.71
B19: =CONCATENATE("ID/OD(mm): ",C19,"/",D19,", C/C0(kN): ",F19,"/",G19) -> ID/OD(mm): 7/14, C/C0(kN): 0.78/0.26 | C19: 7 | D19: 14 | E19: 3.5 | F19: 0.78 | G19: 0.26 | H19: 0.011 | I19: 100000 | J19: 63000 | K19: 0.0022 | L19: 618/7 | N19: 11.1 | O19: 15.2 | P19: 16.5 | Q19: 0.3 | R19: 8.4 | S19: 16.6 | T19: 0.3 | U19: 0.025 | V19: 13 | Y19: ID/OD(mm): 20/47, C/C0(kN): 34.5/27.5 | Z19: 20 | AA19: 47 | AB19: 18 | AC19: 34.5 | AD19: 27.5 | AE19: 3.45 | AF19: 16000 | AG19: 19000 | AH19: 0.14 | AI19: *NU2204ECP– | AL19: – | AM19: 38.8 | AN19: 26.5 | AO19: 1 | AP19: 0.6 | AQ19: 2 | AR19: 24 | AS19: 25.4 | AT19: 28 | AU19: 41.7 | AV19: 1 | AW19: 0.6 | AX19: 0.2 | BC19: 0.07 | BD19: 0.27 | BE19: 1 | BF19: 0 | BG19: 0.56 | BH19: 1.63
B20: =CONCATENATE("ID/OD(mm): ",C20,"/",D20,", C/C0(kN): ",F20,"/",G20) -> ID/OD(mm): 4/12, C/C0(kN): 0.806/0.28 | C20: 4 | D20: 12 | E20: 4 | F20: 0.806 | G20: 0.28 | H20: 0.012 | I20: 120000 | J20: 75000 | K20: 0.0021 | L20: 604 | N20: 6.1 | O20: 9 | P20: 9.9 | Q20: 0.15 | R20: 4.8 | S20: 10.2 | T20: 0.1 | U20: 0.02 | V20: 6.4 | Y20: ID/OD(mm): 20/52, C/C0(kN): 35.5/26 | Z20: 20 | AA20: 52 | AB20: 15 | AC20: 35.5 | AD20: 26 | AE20: 3.25 | AF20: 15000 | AG20: 18000 | AH20: 0.15 | AI20: *NU304ECP– | AL20: 31.2 | AM20: 42.4 | AN20: 27.5 | AO20: 1.1 | AP20: 0.6 | AQ20: 0.9 | AR20: 24.1 | AS20: 26.2 | AT20: 29 | AU20: 45.4 | AV20: 1 | AW20: 0.6 | AX20: 0.15 | BC20: 0.084 | BD20: 0.28 | BE20: 1 | BF20: 0 | BG20: 0.56 | BH20: 1.55
B21: =CONCATENATE("ID/OD(mm): ",C21,"/",D21,", C/C0(kN): ",F21,"/",G21) -> ID/OD(mm): 8/16, C/C0(kN): 0.819/0.3 | C21: 8 | D21: 16 | E21: 4 | F21: 0.819 | G21: 0.3 | H21: 0.012 | I21: 90000 | J21: 56000 | K21: 0.003 | L21: 618/8 | N21: 12.1 | O21: 17.6 | P21: 19.2 | Q21: 0.3 | R21: 9.4 | S21: 19.6 | T21: 0.3 | U21: 0.025 | V21: 12 | Y21: ID/OD(mm): 20/52, C/C0(kN): 47.5/38 | Z21: 20 | AA21: 52 | AB21: 21 | AC21: 47.5 | AD21: 38 | AE21: 4.8 | AF21: 15000 | AG21: 18000 | AH21: 0.21 | AI21: *NU2304ECP– | AL21: – | AM21: 42.4 | AN21: 27.5 | AO21: 1.1 | AP21: 0.6 | AQ21: 1.9 | AR21: 24.1 | AS21: 26.2 | AT21: 29 | AU21: 45.4 | AV21: 1 | AW21: 0.6 | AX21: 0.25 | BC21: 0.11 | BD21: 0.3 | BE21: 1 | BF21: 0 | BG21: 0.56 | BH21: 1.45
B22: =CONCATENATE("ID/OD(mm): ",C22,"/",D22,", C/C0(kN): ",F22,"/",G22) -> ID/OD(mm): 9/17, C/C0(kN): 0.871/0.34 | C22: 9 | D22: 17 | E22: 4 | F22: 0.871 | G22: 0.34 | H22: 0.014 | I22: 85000 | J22: 53000 | K22: 0.0034 | L22: 618/9 | N22: 14.4 | O22: 19.8 | P22: 21.2 | Q22: 0.3 | R22: 10.4 | S22: 21.6 | T22: 0.3 | U22: 0.025 | V22: 13 | Y22: ID/OD(mm): 25/47, C/C0(kN): 14.2/13.2 | Z22: 25 | AA22: 47 | AB22: 12 | AC22: 14.2 | AD22: 13.2 | AE22: 1.4 | AF22: 18000 | AG22: 18000 | AH22: 0.083 | AI22: NU1005– | AK22: 25 | AL22: – | AM22: 38.8 | AN22: 30.5 | AO22: 0.6 | AP22: 0.3 | AQ22: 2 | AR22: 27.1 | AS22: 29.5 | AT22: 32 | AU22: 43.1 | AV22: 0.6 | AW22: 0.3 | AX22: 0.1 | BC22: 0.17 | BD22: 0.34 | BE22: 1 | BF22: 0 | BG22: 0.56 | BH22: 1.31
B23: =CONCATENATE("ID/OD(mm): ",C23,"/",D23,", C/C0(kN): ",F23,"/",G23) -> ID/OD(mm): 5/13, C/C0(kN): 0.884/0.335 | C23: 5 | D23: 13 | E23: 4 | F23: 0.884 | G23: 0.335 | H23: 0.014 | I23: 110000 | J23: 70000 | K23: 0.0025 | L23: 619/5 | M23: 5 | N23: 6.8 | O23: 9.2 | P23: – | Q23: 0.15 | R23: 5.8 | S23: 10.2 | T23: 0.1 | U23: 0.015 | V23: 7.1 | Y23: ID/OD(mm): 25/52, C/C0(kN): 32.5/27 | Z23: 25 | AA23: 52 | AB23: 15 | AC23: 32.5 | AD23: 27 | AE23: 3.35 | AF23: 14000 | AG23: 16000 | AH23: 0.13 | AI23: *NU205ECPJ.ML.PHA | AL23: 34.7 | AM23: 43.8 | AN23: 31.5 | AO23: 1 | AP23: 0.6 | AQ23: 1.3 | AR23: 28.9 | AS23: 30.4 | AT23: 33 | AU23: 46.4 | AV23: 1 | AW23: 0.6 | AX23: 0.15 | BC23: 0.28 | BD23: 0.38 | BE23: 1 | BF23: 0 | BG23: 0.56 | BH23: 1.15
B24: =CONCATENATE("ID/OD(mm): ",C24,"/",D24,", C/C0(kN): ",F24,"/",G24) -> ID/OD(mm): 6/15, C/C0(kN): 0.884/0.27 | C24: 6 | D24: 15 | E24: 5 | F24: 0.884 | G24: 0.27 | H24: 0.011 | I24: 100000 | J24: 63000 | K24: 0.0039 | L24: 619/6 | M24: 6 | N24: 8 | O24: 11 | P24: – | Q24: 0.15 | R24: 6.8 | S24: 12.2 | T24: 0.1 | U24: 0.015 | V24: 7 | Y24: ID/OD(mm): 25/52, C/C0(kN): 39/34 | Z24: 25 | AA24: 52 | AB24: 18 | AC24: 39 | AD24: 34 | AE24: 4.25 | AF24: 14000 | AG24: 16000 | AH24: 0.16 | AI24: *NU2205ECPML | AL24: 34.7 | AM24: 43.8 | AN24: 31.5 | AO24: 1 | AP24: 0.6 | AQ24: 1.8 | AR24: 28.9 | AS24: 30.4 | AT24: 33 | AU24: 46.4 | AV24: 1 | AW24: 0.6 | AX24: 0.2 | BC24: 0.42 | BD24: 0.42 | BE24: 1 | BF24: 0 | BG24: 0.56 | BH24: 1.04
B25: =CONCATENATE("ID/OD(mm): ",C25,"/",D25,", C/C0(kN): ",F25,"/",G25) -> ID/OD(mm): 4/13, C/C0(kN): 0.936/0.29 | C25: 4 | D25: 13 | E25: 5 | F25: 0.936 | G25: 0.29 | H25: 0.012 | I25: 110000 | J25: 67000 | K25: 0.0031 | L25: 624 | N25: 6.1 | O25: 9.9 | P25: – | Q25: 0.2 | R25: 5.4 | S25: 10.6 | T25: 0.2 | U25: 0.025 | V25: 10 | Y25: ID/OD(mm): 25/62, C/C0(kN): 46.5/36.5 | Z25: 25 | AA25: 62 | AB25: 17 | AC25: 46.5 | AD25: 36.5 | AE25: 4.55 | AF25: 12000 | AG25: 15000 | AH25: 0.23 | AI25: *NU305ECPJ.ML | AL25: 38.1 | AM25: 50.7 | AN25: 34 | AO25: 1.1 | AP25: 1.1 | AQ25: 1.3 | AR25: 31 | AS25: 32.5 | AT25: 36 | AU25: 54.9 | AV25: 1 | AW25: 1 | AX25: 0.15 | BC25: 0.56 | BD25: 0.44 | BE25: 1 | BF25: 0 | BG25: 0.56 | BH25: 1
B26: =CONCATENATE("ID/OD(mm): ",C26,"/",D26,", C/C0(kN): ",F26,"/",G26) -> ID/OD(mm): 7/17, C/C0(kN): 1.06/0.375 | C26: 7 | D26: 17 | E26: 5 | F26: 1.06 | G26: 0.375 | H26: 0.016 | I26: 90000 | J26: 56000 | K26: 0.0049 | L26: 619/7 | M26: 7 | N26: 9 | O26: 12 | P26: – | Q26: 0.15 | R26: 7.8 | S26: 13.2 | T26: 0.1 | U26: 0.015 | V26: 7.2 | Y26: ID/OD(mm): 25/62, C/C0(kN): 64/55 | Z26: 25 | AA26: 62 | AB26: 24 | AC26: 64 | AD26: 55 | AE26: 6.95 | AF26: 12000 | AG26: 15000 | AH26: 0.34 | AI26: *NU2305ECPJ.ML | AL26: 38.1 | AM26: 50.7 | AN26: 34 | AO26: 1.1 | AP26: 1.1 | AQ26: 2.3 | AR26: 31 | AS26: 32.5 | AT26: 36 | AU26: 54.9 | AV26: 1 | AW26: 1 | AX26: 0.25
